BEGIN:VCALENDAR
VERSION:2.0
PRODID:-//Center Makor - ECPv6.15.20//NONSGML v1.0//EN
CALSCALE:GREGORIAN
METHOD:PUBLISH
X-WR-CALNAME:Center Makor
X-ORIGINAL-URL:https://www.centermakor.org
X-WR-CALDESC:Events for Center Makor
REFRESH-INTERVAL;VALUE=DURATION:PT1H
X-Robots-Tag:noindex
X-PUBLISHED-TTL:PT1H
BEGIN:VTIMEZONE
TZID:America/New_York
BEGIN:DAYLIGHT
TZOFFSETFROM:-0500
TZOFFSETTO:-0400
TZNAME:EDT
DTSTART:20240310T070000
END:DAYLIGHT
BEGIN:STANDARD
TZOFFSETFROM:-0400
TZOFFSETTO:-0500
TZNAME:EST
DTSTART:20241103T060000
END:STANDARD
BEGIN:DAYLIGHT
TZOFFSETFROM:-0500
TZOFFSETTO:-0400
TZNAME:EDT
DTSTART:20250309T070000
END:DAYLIGHT
BEGIN:STANDARD
TZOFFSETFROM:-0400
TZOFFSETTO:-0500
TZNAME:EST
DTSTART:20251102T060000
END:STANDARD
BEGIN:DAYLIGHT
TZOFFSETFROM:-0500
TZOFFSETTO:-0400
TZNAME:EDT
DTSTART:20260308T070000
END:DAYLIGHT
BEGIN:STANDARD
TZOFFSETFROM:-0400
TZOFFSETTO:-0500
TZNAME:EST
DTSTART:20261101T060000
END:STANDARD
END:VTIMEZONE
BEGIN:VEVENT
DTSTART;TZID=America/New_York:20251204T193000
DTEND;TZID=America/New_York:20251204T213000
DTSTAMP:20260420T080705
CREATED:20251028T191441Z
LAST-MODIFIED:20251108T052842Z
UID:25692-1764876600-1764883800@www.centermakor.org
SUMMARY:Павел Грушко. Постигая еврея в себе...
DESCRIPTION:У нас в гостях\nПавел Грушко\nПостигая еврея в себе…\n► (стихи\, тексты из пьес и фильмов с видео и переводы)◄ \nНа вечере можно будет купить книги и подписать их у автора \n\nПриобщенье к высокому плачу\, —\nто ли к жалобе\, то ли к мольбе\, —\nя до смерти теперь не утрачу\,\nпостигая еврея в себе… \nЧетверг\, 4 декабря\nНачало в 7:30 р.м.\nБилеты – $30. У дверей – $40. \nБИЛЕТЫ \nМы продаём билеты через платформу Zeffy. Эта платформа позволяет некоммерческим организациям (nonprofits) получать 100% от пожертвований и продаж билетов\, покрывая расходы на покрытие комиссий за обработку кредитных карт. При оформлении заказа они просят дополнительное пожертвование для покрытия своих расходов. Добавлять ли пожертвование в пользу Zeffy и в каком размере\, зависит только от вас. \nПавел Грушко – российский поэт\, драматург\, переводчик прозы и поэзии (преимущественно с испанского и английского языков)\, эссеист. Широкой известностью пользуются его стихотворная пьеса-либретто «Звезда и Смерть Хоакина Мурьеты» по мотивам кантаты Пабло Неруды. \n\nThis event takes place at our Community Hub located at 1320 Centre St.\, Newton\, 02459. \nParking is available between the buildings or on the ramp behind the open bar gate. Newton Centre T Station is 6 minutes away by foot. \nFind Center Makor on the display by the entrance door and call us.
URL:https://www.centermakor.org/event/grushko-december/
LOCATION:Community Hub\, 1320 Centre St\, Newton Centre\, MA\, 02459\, United States
CATEGORIES:Makor Events
ATTACH;FMTTYPE=image/jpeg:https://www.centermakor.org/wp-content/uploads/2025/10/грушко-fb-1.jpg
END:VEVENT
END:VCALENDAR