BEGIN:VCALENDAR
VERSION:2.0
PRODID:-//Center Makor - ECPv6.15.20//NONSGML v1.0//EN
CALSCALE:GREGORIAN
METHOD:PUBLISH
X-WR-CALNAME:Center Makor
X-ORIGINAL-URL:https://www.centermakor.org
X-WR-CALDESC:Events for Center Makor
REFRESH-INTERVAL;VALUE=DURATION:PT1H
X-Robots-Tag:noindex
X-PUBLISHED-TTL:PT1H
BEGIN:VTIMEZONE
TZID:America/New_York
BEGIN:DAYLIGHT
TZOFFSETFROM:-0500
TZOFFSETTO:-0400
TZNAME:EDT
DTSTART:20240310T070000
END:DAYLIGHT
BEGIN:STANDARD
TZOFFSETFROM:-0400
TZOFFSETTO:-0500
TZNAME:EST
DTSTART:20241103T060000
END:STANDARD
BEGIN:DAYLIGHT
TZOFFSETFROM:-0500
TZOFFSETTO:-0400
TZNAME:EDT
DTSTART:20250309T070000
END:DAYLIGHT
BEGIN:STANDARD
TZOFFSETFROM:-0400
TZOFFSETTO:-0500
TZNAME:EST
DTSTART:20251102T060000
END:STANDARD
BEGIN:DAYLIGHT
TZOFFSETFROM:-0500
TZOFFSETTO:-0400
TZNAME:EDT
DTSTART:20260308T070000
END:DAYLIGHT
BEGIN:STANDARD
TZOFFSETFROM:-0400
TZOFFSETTO:-0500
TZNAME:EST
DTSTART:20261101T060000
END:STANDARD
END:VTIMEZONE
BEGIN:VEVENT
DTSTART;TZID=America/New_York:20251209T180000
DTEND;TZID=America/New_York:20251209T200000
DTSTAMP:20260420T080701
CREATED:20251104T213943Z
LAST-MODIFIED:20251202T222724Z
UID:25761-1765303200-1765310400@www.centermakor.org
SUMMARY:Фундаментальная ЙОГА и энергоинформационное развитие
DESCRIPTION:Фундаментальная ЙОГА и энергоинформационное развитие\nсо Светланой Санберг\n\nЕсли Вы мечтаете внедрить в свою жизнь благостные полезные привычки\, но всё время находите оправдания и откладываете ЗАБОТУ о себе до лучших времён\, то я приглашаю Вас на занятия. Теорию и практики отделяет внутренний барьер – отсутствие чувства заботы о себе. Жизнью и здоровьем личности никто не может распоряжаться\, кроме её самой. Работа со своим организмом – внутренняя обязанность каждого существа на Земле. \nЙОГА – это не болтовня а только практика. Это наука о Жизни. \nИнформационное развитие человека раскрывает творческие способности. Это достигается за счёт упражнений аутотренинга по развитию фантомных чувств\, сверхсознания. Вы научитесь помогать своему организму в восстановлении жизненной силы и его защитных свойств. Откроете в себе новые свойства и креативные качества. \nВторник\, 18 декабря\n6:00 – 8:00 р.м.\nБилеты – $25. Пожалуйста\, купите зарегистрируйтесь заранее.\nВ дальнейшем занятия будут проводиться раз в неделю по вторникам. \nБИЛЕТЫ \nМы продаём билеты через платформу Zeffy. Эта платформа позволяет некоммерческим организациям (nonprofits) получать 100% от пожертвований и продаж билетов\, покрывая расходы на покрытие комиссий за обработку кредитных карт. При оформлении заказа они просят дополнительное пожертвование для покрытия своих расходов. Добавлять ли пожертвование в пользу Zeffy и в каком размере\, зависит только от вас. \nИнструктор – Светлана Санберг; инструктор по ХАТХА-ЙОГА и персональный фитнес тренер; консультант по энергоинформационному развитию; изучает Аюрведу и Ведическую культуру\, любит собирать свежие травы и составлять целебные сборы. Собрав все свои знания\, Светлана стала Интеллект-тренером Всемирной ассоциации SJ. Это новая профессия 21века. Интеллект-тренер во взрослой педагогике. \n\nThis event takes place at our Community Hub located at 1320 Centre St.\, Newton\, 02459. \nParking is available between the buildings or on the ramp behind the open bar gate. Newton Centre T Station is 6 minutes away by foot. \nFind Center Makor on the display by the entrance door and call us.
URL:https://www.centermakor.org/event/yoga/
LOCATION:Community Hub\, 1320 Centre St\, Newton Centre\, MA\, 02459\, United States
CATEGORIES:Makor Events
ATTACH;FMTTYPE=image/jpeg:https://www.centermakor.org/wp-content/uploads/2025/11/yoga_fb_event-1.jpg
END:VEVENT
END:VCALENDAR