BEGIN:VCALENDAR
VERSION:2.0
PRODID:-//Center Makor - ECPv6.15.20//NONSGML v1.0//EN
CALSCALE:GREGORIAN
METHOD:PUBLISH
X-ORIGINAL-URL:https://www.centermakor.org
X-WR-CALDESC:Events for Center Makor
REFRESH-INTERVAL;VALUE=DURATION:PT1H
X-Robots-Tag:noindex
X-PUBLISHED-TTL:PT1H
BEGIN:VTIMEZONE
TZID:America/New_York
BEGIN:DAYLIGHT
TZOFFSETFROM:-0500
TZOFFSETTO:-0400
TZNAME:EDT
DTSTART:20240310T070000
END:DAYLIGHT
BEGIN:STANDARD
TZOFFSETFROM:-0400
TZOFFSETTO:-0500
TZNAME:EST
DTSTART:20241103T060000
END:STANDARD
BEGIN:DAYLIGHT
TZOFFSETFROM:-0500
TZOFFSETTO:-0400
TZNAME:EDT
DTSTART:20250309T070000
END:DAYLIGHT
BEGIN:STANDARD
TZOFFSETFROM:-0400
TZOFFSETTO:-0500
TZNAME:EST
DTSTART:20251102T060000
END:STANDARD
BEGIN:DAYLIGHT
TZOFFSETFROM:-0500
TZOFFSETTO:-0400
TZNAME:EDT
DTSTART:20260308T070000
END:DAYLIGHT
BEGIN:STANDARD
TZOFFSETFROM:-0400
TZOFFSETTO:-0500
TZNAME:EST
DTSTART:20261101T060000
END:STANDARD
END:VTIMEZONE
BEGIN:VEVENT
DTSTART;TZID=America/New_York:20251221T150000
DTEND;TZID=America/New_York:20251221T160000
DTSTAMP:20260422T063806
CREATED:20251124T203757Z
LAST-MODIFIED:20251124T204623Z
UID:25882-1766329200-1766332800@www.centermakor.org
SUMMARY:Лекция Леонида Спивака «Загадки бостонских картин»
DESCRIPTION:У нас в гостях\nЛеонид Спивак\nс лекцией\nЗагадки бостонских картин\n\n\nИзвестные бостонские полотна не живут в музейной тишине\, но пребывают в невидимом диалоге – со своими современниками и их европейскими и американскими потомками. Картины задают вопросы; поиск ответов превращается в искусствоведческий детектив. \nВ программе встречи: презентация и продажа новых книг автора – сборника исторических новелл «Потерянные миллионы Фигаро» и только что вышедшего бостонского фотоальбома “Bricks and Shadows” \nВоскресенье\, 21 декабря\nНачало в 3:00 р.м.\nБилеты – $30. Пенсионерам – $20. \nБИЛЕТЫ \nМы продаём билеты через платформу Zeffy. Эта платформа позволяет некоммерческим организациям (nonprofits) получать 100% от пожертвований и продаж билетов\, покрывая расходы на покрытие комиссий за обработку кредитных карт. При оформлении заказа они просят дополнительное пожертвование для покрытия своих расходов. Добавлять ли пожертвование в пользу Zeffy и в каком размере\, зависит только от вас. \nБилеты также можно будет купить у дверей. \n\nThis event takes place at our Community Hub located at 1320 Centre St.\, Newton\, 02459. \nParking is available between the buildings or on the ramp behind the open bar gate. Newton Centre T Station is 6 minutes away by foot. \nFind Center Makor on the display by the entrance door and call us.
URL:https://www.centermakor.org/event/leon-spivak/
LOCATION:Community Hub\, 1320 Centre St\, Newton Centre\, MA\, 02459\, United States
CATEGORIES:Makor Events
ATTACH;FMTTYPE=image/jpeg:https://www.centermakor.org/wp-content/uploads/2025/11/16473617_1263340030417643_3769344913870046830_n.jpg
END:VEVENT
END:VCALENDAR