BEGIN:VCALENDAR
VERSION:2.0
PRODID:-//Center Makor - ECPv6.15.20//NONSGML v1.0//EN
CALSCALE:GREGORIAN
METHOD:PUBLISH
X-ORIGINAL-URL:https://www.centermakor.org
X-WR-CALDESC:Events for Center Makor
REFRESH-INTERVAL;VALUE=DURATION:PT1H
X-Robots-Tag:noindex
X-PUBLISHED-TTL:PT1H
BEGIN:VTIMEZONE
TZID:America/New_York
BEGIN:DAYLIGHT
TZOFFSETFROM:-0500
TZOFFSETTO:-0400
TZNAME:EDT
DTSTART:20220313T070000
END:DAYLIGHT
BEGIN:STANDARD
TZOFFSETFROM:-0400
TZOFFSETTO:-0500
TZNAME:EST
DTSTART:20221106T060000
END:STANDARD
BEGIN:DAYLIGHT
TZOFFSETFROM:-0500
TZOFFSETTO:-0400
TZNAME:EDT
DTSTART:20230312T070000
END:DAYLIGHT
BEGIN:STANDARD
TZOFFSETFROM:-0400
TZOFFSETTO:-0500
TZNAME:EST
DTSTART:20231105T060000
END:STANDARD
BEGIN:DAYLIGHT
TZOFFSETFROM:-0500
TZOFFSETTO:-0400
TZNAME:EDT
DTSTART:20240310T070000
END:DAYLIGHT
BEGIN:STANDARD
TZOFFSETFROM:-0400
TZOFFSETTO:-0500
TZNAME:EST
DTSTART:20241103T060000
END:STANDARD
END:VTIMEZONE
BEGIN:VEVENT
DTSTART;VALUE=DATE:20230206
DTEND;VALUE=DATE:20230207
DTSTAMP:20260425T193312
CREATED:20221229T205206Z
LAST-MODIFIED:20230306T224047Z
UID:14053-1675641600-1675727999@www.centermakor.org
SUMMARY:Changemakers 2023
DESCRIPTION:Changemakers 2023\nChangemakers RSJ: This is a group open to anyone who identifies as a Russian Speaking Jew or has Russian Speaking Jewish heritage. There is no requirement to speak Russian in order to be part of the cohort. \nWhat is it?\nChangemakers is a nine-week remote fellowship focusing on Jewish leadership. The goal is to focus on: personal and professional development\, learn about global Jewish communities\, and to teach fellows about service and advocacy. It was born out of the pandemic\, giving many Jewish students a space to talk about Jewish values and leadership when there were few other social opportunities. We hope to end the program by asking our fellows what role they can have in the Jewish community in the future. \nWho is it for?\nWe are looking for young undergraduate and graduate students/young alumni from the ages of 20-25.\nWhat are the time commitments?\nFellows should ideally commit 3-4 hours of remote learning a week for the nine weeks. They will receive a $350 stipend for successfully completing the program. \nThe 2023 session begins: February 6th and will end April 3rd!\nMore Info and Application Here: jewishchangemakers.org \nMore Info and Application
URL:https://www.centermakor.org/event/changemakers-2023/
CATEGORIES:Community Events
ATTACH;FMTTYPE=image/jpeg:https://www.centermakor.org/wp-content/uploads/2022/12/CM-RSJ-resized.jpg
END:VEVENT
BEGIN:VEVENT
DTSTART;TZID=America/New_York:20230212T170000
DTEND;TZID=America/New_York:20230212T190000
DTSTAMP:20260425T193312
CREATED:20221222T215738Z
LAST-MODIFIED:20221222T215738Z
UID:14006-1676221200-1676228400@www.centermakor.org
SUMMARY:Буратино
DESCRIPTION:Театр на крыше\nприглашает вас на спектакль \nБуратино\nдля детей с 4 лет \nИстория настолько известна\, что и рассказывать не надо. В поисках золотого ключика Буратино встречает добрых и не очень героев\, заглядывает в страну Дураков и находит настоящий театр прямо в кaморке Папы Карло. Ваши дети познакомятся с героями «Буратино»: Мальвиной\, Пьеро\, Арлекино\, Карабасом Барабасом\, Черепахой Тортилой и многими другими\, услышат авторские песни под живое музыкальное сопровождение\, а\, главное\, получат море удовольствия! \nО спектакле \nЗаказать билеты! \n\nЦена билета $30\nВ цену билета включен буфет. \nВнимание! Оплата производится наличными при входе!
URL:https://www.centermakor.org/event/buratino-11/
LOCATION:Театр на крыше\, 50 Kearney Road\, Needham\, 02494\, United States
CATEGORIES:Community Events,Kids Events
ATTACH;FMTTYPE=image/png:https://www.centermakor.org/wp-content/uploads/2018/10/BuratinoAfisha.png
END:VEVENT
BEGIN:VEVENT
DTSTART;TZID=America/New_York:20230216T183000
DTEND;TZID=America/New_York:20230216T203000
DTSTAMP:20260425T193312
CREATED:20230206T215220Z
LAST-MODIFIED:20230206T215404Z
UID:14838-1676572200-1676579400@www.centermakor.org
SUMMARY:Детский мюзикл «Карлсон»
DESCRIPTION:Детский мюзикл\n«Карлсон»\nНью-Йоркский театр «Агенты мира» представляет новый детский мюзикл Андрея Иванова «КАРЛСОН» \n16 февраля\, 6:30 p.m.\nRegent Theatre \nМалыш и его воображаемый друг Карлсон любят играть\, веселиться и безобразничать. Окно для фантазии и мечты открыто. Эта всеми любимая история\, которая будет очень интересна и детям\, и взрослым. Великолепная оригинальная музыка\, яркие тексты\, насыщенные искромётным юмором\, прекрасный ансамбль талантливых артистов и специалистов в области сценографии и дизайна\, блестящие аранжировки\, уникальные куклы. \n\nБилеты \n\nВ ролях:\nВосходящая звезда Гоша Кириленко – Малыш\nКарлсон – кукла в руках Александра Рудого\nНеповторимая Элла Заславски – Фрекен Бок\nПевица и актриса Анна Бредихина – Мама\, Кошка\nАвтор Андрей Иванов – Папа\, Собака\nАнтон Крылов – Телеведущий\nЖулики – пожелали остаться неизвестными\nМузыкальные аранжировки – Ян Фрейтор\nМузыка и тексты – Андрей Иванов\nГрафический дизайн – Дмитрий Трёхсвятский\nСценический дизайн – Давид Отти\nРежиссура и хореография –Андрей Иванов\, Александр Рудой\nПродюсер – Антон Крылов\nДизайн и изготовление кукол – Александр Тамарлаков\nЗвукорежиссер – Сергей Цыганок \n\nБилеты
URL:https://www.centermakor.org/event/karlson/
LOCATION:Regent Theatre\, 7 Medford Street\, Arlington\, MA\, 02474\, United States
CATEGORIES:Community Events,Kids Events
END:VEVENT
BEGIN:VEVENT
DTSTART;TZID=America/New_York:20230218T193000
DTEND;TZID=America/New_York:20230218T213000
DTSTAMP:20260425T193312
CREATED:20230120T205803Z
LAST-MODIFIED:20230120T205842Z
UID:14480-1676748600-1676755800@www.centermakor.org
SUMMARY:Голубцы по объявлению
DESCRIPTION:Театр на крыше\nприглашает вас на спектакль \nГолубцы по объявлению\nАнтон Финк \nЛирическая комедия для субботнего вечера – легкая\, забавная\, с узнаваемыми ситуациями семейного быта. Но и с неожиданными экстравагантными поворотами! \nО спектакле \nЗаказать билеты!
URL:https://www.centermakor.org/event/golubcy-5/
LOCATION:Театр на крыше\, 50 Kearney Road\, Needham\, 02494\, United States
CATEGORIES:Community Events
ATTACH;FMTTYPE=image/jpeg:https://www.centermakor.org/wp-content/uploads/2020/02/голубцы-по-объявлению.jpg
END:VEVENT
BEGIN:VEVENT
DTSTART;TZID=America/New_York:20230219T180000
DTEND;TZID=America/New_York:20230219T200000
DTSTAMP:20260425T193312
CREATED:20230120T205807Z
LAST-MODIFIED:20230120T205807Z
UID:14479-1676829600-1676836800@www.centermakor.org
SUMMARY:Голубцы по объявлению
DESCRIPTION:Театр на крыше\nприглашает вас на спектакль \nГолубцы по объявлению\nАнтон Финк \nЛирическая комедия для субботнего вечера – легкая\, забавная\, с узнаваемыми ситуациями семейного быта. Но и с неожиданными экстравагантными поворотами! \nО спектакле \nЗаказать билеты!
URL:https://www.centermakor.org/event/golubcy-6/
LOCATION:Театр на крыше\, 50 Kearney Road\, Needham\, 02494\, United States
CATEGORIES:Community Events
ATTACH;FMTTYPE=image/jpeg:https://www.centermakor.org/wp-content/uploads/2020/02/голубцы-по-объявлению.jpg
END:VEVENT
BEGIN:VEVENT
DTSTART;TZID=America/New_York:20230223T190000
DTEND;TZID=America/New_York:20230223T203000
DTSTAMP:20260425T193312
CREATED:20230221T231602Z
LAST-MODIFIED:20230221T231731Z
UID:15164-1677178800-1677184200@www.centermakor.org
SUMMARY:The City Talks: Who Holds Up the Sky?
DESCRIPTION:Who Holds Up the Sky?\nThe City Talks\nThursday\, February 23\, 2023\n7:00 pm–8:30 pm\nEdward H. Linde Gallery (Gallery 168)\nIncluded with General Admission \n“Who Holds Up the Sky?” features work by Ukrainian artists who have been documenting the ongoing Russian invasion of Ukraine—providing testimony of Russia’s crimes and a glimpse into many citizens’ lives. \nInspired by the exhibition\, this City Talk explores the importance of art as a record of the war and the ongoing efforts to protect Ukrainian art caught in the crossfire. Hear from those working on the ground in Ukraine and Boston as they share their experiences advocating for the safeguarding and preservation of Ukraine’s people\, cultural heritage\, and historical context. \nParticipants\nDr. Oleh Kotsyuba\, scholar of literature and culture; manager of publications\, Harvard University’s Ukrainian Research Institute; and director\, Ukraïnica: The Primary Database of Ukrainian Studies\nOleksandra Kovalchuk\, acting director\, Odesa Fine Arts Museum\, Ukraine\nKatya Malakhova\, Ukrainian native; founder\, Sunflower Peace Foundation; professional tennis player; and award-winning real estate agent\nModerated by Monica Irina Garcia\, senior manager of Equity Programs and Audience Development\, MFA Boston \nView the instructions to get the comped tickets \nVisit Website
URL:https://www.centermakor.org/event/who-holds-up-the-sky/
LOCATION:Museum of Fine Arts\, Avenue of the Arts 465 Huntington Avenue\, Boston\, 02115\, United States
CATEGORIES:Community Events
ATTACH;FMTTYPE=image/jpeg:https://www.centermakor.org/wp-content/uploads/2023/02/The-City-Talks-Who-Holds-Up-the-Sky.jpg
END:VEVENT
BEGIN:VEVENT
DTSTART;TZID=America/New_York:20230226T170000
DTEND;TZID=America/New_York:20230226T190000
DTSTAMP:20260425T193312
CREATED:20221220T220859Z
LAST-MODIFIED:20221220T221105Z
UID:13939-1677430800-1677438000@www.centermakor.org
SUMMARY:Дюймовочка
DESCRIPTION:Театр на крыше\nприглашает вас на спектакль \nДюймовочка\nдля детей с 3 до 10 лет \nМузыкальный спектакль по мотивам одноимённой сказки Г.-Х. Андерсена о приключениях маленькой девочки Дюймовочки. \nО спектакле \n\nЦена билета $30\nВнимание! Оплата производится наличными при входе! \nВ нашем маленьком зале билеты без мест. Если вашим детям обязательно сидеть вместе с вами или со своими друзьями\, пожалуйста\, придите заранее\, чтобы занять места. \nЗаказать билеты можно на веб-сайте Театра на крыше или напрямую на Eventbrite. \nЗаказать билеты! \nAttention! This performance contains a sequence of flashing lights which may affect customers who are susceptible to photosensitive epilepsy or other photo sensitivity. \nВнимание! Этот спектакль содержит яркие вспышки света\, которые могут представлять опасность для людей\, страдающих эпилепсией\, припадочными расстройствами или повышенной светочувствительностью. \nВ нашем камерном театре мало мест. В связи с карантинными мерами их стало ещё меньше. Билеты закончатся очень быстро. Если вы хотите посмотреть – не откладывайте заказ билетов. А если вы почему-либо не можете прийти на спектакль – не забудьте отменить ваш заказ. \nОсталось всего 3 спектакля\, включая этот. Не пропустите!
URL:https://www.centermakor.org/event/thumbelina-20/
LOCATION:Театр на крыше\, 50 Kearney Road\, Needham\, 02494\, United States
CATEGORIES:Community Events,Kids Events
ATTACH;FMTTYPE=image/jpeg:https://www.centermakor.org/wp-content/uploads/2020/02/Дюймовочка-афиша.jpg
END:VEVENT
BEGIN:VEVENT
DTSTART;TZID=America/New_York:20230228T194000
DTEND;TZID=America/New_York:20230228T220000
DTSTAMP:20260425T193312
CREATED:20230112T223635Z
LAST-MODIFIED:20230116T024212Z
UID:14270-1677613200-1677621600@www.centermakor.org
SUMMARY:Ян Левинзон. Не Кошерный Концерт
DESCRIPTION:Ян Левинзон\nв программе \nНе Кошерный Концерт\nИзраильский телеведущий\, актер\, юморист и шоумен Ян Левинзон в юмористическо-развлекательной программе «НЕ КОШЕРНЫЙ КОНЦЕРТ». \nБилеты в книжном магазине Петрополь по телефону 617-232-8820 или на сайте www.petropol.com\, или послав платеж на Paypal: petropolbooks@gmail.com или на Venmo: @Ilya-Klebanov с комментарием “Ян Левинзон + количество билетов”. ЦЕНА: $60 или $65 в день концерта. \nИзраильский телеведущий\, актер\, юморист и шоумен Ян Левинзон в юмористическо-развлекательной программе «НЕ КОШЕРНЫЙ КОНЦЕРТ». \nВечер уморительно смешных монологов. Только – новое и только – лучшее! \nПриглашаем вас на его творческий вечер\, который станет вечером праздника и прекрасного настроения! \nВторник\, 28 февраля\, 7:40 PM\n1000 Commonwealth Avenue\,Newton\,02459\,US
URL:https://www.centermakor.org/event/yan-levinson/
LOCATION:1000 Commonwealth Avenue
CATEGORIES:Community Events
ATTACH;FMTTYPE=image/jpeg:https://www.centermakor.org/wp-content/uploads/2023/01/levinson.jpg
END:VEVENT
END:VCALENDAR