BEGIN:VCALENDAR
VERSION:2.0
PRODID:-//Center Makor - ECPv6.15.20//NONSGML v1.0//EN
CALSCALE:GREGORIAN
METHOD:PUBLISH
X-WR-CALNAME:Center Makor
X-ORIGINAL-URL:https://www.centermakor.org
X-WR-CALDESC:Events for Center Makor
REFRESH-INTERVAL;VALUE=DURATION:PT1H
X-Robots-Tag:noindex
X-PUBLISHED-TTL:PT1H
BEGIN:VTIMEZONE
TZID:America/New_York
BEGIN:DAYLIGHT
TZOFFSETFROM:-0500
TZOFFSETTO:-0400
TZNAME:EDT
DTSTART:20220313T070000
END:DAYLIGHT
BEGIN:STANDARD
TZOFFSETFROM:-0400
TZOFFSETTO:-0500
TZNAME:EST
DTSTART:20221106T060000
END:STANDARD
BEGIN:DAYLIGHT
TZOFFSETFROM:-0500
TZOFFSETTO:-0400
TZNAME:EDT
DTSTART:20230312T070000
END:DAYLIGHT
BEGIN:STANDARD
TZOFFSETFROM:-0400
TZOFFSETTO:-0500
TZNAME:EST
DTSTART:20231105T060000
END:STANDARD
BEGIN:DAYLIGHT
TZOFFSETFROM:-0500
TZOFFSETTO:-0400
TZNAME:EDT
DTSTART:20240310T070000
END:DAYLIGHT
BEGIN:STANDARD
TZOFFSETFROM:-0400
TZOFFSETTO:-0500
TZNAME:EST
DTSTART:20241103T060000
END:STANDARD
END:VTIMEZONE
BEGIN:VEVENT
DTSTART;VALUE=DATE:20230206
DTEND;VALUE=DATE:20230207
DTSTAMP:20260425T210315
CREATED:20221229T205206Z
LAST-MODIFIED:20230306T224047Z
UID:14053-1675641600-1675727999@www.centermakor.org
SUMMARY:Changemakers 2023
DESCRIPTION:Changemakers 2023\nChangemakers RSJ: This is a group open to anyone who identifies as a Russian Speaking Jew or has Russian Speaking Jewish heritage. There is no requirement to speak Russian in order to be part of the cohort. \nWhat is it?\nChangemakers is a nine-week remote fellowship focusing on Jewish leadership. The goal is to focus on: personal and professional development\, learn about global Jewish communities\, and to teach fellows about service and advocacy. It was born out of the pandemic\, giving many Jewish students a space to talk about Jewish values and leadership when there were few other social opportunities. We hope to end the program by asking our fellows what role they can have in the Jewish community in the future. \nWho is it for?\nWe are looking for young undergraduate and graduate students/young alumni from the ages of 20-25.\nWhat are the time commitments?\nFellows should ideally commit 3-4 hours of remote learning a week for the nine weeks. They will receive a $350 stipend for successfully completing the program. \nThe 2023 session begins: February 6th and will end April 3rd!\nMore Info and Application Here: jewishchangemakers.org \nMore Info and Application
URL:https://www.centermakor.org/event/changemakers-2023/
CATEGORIES:Community Events
ATTACH;FMTTYPE=image/jpeg:https://www.centermakor.org/wp-content/uploads/2022/12/CM-RSJ-resized.jpg
END:VEVENT
END:VCALENDAR