BEGIN:VCALENDAR
VERSION:2.0
PRODID:-//Center Makor - ECPv6.15.20//NONSGML v1.0//EN
CALSCALE:GREGORIAN
METHOD:PUBLISH
X-ORIGINAL-URL:https://www.centermakor.org
X-WR-CALDESC:Events for Center Makor
REFRESH-INTERVAL;VALUE=DURATION:PT1H
X-Robots-Tag:noindex
X-PUBLISHED-TTL:PT1H
BEGIN:VTIMEZONE
TZID:America/New_York
BEGIN:DAYLIGHT
TZOFFSETFROM:-0500
TZOFFSETTO:-0400
TZNAME:EDT
DTSTART:20220313T070000
END:DAYLIGHT
BEGIN:STANDARD
TZOFFSETFROM:-0400
TZOFFSETTO:-0500
TZNAME:EST
DTSTART:20221106T060000
END:STANDARD
BEGIN:DAYLIGHT
TZOFFSETFROM:-0500
TZOFFSETTO:-0400
TZNAME:EDT
DTSTART:20230312T070000
END:DAYLIGHT
BEGIN:STANDARD
TZOFFSETFROM:-0400
TZOFFSETTO:-0500
TZNAME:EST
DTSTART:20231105T060000
END:STANDARD
BEGIN:DAYLIGHT
TZOFFSETFROM:-0500
TZOFFSETTO:-0400
TZNAME:EDT
DTSTART:20240310T070000
END:DAYLIGHT
BEGIN:STANDARD
TZOFFSETFROM:-0400
TZOFFSETTO:-0500
TZNAME:EST
DTSTART:20241103T060000
END:STANDARD
END:VTIMEZONE
BEGIN:VEVENT
DTSTART;TZID=America/New_York:20231203T150000
DTEND;TZID=America/New_York:20231203T163000
DTSTAMP:20260424T112121
CREATED:20231119T185437Z
LAST-MODIFIED:20231119T185437Z
UID:18470-1701615600-1701621000@www.centermakor.org
SUMMARY:King Richard's Borscht
DESCRIPTION:Tatiana Gessen’s Lumina Theater Company presents \nKing Richard’s Borscht\nA new take on the old Shakespeare tale \nDecember 3\, 3 p.m. | 6 p.m.\nCenter Makor\, 384 Harvard St.\, Brookline\, MA 02135\n1 hour 15 minutes\nIn English\, PG 8\nAdults $35\, Kids (8-18) $15. \nSynopsis:\nIn a small shed\, temporarily safe from the chaos around\, a family of refugees is gathered around a large brewing pot. While the parents prepare Ukrainian borscht\, the child is trying to read a book\, which happens to be “Richard the Third” by William Shakespeare. \nSoon the mother and the father are carving out characters from the vegetables in their hands\, the cutting boards turn into castles and the potatoes and beets into kings and queens\, – as they follow the story of famous Shakespearean villain – through his bloody rise and destined fall – retelling the fate of his unlucky opponents that\, one by one\, find themselves brewing in the borscht.\nThrough the world the parents paint\, the family temporarily forgets about their own hardships\, but their merriment can only last so long as the parallels between Shakespeare’s imagination and their real-life circumstances become a little too apparent… \nBuy Tickets \nAll donations and part of proceeds go to Inna Tsukrov Charitable Foundation for Ukraine. \nAny questions? Call Boris at 617.256.9652\, Inna Tsukrov Charitable Foundation
URL:https://www.centermakor.org/event/king-richards-borscht-7/
LOCATION:Center Makor: The Campus\, 384 Harvard St.\, Brookline\, MA\, 02446\, United States
CATEGORIES:Makor Events
ATTACH;FMTTYPE=image/jpeg:https://www.centermakor.org/wp-content/uploads/2023/11/King-Richards-Borscht.jpg
END:VEVENT
BEGIN:VEVENT
DTSTART;TZID=America/New_York:20231203T180000
DTEND;TZID=America/New_York:20231203T193000
DTSTAMP:20260424T112121
CREATED:20231119T185405Z
LAST-MODIFIED:20231119T185405Z
UID:18467-1701626400-1701631800@www.centermakor.org
SUMMARY:King Richard's Borscht
DESCRIPTION:Tatiana Gessen’s Lumina Theater Company presents \nKing Richard’s Borscht\nA new take on the old Shakespeare tale \nDecember 3\, 3 p.m. | 6 p.m.\nCenter Makor\, 384 Harvard St.\, Brookline\, MA 02135\n1 hour 15 minutes\nIn English\, PG 8\nAdults $35\, Kids (8-18) $15. \nSynopsis:\nIn a small shed\, temporarily safe from the chaos around\, a family of refugees is gathered around a large brewing pot. While the parents prepare Ukrainian borscht\, the child is trying to read a book\, which happens to be “Richard the Third” by William Shakespeare. \nSoon the mother and the father are carving out characters from the vegetables in their hands\, the cutting boards turn into castles and the potatoes and beets into kings and queens\, – as they follow the story of famous Shakespearean villain – through his bloody rise and destined fall – retelling the fate of his unlucky opponents that\, one by one\, find themselves brewing in the borscht.\nThrough the world the parents paint\, the family temporarily forgets about their own hardships\, but their merriment can only last so long as the parallels between Shakespeare’s imagination and their real-life circumstances become a little too apparent… \nBuy Tickets \nAll donations and part of proceeds go to Inna Tsukrov Charitable Foundation for Ukraine. \nAny questions? Call Boris at 617.256.9652\, Inna Tsukrov Charitable Foundation
URL:https://www.centermakor.org/event/king-richards-borscht-8/
LOCATION:Center Makor: The Campus\, 384 Harvard St.\, Brookline\, MA\, 02446\, United States
CATEGORIES:Makor Events
ATTACH;FMTTYPE=image/jpeg:https://www.centermakor.org/wp-content/uploads/2023/11/King-Richards-Borscht.jpg
END:VEVENT
BEGIN:VEVENT
DTSTART;TZID=America/New_York:20231210T150000
DTEND;TZID=America/New_York:20231210T170000
DTSTAMP:20260424T112121
CREATED:20231101T021542Z
LAST-MODIFIED:20231113T213316Z
UID:18297-1702220400-1702227600@www.centermakor.org
SUMMARY:The Miracle of Lights
DESCRIPTION:The Miracle of Lights\nHoliday Festival for the Entire Family!\nJoin us for an unforgettable evening of harmony\, culture\, and compassion on Sunday\, December 10th\, from 3-5 PM at Newton City Hall! \nDoor will open at 2:30 PM. \nThe vibrant Ukrainian and Israeli communities come together for an extraordinary concert and family event The Miracle of Lights – a Festival of music\, culture\, and philanthropy\, all in the spirit of the holiday season. \nEvent Highlights: \nFeaturing: Live performances from exceptional artists\, including Ukraine’s Got Talent sensation Sofia Shkidchenko\, the award-winning children’s group Stellar Voices\, and renowned singers Olga Lisovska\, Liliana Glik\, Alena Starr – bandura. \nDance Jewish and Ukrainian social dances together with choreographer Vladimir Foygelman. \nBalloon Animals by Steven Elfant starts at 4:00 PM. \nFun for Families: Bring your little ones for an array of exciting activities! From face painting and creative crafts\, there’s something for every young adventurer. Decorate holiday cookies\, make your own Hanukkah menorah from Oreos\, and do donuts/sufganiyot. \nPlay in 2\,5 millennia-old game for kids Dreidel/a four-sided spinning top and win Hanukkah Gelt\, chocolate money. \nSupport the very noble cause! Each kid will receive a gift from our sponsors! Enjoy and learn about Jewish and Ukrainian cultures.  \nCulinary Delights: Journey to Ukraine and Israel as you savor Israeli and Ukrainian cuisines\, immersing yourself in the rich flavors of these beautiful cultures. \nHoliday Vendors: Explore a holiday marketplace filled with treasures! Talented vendors will showcase their unique products and crafts\, offering you the chance to find one-of-a-kind gifts. \nCommunity Bake Sale: Indulge your sweet tooth while supporting a great cause! Our bake sale aims to raise funds for children in Israel and Ukraine affected by the ongoing war. Your contribution can make a difference! \nCharitable Ruffle: Enter to WIN and win our very nice prizes! \nOrganizers: \n\nCenter Makor: A prominent Jewish nonprofit organization dedicated to community enrichment and cultural exchange. www.centermakor.org\nMusic\, Arts & Fashion Productions: A nonprofit organization renowned for organizing professional productions\, featuring acclaimed singers\, musicians\, artists\, and fashion designers. musicartsfashion.org\n\nPartners: Combined Jewish Philanthropies\, Inna Tsukrov Charitable Foundation\, Michael Rudyak Memorial Fund\, Ukrainian Cultural Center of New England\, Ukrainian Congress Committee of America\, Ukraine Forward\, Ukrainian Cultural Initiative. \nSponsors: Well Given ARC\, Newton Auto Driving School. \nMark your calendar\, gather your friends and family\, and join us for a heartwarming celebration of unity and compassion. Together\, let’s create a brighter future for the children of Israel and Ukraine. See you at the “The Miracle of Lights”! \nTickets: adult – $40 ($50 at the door)\, student/senior – $20 ($25 at the door)\, children 13 and under – free. \nTickets
URL:https://www.centermakor.org/event/the-miracle-of-lights/
LOCATION:Newton City Hall\, 1000 Commonwealth Avenue\, Newton\, MA\, 02459\, United States
CATEGORIES:Makor Events
ATTACH;FMTTYPE=image/jpeg:https://www.centermakor.org/wp-content/uploads/2023/10/Han-2023.8.jpg
END:VEVENT
END:VCALENDAR