BEGIN:VCALENDAR
VERSION:2.0
PRODID:-//Center Makor - ECPv6.15.20//NONSGML v1.0//EN
CALSCALE:GREGORIAN
METHOD:PUBLISH
X-WR-CALNAME:Center Makor
X-ORIGINAL-URL:https://www.centermakor.org
X-WR-CALDESC:Events for Center Makor
REFRESH-INTERVAL;VALUE=DURATION:PT1H
X-Robots-Tag:noindex
X-PUBLISHED-TTL:PT1H
BEGIN:VTIMEZONE
TZID:America/New_York
BEGIN:DAYLIGHT
TZOFFSETFROM:-0500
TZOFFSETTO:-0400
TZNAME:EDT
DTSTART:20230312T070000
END:DAYLIGHT
BEGIN:STANDARD
TZOFFSETFROM:-0400
TZOFFSETTO:-0500
TZNAME:EST
DTSTART:20231105T060000
END:STANDARD
BEGIN:DAYLIGHT
TZOFFSETFROM:-0500
TZOFFSETTO:-0400
TZNAME:EDT
DTSTART:20240310T070000
END:DAYLIGHT
BEGIN:STANDARD
TZOFFSETFROM:-0400
TZOFFSETTO:-0500
TZNAME:EST
DTSTART:20241103T060000
END:STANDARD
BEGIN:DAYLIGHT
TZOFFSETFROM:-0500
TZOFFSETTO:-0400
TZNAME:EDT
DTSTART:20250309T070000
END:DAYLIGHT
BEGIN:STANDARD
TZOFFSETFROM:-0400
TZOFFSETTO:-0500
TZNAME:EST
DTSTART:20251102T060000
END:STANDARD
END:VTIMEZONE
BEGIN:VEVENT
DTSTART;TZID=America/New_York:20240824T160000
DTEND;TZID=America/New_York:20240824T180000
DTSTAMP:20260420T064430
CREATED:20240820T165253Z
LAST-MODIFIED:20240821T162654Z
UID:21836-1724515200-1724522400@www.centermakor.org
SUMMARY:Vasil Popadiuk. Free Ukraine Independence Day Concert.
DESCRIPTION:This will be an unforgettable evening!Vasyl Popadiuk will be waiting for you with a live concert on August 24 at 4 PM! This is a unique opportunity to hear musical compositions performed live\, feel genuine emotions\, and enjoy the enchanting atmosphere of a musical evening.The concert will take place at Sam Adams Park at Faneuil Hall Boston. \nAdmission is free. \n\n\n 
URL:https://www.centermakor.org/event/vasil-popadiuk-ukraine-independence-day-concert/
LOCATION:MA
CATEGORIES:Makor Events
ATTACH;FMTTYPE=image/jpeg:https://www.centermakor.org/wp-content/uploads/2024/08/UID.jpg
END:VEVENT
END:VCALENDAR