BEGIN:VCALENDAR
VERSION:2.0
PRODID:-//Center Makor - ECPv6.15.20//NONSGML v1.0//EN
CALSCALE:GREGORIAN
METHOD:PUBLISH
X-ORIGINAL-URL:https://www.centermakor.org
X-WR-CALDESC:Events for Center Makor
REFRESH-INTERVAL;VALUE=DURATION:PT1H
X-Robots-Tag:noindex
X-PUBLISHED-TTL:PT1H
BEGIN:VTIMEZONE
TZID:America/New_York
BEGIN:DAYLIGHT
TZOFFSETFROM:-0500
TZOFFSETTO:-0400
TZNAME:EDT
DTSTART:20220313T070000
END:DAYLIGHT
BEGIN:STANDARD
TZOFFSETFROM:-0400
TZOFFSETTO:-0500
TZNAME:EST
DTSTART:20221106T060000
END:STANDARD
BEGIN:DAYLIGHT
TZOFFSETFROM:-0500
TZOFFSETTO:-0400
TZNAME:EDT
DTSTART:20230312T070000
END:DAYLIGHT
BEGIN:STANDARD
TZOFFSETFROM:-0400
TZOFFSETTO:-0500
TZNAME:EST
DTSTART:20231105T060000
END:STANDARD
BEGIN:DAYLIGHT
TZOFFSETFROM:-0500
TZOFFSETTO:-0400
TZNAME:EDT
DTSTART:20240310T070000
END:DAYLIGHT
BEGIN:STANDARD
TZOFFSETFROM:-0400
TZOFFSETTO:-0500
TZNAME:EST
DTSTART:20241103T060000
END:STANDARD
END:VTIMEZONE
BEGIN:VEVENT
DTSTART;VALUE=DATE:20230325
DTEND;VALUE=DATE:20230510
DTSTAMP:20260419T144017
CREATED:20230314T201314Z
LAST-MODIFIED:20230416T153033Z
UID:15528-1679702400-1683676799@www.centermakor.org
SUMMARY:Zachar Shapiro – Grand Opening
DESCRIPTION:Zachar Shapiro\n1946–2018\nCharitable exhibition\nGrand opening March 25–26\nA true artist can’t help painting\, because for him painting is like breathing. Zakhar Shapiro from Maalot always painted\, and from under his brush came out bizarre images that inhabited his own world created by his imagination\, his own country – the country of Zachariah. \nThe well-known Jewish-Russian artist Zakhar Shapiro recently passed away in Israel. Mr. Shapiro was born in Russia and has been living and working in Israel for the last 30 years of his life. He also had strong ties with Boston. \nMr. Shapiro left behind his wife\, two sons\, two grandchildren\, sister and a wonderful collection of the most inspiring oil and watercolor paintings. \n\nAbout the Artist  О художнике  Gallery/Галерея \n\nCharitable exhibition in support of the children of the Ukraine. \nGrand opening March 25/26\nMarch 25. 6:30 p.m. – 9:00 p.m. Live music. Light refreshments will be served.\nMarch 26. 12:30 p.m. – 5:30 p.m\nOther days – by appointment only. Call Marina at 617-244-0167 or Vladimir at 617-771-4870.\nCenter Makor. Newton\n50 Winchester St. Newton\nFree admission. Your donations will be appreciated. \nPaintings on display\n1. Sunflowers on a red tablecloth – $850\n2. Blue candlestick on a red tray – $650\n3. Three Hasidic boys dancing – $1100 SOLD\n4. Vase with red flowers – $650\n5. Salem girl with black cat – $900\n6. Fruit Hat – $650\n7. Harlequin with cards – $1000\n8. Circus clown – $650\n9. Red tram – $850\n10. Landscape (watercolor\, square-shaped) – $300 SOLD\n11. A sailor with a parrot –$800\n12. Don Juan (watercolor) – $350\n13. Jerusalem in black & white – $300 \n\nThe artists joking together with you\nZachar Shapiro (1946-2018) was born and educated in Moscow\, Russia\, where he worked primarily in decorative art creating tapestries\, stained glass and metal reliefs. His career came to a screeching halt when he suffered a severe stroke at the age of 42. Originally left-handed\, he could not use his dominant hand any longer.\nShortly after\, in 1990\, he immigrated to Israel with his family. The warm climate and proper medical care not only helped his physical recovery\, but also revived him as an artist. Zachar trained himself to paint with his right hand and became ever more productive.\nZachar’s paintings are influenced by the 20th century European masters and Russian Avant-Garde. They are done in so many styles that they might have been created by several different artists. His still lives\, landscapes and cityscapes are perfect in composition\, expressive brush technique and color scheme. \n\nПраздник Весны в картинах\nЯркие\, насыщенные сочными красками картины художника Захара Шапиро без сомнения станут лучшим украшением в вашем доме. Картины этого замечательного художника находятся в частных коллекциях и музеях мира.\nСовершенно замечательную выставку художника Захара Шапиро можно увидеть уже сегодня!\nТворчество Захара Шапиро – это красочные натюрморты\, мягкие воздушные акварели\, праздник цвета и света\, которые вы сможете приобрести прямо на выставке. \nО Художнике\nНа севере Израиля\, в пяти километрах от границы с Ливаном\, у Галилейских гор лежит маленький\, ухоженный и зелёный городок Маалот. Вдоль чистеньких улиц стоят дома на ножках\, в тени апельсиновых деревьев. Нет в нём ничего особенно примечательного\, по-жалуй\, кроме двух фактов: во-первых\, сюда иногда съезжаются скульпторы из Европы на фестиваль уличной скульптуры\, которую они тут же создают из местного мягкого кам-ня\, легко поддающегося штихелю. Во-вторых\, и это\, быть может\, более важно\, здесь долго жил и работал самобытный художник родом из Москвы Захар Шапиро. Когда его спрашивали почему он поселился на отшибе от культурных центров и художественных тусовок\, он с улыбкой отвечал : Большой город растворяет. Чувствуешь себя безликой частичкой\, неотличимой от тысяч других. А наш Маалот – он для каждого. Он на тебя одет\, как пальто твоего размера\, и тебе в нём комфорно. \nУвлечение в молодости живописью великих мастеров русского авангарда – Кандинского\, Лентулова\, Филонова – не могло не повлиять на формирование его творческого почерка и стиля. \nХудожник писал натюрморты\, фантасмагории и жанровые сценки\, он одинаково уверенно владел акварелью и маслом. В 1993–97 годах в Бостоне прошли первые выставки его работ\, сразу же привлёкших внимание. Излюбленная тематика Захара – осенние мотивы: одиночество человека в природе и в городской суете\, тонкие пейзажи и мрачноватые ландшафты Галилеи\, переплетённые фантазии снов и музыки. Значительное место в этот период занимали также сценки из еврейской жизни в старых российских местечках и маленьких израильских городах. \nОдним из главных элементов картин является свет\,волшебство воздушных красок\,передающих тонкие эмоции отражения\,погружения и духовности. А многие акварели отправляют вас в сказочный мир библейской древности.\nОдин из друзей предлагал на выставках Шапиро отправиться в\nСтрану Захарию!\nПосетив выставку вы попаделе в этот мир волшебной Захарии\,где живут образы великого мастера! \nВыставку подготовили Marina Ray и Центр Макор при помощи и участии Ольги и Арона Футер с благодарностью сестре художника Тамаре Шайкевич. \n\nFor those who are unfamiliar with the works of Zachar Shapiro\, these photos can give an idea of what you might expect to see. The photos are for your information only; not all of these works will be presented at the exhibition.
URL:https://www.centermakor.org/event/zachar-shapiro/
LOCATION:Center Makor. Newton.\, 50 Winchester St.\, Newton\, MA\, 02461\, United States
CATEGORIES:Makor Events
ATTACH;FMTTYPE=image/jpeg:https://www.centermakor.org/wp-content/uploads/2023/03/65507219_623741544800242_5799705261337739264_n.jpg
END:VEVENT
END:VCALENDAR