BEGIN:VCALENDAR
VERSION:2.0
PRODID:-//Center Makor - ECPv6.15.20//NONSGML v1.0//EN
CALSCALE:GREGORIAN
METHOD:PUBLISH
X-WR-CALNAME:Center Makor
X-ORIGINAL-URL:https://www.centermakor.org
X-WR-CALDESC:Events for Center Makor
REFRESH-INTERVAL;VALUE=DURATION:PT1H
X-Robots-Tag:noindex
X-PUBLISHED-TTL:PT1H
BEGIN:VTIMEZONE
TZID:America/New_York
BEGIN:DAYLIGHT
TZOFFSETFROM:-0500
TZOFFSETTO:-0400
TZNAME:EDT
DTSTART:20220313T070000
END:DAYLIGHT
BEGIN:STANDARD
TZOFFSETFROM:-0400
TZOFFSETTO:-0500
TZNAME:EST
DTSTART:20221106T060000
END:STANDARD
BEGIN:DAYLIGHT
TZOFFSETFROM:-0500
TZOFFSETTO:-0400
TZNAME:EDT
DTSTART:20230312T070000
END:DAYLIGHT
BEGIN:STANDARD
TZOFFSETFROM:-0400
TZOFFSETTO:-0500
TZNAME:EST
DTSTART:20231105T060000
END:STANDARD
BEGIN:DAYLIGHT
TZOFFSETFROM:-0500
TZOFFSETTO:-0400
TZNAME:EDT
DTSTART:20240310T070000
END:DAYLIGHT
BEGIN:STANDARD
TZOFFSETFROM:-0400
TZOFFSETTO:-0500
TZNAME:EST
DTSTART:20241103T060000
END:STANDARD
END:VTIMEZONE
BEGIN:VEVENT
DTSTART;TZID=America/New_York:20230520T160000
DTEND;TZID=America/New_York:20230520T170000
DTSTAMP:20260421T184341
CREATED:20230418T232654Z
LAST-MODIFIED:20230427T163957Z
UID:16144-1684598400-1684602000@www.centermakor.org
SUMMARY:Resonant Reflections
DESCRIPTION:Violinist Irina Fainkichen & Pianist Irina Kotlyar \nResonant Reflections\nSaturday\, May 20\, 4 p.m.\nNewton City Hall\n1000 Commonwealth Avenue\, Newton MA 02459 \nTickets \n$35; students and seniors – $30\nAt the door – $40; students and seniors – $35\n100% of the proceeds will support the people of Ukraine/Support Defenders\nThe musicians are performing for free \nCenter Makor is acting as a fiscal agent to raise funds to support defenders \nSouvenir d’un lieu cher\nPiotr Ilyich Tchaikovsky (1840-1893)\nThree Pieces Opus 42\nI. Meditation\nII. Scherzo\nIII. Melody \nSonata in D Major Opus 94\nSergei Prokofiev (1891-1953)\nI. Moderate\nII. Scherzo\nIII. Andante\nIV. Allegro con brio \nINTERMISSION \nSonata no.1. Opus 78\nJohannes Brahms (1833-1897)\nI. Vivace ma non troppo\nII. Adagio\nIII. Allegro molto moderato \nIntroduction and Tarantella Opus. 43\nPablo de Sarasate (1844-1908) \nDanse Espagnole\n(from “La Vida Breve)\nManuel de Falla – arr. Fritz Kreisler\n(1876-1946). (1875- 1962) \nArtists\nIrina Fainkichen\nIrina Fainkichen studied at Rachmaninoff Music College and St. Petersburg State Conservatory in Russia. She also got her degree from Rubin Academy of Music and Dance in Jerusalem\, Israel. She is a busy freelance violinist in the Greater Boston area. Irina performed with Broadway on Tour’s The Phantom of the Opera\, and Hello Dolly at Boston Opera House\, An American in Paris at Ogunquit Playhouse in Maine. She performed many shows with an amazing legends such as Marni Nixon\, Sarah Brightman\, Johnny Mathis and The Who. Irina is a former longstanding member of Cape Symphony and has an extensive experience playing with many symphony orchestras including New Hampshire\, Plymouth\, Lexington Symphonies and also Pro-Arte Chamber Orchestra. Irina has been on FSPA Music Faculty since 2009 and has played in the orchestra of many Franklin Performing Arts Company productions including Annie\, Sound of Music\, Charlie Brown\, Peter Pan\, The Music Man\, Spamalot\, Fiddler on the Roof\, Cabaret\, and most recently Legally Blonde\, Humbug!\, Sweeney Todd\, and The Sound of Music. Irina is a concertmaster for the annual FPAC Holiday Production of The Nutcracker and a coordinator of THE BLACK BOX Classical Series. \nIrina Kotlyar\nBorn in Kharkov\, Ukraine\, Irina Kotlyar earned her master’s degree and artistic diploma from the Jerusalem Rubin Music Academy. With Gregory Shifrin\, the Kotlyar-Shifrin Piano Duo has won several international prizes and awards\, including the Dranoff International Two Piano Competition (1999) in Miami and the First International Duo Piano Competition in Byalistok\, Poland (1999). The Duo has performed throughout Israel\, Europe\, and America\, including concerts with the Bavarian Radio Orchestra\, New World Orchestra of Miami\, Jerusalem Symphony Orchestra\, and Israeli Chamber Orchestra.
URL:https://www.centermakor.org/event/resonant-reflections/
LOCATION:Newton City Hall\, 1000 Commonwealth Avenue\, Newton\, MA\, 02459\, United States
CATEGORIES:Makor Events
ATTACH;FMTTYPE=image/jpeg:https://www.centermakor.org/wp-content/uploads/2023/04/resonant_reflections_eventbrite.jpg
END:VEVENT
END:VCALENDAR