BEGIN:VCALENDAR
VERSION:2.0
PRODID:-//Center Makor - ECPv6.15.20//NONSGML v1.0//EN
CALSCALE:GREGORIAN
METHOD:PUBLISH
X-WR-CALNAME:Center Makor
X-ORIGINAL-URL:https://www.centermakor.org
X-WR-CALDESC:Events for Center Makor
REFRESH-INTERVAL;VALUE=DURATION:PT1H
X-Robots-Tag:noindex
X-PUBLISHED-TTL:PT1H
BEGIN:VTIMEZONE
TZID:America/New_York
BEGIN:DAYLIGHT
TZOFFSETFROM:-0500
TZOFFSETTO:-0400
TZNAME:EDT
DTSTART:20220313T070000
END:DAYLIGHT
BEGIN:STANDARD
TZOFFSETFROM:-0400
TZOFFSETTO:-0500
TZNAME:EST
DTSTART:20221106T060000
END:STANDARD
BEGIN:DAYLIGHT
TZOFFSETFROM:-0500
TZOFFSETTO:-0400
TZNAME:EDT
DTSTART:20230312T070000
END:DAYLIGHT
BEGIN:STANDARD
TZOFFSETFROM:-0400
TZOFFSETTO:-0500
TZNAME:EST
DTSTART:20231105T060000
END:STANDARD
BEGIN:DAYLIGHT
TZOFFSETFROM:-0500
TZOFFSETTO:-0400
TZNAME:EDT
DTSTART:20240310T070000
END:DAYLIGHT
BEGIN:STANDARD
TZOFFSETFROM:-0400
TZOFFSETTO:-0500
TZNAME:EST
DTSTART:20241103T060000
END:STANDARD
END:VTIMEZONE
BEGIN:VEVENT
DTSTART;TZID=America/New_York:20230521T170000
DTEND;TZID=America/New_York:20230521T190000
DTSTAMP:20260419T143701
CREATED:20230405T222955Z
LAST-MODIFIED:20230521T194257Z
UID:15928-1684688400-1684695600@www.centermakor.org
SUMMARY:Shtetl's Calling
DESCRIPTION:When you approach Newton City Hall\,\nfollow the signs to the Food Pantry.\nShtetl’s Calling\nAn incredible mix of live music and performance – spawned by Klezmer Band “Too Klez for Comfort” and Michael Shyrpal’s band “Ryasno.” They take musical instruments into their hands to create a life-affirming performance about love\, freedom\, and beauty\, which\, at the end of the day – will save the world. \nThe natural venue for this music was the village or shtetl of Eastern Europe. Expect an eclectic atmosphere where the Ukrainian Dorian scale befriends both the Freygish and Misheberak scales that are used in Jewish music. A full set of wind instruments (clarinets\, flutes\, and saxophones)\, violins\, keyboards\, and percussions will charm the audience with the romantic flavor and kindness of Eastern European songs and dances. \nPlease join us on May 21\, 2023\, at 5:00 pm. \nAddress: Newton City Hall\, 1000 Commonwealth Ave\, Newton Centre\, MA 02459 \nTickets \nGeneral Admission: $30\nSeniors: $25\nAt the door: $40 \nAll proceeds from ticket sales will be donated to CashForRefugees INC. and Center Makor Help Ukraine program.
URL:https://www.centermakor.org/event/shtetls-calling/
LOCATION:1000 Commonwealth Avenue
CATEGORIES:Makor Events
ATTACH;FMTTYPE=image/jpeg:https://www.centermakor.org/wp-content/uploads/2023/04/09.21.23-E.jpg
END:VEVENT
END:VCALENDAR