BEGIN:VCALENDAR
VERSION:2.0
PRODID:-//Center Makor - ECPv6.15.20//NONSGML v1.0//EN
CALSCALE:GREGORIAN
METHOD:PUBLISH
X-WR-CALNAME:Center Makor
X-ORIGINAL-URL:https://www.centermakor.org
X-WR-CALDESC:Events for Center Makor
REFRESH-INTERVAL;VALUE=DURATION:PT1H
X-Robots-Tag:noindex
X-PUBLISHED-TTL:PT1H
BEGIN:VTIMEZONE
TZID:America/New_York
BEGIN:DAYLIGHT
TZOFFSETFROM:-0500
TZOFFSETTO:-0400
TZNAME:EDT
DTSTART:20230312T070000
END:DAYLIGHT
BEGIN:STANDARD
TZOFFSETFROM:-0400
TZOFFSETTO:-0500
TZNAME:EST
DTSTART:20231105T060000
END:STANDARD
BEGIN:DAYLIGHT
TZOFFSETFROM:-0500
TZOFFSETTO:-0400
TZNAME:EDT
DTSTART:20240310T070000
END:DAYLIGHT
BEGIN:STANDARD
TZOFFSETFROM:-0400
TZOFFSETTO:-0500
TZNAME:EST
DTSTART:20241103T060000
END:STANDARD
BEGIN:DAYLIGHT
TZOFFSETFROM:-0500
TZOFFSETTO:-0400
TZNAME:EDT
DTSTART:20250309T070000
END:DAYLIGHT
BEGIN:STANDARD
TZOFFSETFROM:-0400
TZOFFSETTO:-0500
TZNAME:EST
DTSTART:20251102T060000
END:STANDARD
END:VTIMEZONE
BEGIN:VEVENT
DTSTART;TZID=America/New_York:20240505T103000
DTEND;TZID=America/New_York:20240505T130000
DTSTAMP:20260420T123352
CREATED:20240417T005722Z
LAST-MODIFIED:20240417T023821Z
UID:20300-1714905000-1714914000@www.centermakor.org
SUMMARY:Yom Hashoah Commemoration
DESCRIPTION:Yom Hashoah Commemoration\nSunday\, May 5\, 2024 10:30AM in Boston\nLive and Virtual Event \nJCRC’s Annual Community Holocaust Commemoration of Yom Hashoah gathers our community to honor the six million Jews who were murdered in the Holocaust. \nRegister Now to Join Us In-person or on Zoom. \nREGISTER & INFO
URL:https://www.centermakor.org/event/yom-hashoah-commemoration/
LOCATION:MA
CATEGORIES:Makor Events
ATTACH;FMTTYPE=image/jpeg:https://www.centermakor.org/wp-content/uploads/2024/04/YH-FLYER-2024R.jpg
END:VEVENT
BEGIN:VEVENT
DTSTART;TZID=America/New_York:20240505T180000
DTEND;TZID=America/New_York:20240505T210000
DTSTAMP:20260420T123352
CREATED:20240417T133905Z
LAST-MODIFIED:20240417T135321Z
UID:20309-1714932000-1714942800@www.centermakor.org
SUMMARY:Ukrainian Movie Night
DESCRIPTION:Dear friends\, Ukrainian Cultural Center of New England and Center Makor invite you to the Ukrainian Movie Night on a beautiful Sunday evening – May 5th\, 2024. You simply cannot miss such an event! We have prepared three Ukrainian films for you to choose from. Three different genres\, three unforgettable stories. Come and invite your friends! Let’s spend this evening together\, enjoying watching Ukrainian cinematography masterpieces!\n\n🎥The first movie that we would like to present to you was the winner of the first Ukrainian National Documentary Film Festival Cinema for Victory. \nThe Hardest Hour is a documentary project of the famous Ukrainian director Alan Badoyev. The film is unique\, as it was shot by Ukrainians using their gadgets.12000 people shared videos and photos of their life “before” and “after” February 24\, 2022. The Hardest Hour – is a two-hour film of strong emotions\, complete attachment to the action and the full effect of presence. You will see everything through the eyes of a mother\, a child\, a soldier\, a young widow\, a student\, an old grandmother. \n  Language: Ukrainian\, English subtitles.\n🎟 Tickets can be reserved here: events.humanitix.com/ukrainian-movie-night-the-hardest-hour\n🤝This movie screening is done in partnership with the non-profit organization Mriya\, to which all proceeds from ticket sales will be donated.\n🎥The second movie has become one of the most anticipated movies of recent years. \nTICKETS \nRocky Road to Berlin is a road-movie\, based on the book of the very popular Ukrainian musician Kuzma Skryabin\, who died in a road accident in February 2015. \nFilming began in 2020\, on Andrii Kuzmenko’s birthday. The premiere was supposed to take place in 2022\, but was postponed due to the Russian full-scale invasion of Ukraine. The story centers on the adventures of a Ukrainian novice musician Kuzma and his friend Bard\, who set out on their trip to Berlin in a rusty “Pobeda” car. Kuzma wants to exchange his old car for a “Mercedes 600” with a German collector in order to impress Barbara\, the girl he is in love with. But the hectic nightlife of the German capital involves the hero in stunning adventures that change his purpose\, hardens his character and helps him find his true self. A special highlight of the movie is the soundtrack. \n  🎟 Tickets can be reserved here: events.humanitix.com/ukrainian-movie-night-rocky-road-to-berlin\n🤝This movie screening is done in partnership with Center Makor.\n🎥Third movie is soon to be announced.\nStay in touch\, subscribe to our page\, save the event\, so you don’t miss any updates about the Ukrainian Movie Night in Massachusetts! \nTICKETS \nTickets for The Hardest Hour and the Rocky Road to Berlin are already on sale!
URL:https://www.centermakor.org/event/ukrainian-movie-night/
LOCATION:Maynard Fine Arts Theatre\, 19 Summer St\,\, Maynard\, 01754\, United States
CATEGORIES:Makor Events
ATTACH;FMTTYPE=image/jpeg:https://www.centermakor.org/wp-content/uploads/2024/04/ukrainian-movie-night.jpg
END:VEVENT
END:VCALENDAR