BEGIN:VCALENDAR
VERSION:2.0
PRODID:-//Center Makor - ECPv6.15.20//NONSGML v1.0//EN
CALSCALE:GREGORIAN
METHOD:PUBLISH
X-WR-CALNAME:Center Makor
X-ORIGINAL-URL:https://www.centermakor.org
X-WR-CALDESC:Events for Center Makor
REFRESH-INTERVAL;VALUE=DURATION:PT1H
X-Robots-Tag:noindex
X-PUBLISHED-TTL:PT1H
BEGIN:VTIMEZONE
TZID:America/New_York
BEGIN:DAYLIGHT
TZOFFSETFROM:-0500
TZOFFSETTO:-0400
TZNAME:EDT
DTSTART:20230312T070000
END:DAYLIGHT
BEGIN:STANDARD
TZOFFSETFROM:-0400
TZOFFSETTO:-0500
TZNAME:EST
DTSTART:20231105T060000
END:STANDARD
BEGIN:DAYLIGHT
TZOFFSETFROM:-0500
TZOFFSETTO:-0400
TZNAME:EDT
DTSTART:20240310T070000
END:DAYLIGHT
BEGIN:STANDARD
TZOFFSETFROM:-0400
TZOFFSETTO:-0500
TZNAME:EST
DTSTART:20241103T060000
END:STANDARD
BEGIN:DAYLIGHT
TZOFFSETFROM:-0500
TZOFFSETTO:-0400
TZNAME:EDT
DTSTART:20250309T070000
END:DAYLIGHT
BEGIN:STANDARD
TZOFFSETFROM:-0400
TZOFFSETTO:-0500
TZNAME:EST
DTSTART:20251102T060000
END:STANDARD
END:VTIMEZONE
BEGIN:VEVENT
DTSTART;TZID=America/New_York:20240522T190000
DTEND;TZID=America/New_York:20240522T210000
DTSTAMP:20260420T123407
CREATED:20240415T174450Z
LAST-MODIFIED:20240516T160458Z
UID:20272-1716404400-1716411600@www.centermakor.org
SUMMARY:Taste of Freedom
DESCRIPTION:An Exclusive Screening \nTaste of Freedom\nInspired by Unique Ukrainian Cookbook \nLife is a Feast – You Be the Chef\nIn Ukrainian with English Subtitles\n12+ \n\n\nWednesday\, May 22\, 7:00 p.m.\nWest Newton Cinema\n1296 Washington St.\, West Newton\, MA 02465 \nTICKETS \n\nSynopsis: Varya is a young aspiring cook who runs away from her small Ukrainian village to prove herself as the head chef of a prestigious European restaurant. She experiences a series of spectacular failures until she finds an old cookbook by Olga Franko\, a renowned female chef and activist who was forbidden to cook during Soviet times. As Varya works her way through the book’s recipes\, the ghost of Olga Franko appears and encourages her to uncover the culinary secrets of her heritage. However\, Olga warns Varya that once she masters the recipes\, she will have to choose between the life she always wanted and the culinary roots she wanted to leave behind.
URL:https://www.centermakor.org/event/taste-of-freedom/
LOCATION:West Newton Cinema\, 1296 Washington St\, West Newton\, MA\, 02465\, United States
CATEGORIES:Makor Events
ATTACH;FMTTYPE=image/jpeg:https://www.centermakor.org/wp-content/uploads/2024/05/Taste-of-Freedom-05-uccn.jpg
END:VEVENT
END:VCALENDAR