BEGIN:VCALENDAR
VERSION:2.0
PRODID:-//Center Makor - ECPv6.15.20//NONSGML v1.0//EN
CALSCALE:GREGORIAN
METHOD:PUBLISH
X-WR-CALNAME:Center Makor
X-ORIGINAL-URL:https://www.centermakor.org
X-WR-CALDESC:Events for Center Makor
REFRESH-INTERVAL;VALUE=DURATION:PT1H
X-Robots-Tag:noindex
X-PUBLISHED-TTL:PT1H
BEGIN:VTIMEZONE
TZID:America/New_York
BEGIN:DAYLIGHT
TZOFFSETFROM:-0500
TZOFFSETTO:-0400
TZNAME:EDT
DTSTART:20240310T070000
END:DAYLIGHT
BEGIN:STANDARD
TZOFFSETFROM:-0400
TZOFFSETTO:-0500
TZNAME:EST
DTSTART:20241103T060000
END:STANDARD
BEGIN:DAYLIGHT
TZOFFSETFROM:-0500
TZOFFSETTO:-0400
TZNAME:EDT
DTSTART:20250309T070000
END:DAYLIGHT
BEGIN:STANDARD
TZOFFSETFROM:-0400
TZOFFSETTO:-0500
TZNAME:EST
DTSTART:20251102T060000
END:STANDARD
BEGIN:DAYLIGHT
TZOFFSETFROM:-0500
TZOFFSETTO:-0400
TZNAME:EDT
DTSTART:20260308T070000
END:DAYLIGHT
BEGIN:STANDARD
TZOFFSETFROM:-0400
TZOFFSETTO:-0500
TZNAME:EST
DTSTART:20261101T060000
END:STANDARD
END:VTIMEZONE
BEGIN:VEVENT
DTSTART;TZID=America/New_York:20250112T130000
DTEND;TZID=America/New_York:20250112T140000
DTSTAMP:20260420T011830
CREATED:20241209T183712Z
LAST-MODIFIED:20241224T185931Z
UID:22834-1736686800-1736690400@www.centermakor.org
SUMMARY:Lessons from Soviet Antisemitism and the Refusenik Movement: A Historic Overview
DESCRIPTION:Lessons from Soviet Antisemitism and the Refusenik Movement:\nA Historic Overview\nwith Izabella Tabarovsky \nFrom the early propaganda posters to contemporary social media misinformation campaigns\, Russia has played a crucial role in planting the seeds of antisemitism and anti-Zionism across the globe. This webinar will offer a historic overview of long-running Soviet policies and tactics as well as share how the Soviet Jewry movement overcame them.\nWIth Izabella Tabarovsky\, Senior fellow with the Z3 Institute for Jewish Priorities\, research fellow at the London Center for the Study of Contemporary Antisemitism\, ISGAP and the Jerusalem Center for Public Affairs. \nRegister for this free webinar at https://us02web.zoom.us/webinar/register/WN_hL-EiysiSNGWoYtfrCXYMA#/registration \nREGISTER
URL:https://www.centermakor.org/event/lessons-from-soviet-antisemitism/
LOCATION:MA
CATEGORIES:Makor Events
ATTACH;FMTTYPE=image/jpeg:https://www.centermakor.org/wp-content/uploads/2024/12/24Webinar-Flyer10.jpg
END:VEVENT
END:VCALENDAR