BEGIN:VCALENDAR
VERSION:2.0
PRODID:-//Center Makor - ECPv6.15.20//NONSGML v1.0//EN
CALSCALE:GREGORIAN
METHOD:PUBLISH
X-ORIGINAL-URL:https://www.centermakor.org
X-WR-CALDESC:Events for Center Makor
REFRESH-INTERVAL;VALUE=DURATION:PT1H
X-Robots-Tag:noindex
X-PUBLISHED-TTL:PT1H
BEGIN:VTIMEZONE
TZID:America/New_York
BEGIN:DAYLIGHT
TZOFFSETFROM:-0500
TZOFFSETTO:-0400
TZNAME:EDT
DTSTART:20240310T070000
END:DAYLIGHT
BEGIN:STANDARD
TZOFFSETFROM:-0400
TZOFFSETTO:-0500
TZNAME:EST
DTSTART:20241103T060000
END:STANDARD
BEGIN:DAYLIGHT
TZOFFSETFROM:-0500
TZOFFSETTO:-0400
TZNAME:EDT
DTSTART:20250309T070000
END:DAYLIGHT
BEGIN:STANDARD
TZOFFSETFROM:-0400
TZOFFSETTO:-0500
TZNAME:EST
DTSTART:20251102T060000
END:STANDARD
BEGIN:DAYLIGHT
TZOFFSETFROM:-0500
TZOFFSETTO:-0400
TZNAME:EDT
DTSTART:20260308T070000
END:DAYLIGHT
BEGIN:STANDARD
TZOFFSETFROM:-0400
TZOFFSETTO:-0500
TZNAME:EST
DTSTART:20261101T060000
END:STANDARD
END:VTIMEZONE
BEGIN:VEVENT
DTSTART;VALUE=DATE:20250814
DTEND;VALUE=DATE:20250828
DTSTAMP:20260419T144015
CREATED:20250804T233634Z
LAST-MODIFIED:20250817T181046Z
UID:24935-1755129600-1756339199@www.centermakor.org
SUMMARY:Charitable Exhibition in Support of the Defenders of Ukraine
DESCRIPTION:Center Makor\, UCCN\, UCCA\, Ridna Shkola\, Ukrainian Cultural Initiative \nCharitable Exhibition\nin Support of the Defenders of Ukraine\nAugust 14–27; 5–8:30 PM Monday–Thursday\nFor group tours please call 617-771-4870 or email at centermakor@gmail.com\nSuggested donation $18 at the door\nThe Community Hub. 1320 Centre St.\, Newton. \n\n\nDear Friend\, \nWe\, Bostonian artists\, invite you to our charitable exhibition in support of the defenders of Ukraine. \nThe proceeds from the art sale will be sent to Brigade 633. The courageous defenders safeguarding the skies above Kharkiv. These heroes protect lives 24/7. Your contributions and support will enable them to maintain and improve the goals of their mission\, thus saving lives. During the reception\, you will hear stories of resilience\, struggle\, and hope that arise from the defense of Ukraine’s sovereignty and democracy. \nThe largest contributors will have a chance to win the flag of Brigade 633\, personally autographed by the brave defenders. A genuine piece of a downed Shahed drone. Authentic chevrons. \nWe eagerly await your arrival. \nGlory to Ukraine! \nParticipating artists:\nDaria Kochneva\nVladimir Panikarov\nAlan Teperow\nEduard Klebanov\nAlex Khomskiy\nZachar Shapiro\nAlexander Gassel\nAlexander Korman\nMarina Raybman\nSamuel Gareginyan
URL:https://www.centermakor.org/event/charitable-exhibition-defenders-of-ukraine/
LOCATION:Community Hub\, 1320 Centre St\, Newton Centre\, MA\, 02459\, United States
CATEGORIES:Makor Events
ATTACH;FMTTYPE=image/jpeg:https://www.centermakor.org/wp-content/uploads/2025/08/34-exhibition-1.jpg
END:VEVENT
END:VCALENDAR