BEGIN:VCALENDAR
VERSION:2.0
PRODID:-//Center Makor - ECPv6.15.20//NONSGML v1.0//EN
CALSCALE:GREGORIAN
METHOD:PUBLISH
X-WR-CALNAME:Center Makor
X-ORIGINAL-URL:https://www.centermakor.org
X-WR-CALDESC:Events for Center Makor
REFRESH-INTERVAL;VALUE=DURATION:PT1H
X-Robots-Tag:noindex
X-PUBLISHED-TTL:PT1H
BEGIN:VTIMEZONE
TZID:America/New_York
BEGIN:DAYLIGHT
TZOFFSETFROM:-0500
TZOFFSETTO:-0400
TZNAME:EDT
DTSTART:20240310T070000
END:DAYLIGHT
BEGIN:STANDARD
TZOFFSETFROM:-0400
TZOFFSETTO:-0500
TZNAME:EST
DTSTART:20241103T060000
END:STANDARD
BEGIN:DAYLIGHT
TZOFFSETFROM:-0500
TZOFFSETTO:-0400
TZNAME:EDT
DTSTART:20250309T070000
END:DAYLIGHT
BEGIN:STANDARD
TZOFFSETFROM:-0400
TZOFFSETTO:-0500
TZNAME:EST
DTSTART:20251102T060000
END:STANDARD
BEGIN:DAYLIGHT
TZOFFSETFROM:-0500
TZOFFSETTO:-0400
TZNAME:EDT
DTSTART:20260308T070000
END:DAYLIGHT
BEGIN:STANDARD
TZOFFSETFROM:-0400
TZOFFSETTO:-0500
TZNAME:EST
DTSTART:20261101T060000
END:STANDARD
END:VTIMEZONE
BEGIN:VEVENT
DTSTART;TZID=America/New_York:20250907T100000
DTEND;TZID=America/New_York:20250907T130000
DTSTAMP:20260419T132121
CREATED:20250822T185019Z
LAST-MODIFIED:20250829T183837Z
UID:25177-1757239200-1757250000@www.centermakor.org
SUMMARY:Teen Movie Club – Everything is Illuminated
DESCRIPTION:Attention\, teens and parents. \nTeen Movie Club that you have been asking about for quite some time is now open and awaits you! \nPlease register and reserve your spot right now. \nSunday\, September 7 at 10:00 a.m.\nSunday\, September 21 at 4:00 p.m.\nWe will watch the same movie on both dates – pick one that works for you. \nWe will watch Everything is Illuminated on a big screen. \nPopcorn during the movie; pizza\, soda or other beverages\, and a nice discussion after the movie. \nYou are welcome to bring your friends or meet a new one at the Teen Movie Club. \nSee you there! \nREGISTER \nThe club is free\, but we’re asking for $18 donation. \nThe club will meet on the first Sunday of each month.
URL:https://www.centermakor.org/event/teen-movie-club-september-2025-1/
LOCATION:Community Hub\, 1320 Centre St\, Newton Centre\, MA\, 02459\, United States
CATEGORIES:Makor Events
ATTACH;FMTTYPE=image/jpeg:https://www.centermakor.org/wp-content/uploads/2025/08/teen-movie-club-everything-is-illuminated-facebook-event-4.jpg
END:VEVENT
END:VCALENDAR