BEGIN:VCALENDAR
VERSION:2.0
PRODID:-//Center Makor - ECPv6.15.20//NONSGML v1.0//EN
CALSCALE:GREGORIAN
METHOD:PUBLISH
X-WR-CALNAME:Center Makor
X-ORIGINAL-URL:https://www.centermakor.org
X-WR-CALDESC:Events for Center Makor
REFRESH-INTERVAL;VALUE=DURATION:PT1H
X-Robots-Tag:noindex
X-PUBLISHED-TTL:PT1H
BEGIN:VTIMEZONE
TZID:America/New_York
BEGIN:DAYLIGHT
TZOFFSETFROM:-0500
TZOFFSETTO:-0400
TZNAME:EDT
DTSTART:20250309T070000
END:DAYLIGHT
BEGIN:STANDARD
TZOFFSETFROM:-0400
TZOFFSETTO:-0500
TZNAME:EST
DTSTART:20251102T060000
END:STANDARD
BEGIN:DAYLIGHT
TZOFFSETFROM:-0500
TZOFFSETTO:-0400
TZNAME:EDT
DTSTART:20260308T070000
END:DAYLIGHT
BEGIN:STANDARD
TZOFFSETFROM:-0400
TZOFFSETTO:-0500
TZNAME:EST
DTSTART:20261101T060000
END:STANDARD
BEGIN:DAYLIGHT
TZOFFSETFROM:-0500
TZOFFSETTO:-0400
TZNAME:EDT
DTSTART:20270314T070000
END:DAYLIGHT
BEGIN:STANDARD
TZOFFSETFROM:-0400
TZOFFSETTO:-0500
TZNAME:EST
DTSTART:20271107T060000
END:STANDARD
END:VTIMEZONE
BEGIN:VEVENT
DTSTART;TZID=America/New_York:20260502T180000
DTEND;TZID=America/New_York:20260502T200000
DTSTAMP:20260423T044057
CREATED:20260411T190350Z
LAST-MODIFIED:20260411T190350Z
UID:26633-1777744800-1777752000@www.centermakor.org
SUMMARY:Буратино
DESCRIPTION:Театр на крыше\nприглашает вас на спектакль \nБуратино\nдля детей с 4 лет \nИстория настолько известна\, что и рассказывать не надо. В поисках золотого ключика Буратино встречает добрых и не очень героев\, заглядывает в страну Дураков и находит настоящий театр прямо в кaморке Папы Карло. Ваши дети познакомятся с героями «Буратино»: Мальвиной\, Пьеро\, Арлекино\, Карабасом Барабасом\, Черепахой Тортилой и многими другими\, услышат авторские песни под живое музыкальное сопровождение\, а\, главное\, получат море удовольствия! \nО спектакле \nЗаказать билеты! \n\nЦена билета $40\nВ цену билета включен буфет. \nВнимание! Оплата производится наличными при входе!
URL:https://www.centermakor.org/event/buratino-30/
LOCATION:Театр на крыше\, 50 Kearney Road\, Needham\, 02494\, United States
CATEGORIES:Community Events,Kids Events
ATTACH;FMTTYPE=image/png:https://www.centermakor.org/wp-content/uploads/2018/10/BuratinoAfisha.png
END:VEVENT
BEGIN:VEVENT
DTSTART;TZID=America/New_York:20260503T190000
DTEND;TZID=America/New_York:20260503T210000
DTSTAMP:20260423T044057
CREATED:20260409T031423Z
LAST-MODIFIED:20260409T031423Z
UID:26618-1777834800-1777842000@www.centermakor.org
SUMMARY:Галина и Алексей Хомчик с концертом “Барды балагурят”!
DESCRIPTION:Галина и Алексей Хомчик\nБарды балагурят\nПриходите послушать любимые песни в камерном формате! Стихи и музыка в исполнении Хомчик настолько “свои” что невозможно не подпевать! \nБилеты без комиссии по телефону 617-232-8820 . Так же их можно заказать послав нам платеж на Venmo: @Ilya-Klebanov или на Paypal: petropolbooks@gmail.com с комментарием “Хомчик + ваш имэйл”. \nЭту программу с новыми и давно любимыми песнями можно назвать по-разному: «Хомчик и Хомчик: добрые песни» или «Хомчик и Хомчик: яблоко от яблони» \, можно даже «Хомчик и Хомчик: тяжелая наследственность». Галина Хомчик – один из самых ярких и востребованных исполнителей в бардовском жанре. \nОбъездила множество стран как с сольными концертами\, так и в составе знаменитого Проекта «Песни нашего века». Неизменно верна бардовской классике\, но репертуар гораздо шире: романсы\, ретро-шлягеры\, мировые хиты на на разных языках. \nАлексей Хомчик – второй участник этой уникальной программы\, сын Галины. С одной стороны\, – продолжатель известной фамилии с высокой творческой репутацией\, а\, с другой – абсолютно самостоятельная\, яркая и талантливая индивидуальность с уникальными вокальными\, исполнительскими и музыкальными способностями. Создатель и лидер собственной рок-команды Carrying Goodness\, исполняющей его песни\, фронтмен группы «Ирония судьбы»\, участник Проекта Алексея Иващенко «Второе дыхание»\, специальный гость множества бардовских и других фестивалей в России и за её пределами\, в том числе – фестивалей «Странники» и «Полуостров» на обоих побережьях США\, концертов к 90-летию Ю.Визбора\, которые с которые с успехом прошли в крупнейших залах американских городов в ноябре 2025 г. В оригинальной стильной музыкальной интерпретации Алексея знакомые бардовские песни (как\, например\, «Просыпаясь улыбаться» В.Митяева или «Земляника» В.Егорова) обрели совершенно новое свежее звучание\, не потеряв авторской интонации\, но став яркими музыкальными хитами. \nБИЛЕТЫ
URL:https://www.centermakor.org/event/khomchik/
LOCATION:28 Wallingford Rd\, Brighton\, MA 02135\, 28 Wallingford Rd\, Brighton\, MA\, 02135\, United States
CATEGORIES:Community Events
ATTACH;FMTTYPE=image/jpeg:https://www.centermakor.org/wp-content/uploads/2026/04/хомчик.jpg
END:VEVENT
BEGIN:VEVENT
DTSTART;TZID=America/New_York:20260509T193000
DTEND;TZID=America/New_York:20260509T220000
DTSTAMP:20260423T044057
CREATED:20260408T221844Z
LAST-MODIFIED:20260408T221844Z
UID:26609-1778355000-1778364000@www.centermakor.org
SUMMARY:Волки и овцы
DESCRIPTION:Театр на крыше\nприглашает вас на спектакль \nВолки и овцы\nАлександр Островский \nКомедия \nРЕЖИССЁР – Людмила Старобинец. \nБилеты \nО спектакле \n\n\n\nЦена билета $55; пенсионерам и студентам – $40.\nВнимание! Оплата производится наличными при входе!
URL:https://www.centermakor.org/event/volki-10/
LOCATION:Театр на крыше\, 50 Kearney Road\, Needham\, 02494\, United States
CATEGORIES:Community Events
ATTACH;FMTTYPE=image/jpeg:https://www.centermakor.org/wp-content/uploads/2024/04/Волки-и-овцы.jpg
END:VEVENT
BEGIN:VEVENT
DTSTART;TZID=America/New_York:20260510T180000
DTEND;TZID=America/New_York:20260510T200000
DTSTAMP:20260423T044057
CREATED:20260416T202146Z
LAST-MODIFIED:20260422T214934Z
UID:26815-1778436000-1778443200@www.centermakor.org
SUMMARY:Слава Гауфберг. Благотворительный вечер памяти Александра Галича. / Slava Gaufberg. In Memoriam Alexander Galich. Charity Evening.
DESCRIPTION:Scroll down for English \nБлаготворительный вечер\nПамяти Александра Галича\nСлава Гауфберг\nАвтор-исполнитель \n10 мая\, 2026\, 6:00\nCongregation Kehillath Israel\, Brookline\n384 Harvard St.\, Brookline\, 02446 \nСегодня Center Makor отмечает свое 20-ти летие и все мы безмерно благодарны Славе Гауфбергу за его щедрый подарок – передать средства собранные от его благотворительного концерта «Памяти Александра Галича» в фонд Center Makor. \nБлагодарим Congregation Kehillath Israel за партнерство и поддержку в организации этого благотворительного концерта. \nЭти средства пойдут на развитие в Бостоне и Новой Англии самой популярной в мире еврейства культурно-образовательной программы Limmud\, права на нее недавно получил Center Makor. \nИдея Limmud в том\, чтобы еврейское обучение и познание было доступным и интересным для всех. \nЧто такое Limmud? \nLimmud с иврита переводится как обучение или познание. \nLimmud это самая плюралистическая программа познания еврейства из всех существующих в мире. Limmud проводится в формате Фестиваля общественного обучения\, который включает: \n\nмножество параллельных сессий\nразнообразные образовательные темы\nкультурную программу\nвозможности для дискуссий и взаимодействия\n\nОсновные цели включают: \n\nПоддержку непрерывного еврейского образования\nУкрепление еврейской культурной идентичности\nПоощрение межпоколенческого взаимодействия\nСодействие укреплению связей и сотрудничеству внутри общины\nРазвитие волонтерского лидерства и активного участия\nСоздание возможностей для диалога и обмена знаниями\n\nОт всех сотрудников и директоров Center Makor мы благодарны всем\, кто придет на концерт Славы и поддержит развитие Limmud в нашей общине.\nЖдем вас 10 мая в 6 часов вечера в Congregation Kehillath Israel\, 384 Harvard St Brookline. \nБИЛЕТЫ \nРекомендованнные пожертвования: $50\nПожалуйста отметьте\, что комиссию платить не обязательно просто нажмите “other” \n\nСлава Гауфберг – человек-легенда\, автор и исполнитель\, врач и альпинист\, сохранивший в себе ту самую любовь к жизни\, о которой мечтают многие. В 1982 году был лишен советского гражданства и эмигрировал в США. \nС 1991 года практикует и преподаёт экстренную медицину в Harvard University. В течение многих лет возглавлял клинику экстренной медицины\, а в настоящее время является директором одной из гарвардских резидентур. \nС юности увлекается альпинизмом\, горными лыжами\, дайвингом и парусным спортом. В 1990 году совершил восхождение на Mount Everest. Петь и писать стихи начал ещё в детстве. Ему посчастливилось быть знакомым с Александрoм Галичeм\, Владимирoм Высоцким\, Булатoм Окуджавoй\, Юрием Кукиным\, Евгением Клячкиным\, Александром Дольским. Аккомпанировал Владимиру Высоцкому во время записей; фирма «Мелодия» выпустила две пластинки с этими записями. \nВ 2016\, 2017\, 2018 и 2019 году по приглашению Фонда Булата Окуджавы выступал с сольными концертами в Доме Булата на Арбате в Москве\, в 2017 – в Доме Журналиста\, в 2019 году – в Московском Доме Кино. В декабре 2019 года в Москве провёл вечер памяти близкого друга\, актера Московского Театра на Таганке Димы Межевича. \nВ 2019 выступил с сольным концертом в Konzerthaus Berlin по приглашению организаторов фестиваля в честь скрипача Гидона Кремера. \nБард Слава Гауфберг. Легенды и факты \n \n \n\nA Charity Evening\nIn Memory of Alexander Galich\nSlava Gaufberg\nSinger-Songwriter \nMay 10\, 2026\, 6:00 p.m.\nCongregation Kehillath Israel\, Brookline\n384 Harvard St.\, Brookline\, 02446 \nToday\, Center Makor celebrates its 20th anniversary\, and we are all immensely grateful to Slava Gaufberg for his generous gift: donating the proceeds from his charity concert\, “In Memory of Alexander Galich\,” to the Center Makor fund. \nWe extend our thanks to Congregation Kehillath Israel for their partnership and support in organizing this charity concert. \nThese funds will go toward developing Limmud—the most popular cultural and educational program in the Jewish world—here in Boston and New England; Center Makor recently acquired the rights to host this program. \nThe philosophy behind Limmud is to make Jewish learning and exploration accessible and engaging for everyone. \nWhat is Limmud? \nIn Hebrew\, *Limmud* translates as “learning” or “study.” \nLimmud is the most pluralistic Jewish learning program in existence today. It is organized as a “Festival of Jewish Learning\,” featuring: \n\nMultiple concurrent sessions\nA diverse range of educational topics\nA cultural program\nOpportunities for discussion and interaction\n\nKey objectives include: \n\nSupporting lifelong Jewish learning\nStrengthening Jewish cultural identity\nEncouraging intergenerational engagement\nFostering stronger connections and cooperation within the community\nDeveloping volunteer leadership and active participation\nCreating opportunities for dialogue and the exchange of knowledge\n\nOn behalf of the entire staff and Board of Directors of Center Makor\, we are deeply grateful to everyone attending Slava’s concert and supporting the growth of Limmud within our community.\nWe look forward to seeing you on May 10th at 6:00 PM at Congregation Kehillath Israel\, 384 Harvard St.\, Brookline. \nTICKETS \nSuggested Donation: $50\nPlease note paying the processing fee is optional; simply click “other”. \n\nAbout our performer. \nSlava Gaufberg is a living legend—a singer-songwriter\, physician\, and mountaineer who has preserved that rare zest for life that so many aspire to find. In 1982\, he was stripped of his Soviet citizenship and emigrated to the United States. \nSince 1991\, he has practiced and taught emergency medicine at Harvard University. For many years\, he served as the head of an emergency medicine clinic\, and he currently directs one of Harvard’s residency programs. \nSince his youth\, he has been passionate about mountaineering\, downhill skiing\, scuba diving\, and sailing. In 1990\, he successfully summited Mount Everest. He began singing and writing poetry in his childhood. He had the privilege of knowing such figures as Alexander Galich\, Vladimir Vysotsky\, Bulat Okudzhava\, Yuri Kukin\, Evgeny Klyachkin\, and Alexander Dolsky. He accompanied Vladimir Vysotsky during recording sessions; the Melodiya label subsequently released two vinyl records featuring these recordings. \nIn 2016\, 2017\, 2018\, and 2019\, at the invitation of the Bulat Okudzhava Foundation\, he performed solo concerts at the “House of Bulat” on the Arbat in Moscow; in 2017\, he performed at the House of Journalists; and in 2019\, at the Moscow House of Cinema. In December 2019\, he hosted a memorial evening in Moscow dedicated to his close friend\, Dima Mezhevich—an actor at the Moscow Taganka Theatre. \nIn 2019\, he gave a solo concert at the Konzerthaus Berlin\, invited by the organizers of a festival honoring the violinist Gidon Kremer. \nBard Slava Gaufberg. Legends and Facts
URL:https://www.centermakor.org/event/slava-galich/
LOCATION:Congregation Kehillath Israel\, 384 Harvard Street\, Brookline\, MA\, 02446\, United States
CATEGORIES:Makor Events
ATTACH;FMTTYPE=image/jpeg:https://www.centermakor.org/wp-content/uploads/2026/04/slava-galich-2026.jpg
END:VEVENT
BEGIN:VEVENT
DTSTART;TZID=America/New_York:20260516T180000
DTEND;TZID=America/New_York:20260516T193000
DTSTAMP:20260423T044057
CREATED:20260412T161941Z
LAST-MODIFIED:20260412T161941Z
UID:26801-1778954400-1778959800@www.centermakor.org
SUMMARY:Три поросёнка
DESCRIPTION:Театр на крыше\nприглашает вас на спектакль \nТри поросёнка\nМузыкальная сказка для детей с 3 лет \nСамый подходящий спектакль для первого похода в театр! \n\nО спектакле \n\nЗаказать билеты! \n\n\n\nЦена билета $40\nВнимание! Оплата производится наличными при входе! \n\nВ нашем камерном театре мало мест. Билеты закончатся очень быстро. Если вы хотите посмотреть – не откладывайте заказ билетов. А если вы почему-либо не можете прийти на спектакль – не забудьте отменить ваш заказ.
URL:https://www.centermakor.org/event/three-little-pigs-19/
LOCATION:Театр на крыше\, 50 Kearney Road\, Needham\, 02494\, United States
CATEGORIES:Community Events,Kids Events
ATTACH;FMTTYPE=image/jpeg:https://www.centermakor.org/wp-content/uploads/2024/02/Три-поросёнка.jpg
END:VEVENT
BEGIN:VEVENT
DTSTART;TZID=America/New_York:20260530T193000
DTEND;TZID=America/New_York:20260530T213000
DTSTAMP:20260423T044057
CREATED:20260420T020021Z
LAST-MODIFIED:20260408T191740Z
UID:26604-1780169400-1780176600@www.centermakor.org
SUMMARY:Дочь русского актёра
DESCRIPTION:Театр на крыше\nприглашает вас на спектакль \nДочь русского актёра\nВодевиль с песнями\, танцами и переодеваниями \nГениальность актера Лисичкина поставлена под вопрос: его увольняют из театра. Обида выливается на родную дочь\, Верочку\, которую он хочет выдать замуж за отставного прапорщика\, дважды вдовца – Акакия Назарыча Ушицу. Верочку не вдохновляет роль деревенской отставной прапорщицы. Взяв в пособницы свою горничную\, Катерину\, талантливая девушка дурачит жениха и отца и находит выход из положения. Красочный водевиль с песнями\, танцами и переодеваниями будет интересен и взрослым\, и детям! В спектакле звучит живая музыка в исполнении Александра Прохорова-Толстого. \n\nРЕЖИССЁР – Людмила Старобинец. \nО спектакле     Заказ билетов \n  \n\nЦена билета $55\, пенсионерам и студентам $40\nВ цену билета включен буфет. \nВнимание! Оплата производится наличными при входе!
URL:https://www.centermakor.org/event/doch-12/
LOCATION:Театр на крыше\, 50 Kearney Road\, Needham\, 02494\, United States
CATEGORIES:Community Events
ATTACH;FMTTYPE=image/jpeg:https://www.centermakor.org/wp-content/uploads/2025/02/Дочь-русского-актёра.jpg
END:VEVENT
BEGIN:VEVENT
DTSTART;TZID=America/New_York:20260606T180000
DTEND;TZID=America/New_York:20260606T200000
DTSTAMP:20260423T044057
CREATED:20260409T021829Z
LAST-MODIFIED:20260409T021829Z
UID:26612-1780768800-1780776000@www.centermakor.org
SUMMARY:Снежная королева
DESCRIPTION:Театр на крыше\nприглашает вас на спектакль \nСнежная королева\nпо пьесе Евгения Шварца \nСпектакль в 2-х актах для детей с 4 лет \n\n\nСуббота\, 6 июня\, 6:00\nВоскресенье\, 7 июня\, 5:00 \nО спектакле \nЗаказать билеты! \n\nЦена билета $40\nВ цену билета включен буфет. \nВнимание! Оплата производится наличными при входе!
URL:https://www.centermakor.org/event/snow-queen-5/
LOCATION:Театр на крыше\, 50 Kearney Road\, Needham\, 02494\, United States
CATEGORIES:Community Events,Kids Events
ATTACH;FMTTYPE=image/jpeg:https://www.centermakor.org/wp-content/uploads/2026/02/Снежная-королева.jpeg
END:VEVENT
BEGIN:VEVENT
DTSTART;TZID=America/New_York:20260613T193000
DTEND;TZID=America/New_York:20260613T220000
DTSTAMP:20260423T044057
CREATED:20260418T220226Z
LAST-MODIFIED:20260418T221732Z
UID:26831-1781379000-1781388000@www.centermakor.org
SUMMARY:Мещанин во дворянстве
DESCRIPTION:Театр на крыше\nприглашает вас на премьеру спектакля \nМещанин во дворянстве\nЖан-Батист Мольер \nМузыкальная комедия в 2 актах \nМного музыки\, танцев\, юмора\, света и цвета!\nХотите праздника – приходите к нам! \nСуббота\, 13 июня\, 7:30\nВоскресенье\, 14 июня\, 6:00 \nРЕЖИССЁР – Людмила Старобинец. \nЗаказать \nО спектакле \n\n\n\nЦена билета $60; пенсионерам и студентам – $45.\nВнимание! Оплата производится наличными при входе!
URL:https://www.centermakor.org/event/bourgeois-1/
LOCATION:Театр на крыше\, 50 Kearney Road\, Needham\, 02494\, United States
CATEGORIES:Community Events
ATTACH;FMTTYPE=image/jpeg:https://www.centermakor.org/wp-content/uploads/2026/04/мещанин-во-дворянстве.jpg
END:VEVENT
BEGIN:VEVENT
DTSTART;TZID=America/New_York:20260614T180000
DTEND;TZID=America/New_York:20260614T203000
DTSTAMP:20260423T044057
CREATED:20260418T220440Z
LAST-MODIFIED:20260418T221826Z
UID:26835-1781460000-1781469000@www.centermakor.org
SUMMARY:Мещанин во дворянстве
DESCRIPTION:Театр на крыше\nприглашает вас на премьеру спектакля \nМещанин во дворянстве\nЖан-Батист Мольер \nМузыкальная комедия в 2 актах \nМного музыки\, танцев\, юмора\, света и цвета!\nХотите праздника – приходите к нам! \nСуббота\, 13 июня\, 7:30\nВоскресенье\, 14 июня\, 6:00 \nРЕЖИССЁР – Людмила Старобинец. \nЗаказать \nО спектакле \n\n\n\nЦена билета $60; пенсионерам и студентам – $45.\nВнимание! Оплата производится наличными при входе!
URL:https://www.centermakor.org/event/bourgeois-2/
LOCATION:Театр на крыше\, 50 Kearney Road\, Needham\, 02494\, United States
CATEGORIES:Community Events
ATTACH;FMTTYPE=image/jpeg:https://www.centermakor.org/wp-content/uploads/2026/04/мещанин-во-дворянстве.jpg
END:VEVENT
BEGIN:VEVENT
DTSTART;TZID=America/New_York:20260620T170000
DTEND;TZID=America/New_York:20260620T190000
DTSTAMP:20260423T044057
CREATED:20260412T020011Z
LAST-MODIFIED:20260408T192042Z
UID:26606-1781974800-1781982000@www.centermakor.org
SUMMARY:День рождения Бабы Яги. Последний показ.
DESCRIPTION:Последний показ! В этом сезоне спектакль «День рождения Бабы Яги» уходит со сцены. \n\n\nТеатр на крыше\nприглашает вас на спектакль \nДень рождения Бабы Яги\nМузыкальная сказка для детей с 6 лет и взрослых \nБабе-Яге сегодня исполняется 100 лет. По старинному заклятию\, если в этот день за ее праздничным котлом будет 13 гостей\, то она «обнулится»\, то есть\, станет десятилетней девочкой. Это заветная мечта старухи Яги\, но не так-то просто найти в загнивающем Тмутараканском лесу столько нечистой силы. \nСумеет ли Баба-Яга добиться успеха? Увидим\, пройдя вместе с нею все колдовские шаги. \nПриходите на «День рождения Бабы-Яги»! \nБилеты \n\n\n\nЦена билета $40\nВнимание! Оплата производится наличными при входе! \nВ нашем маленьком зале билеты без мест. Если вашим детям обязательно сидеть вместе с вами или со своими друзьями\, пожалуйста\, придите заранее\, чтобы занять места. \nAttention! This performance contains a sequence of flashing lights which may affect customers who are susceptible to photosensitive epilepsy or other photosensitivity. \nВнимание! Этот спектакль содержит яркие вспышки света\, которые могут представлять опасность для людей\, страдающих эпилепсией\, припадочными расстройствами или повышенной светочувствительностью. \nВ нашем камерном театре мало мест. В связи с карантинными мерами их стало ещё меньше. Билеты закончатся очень быстро. Если вы хотите посмотреть – не откладывайте заказ билетов. А если вы почему-либо не можете прийти на спектакль – не забудьте отменить ваш заказ.
URL:https://www.centermakor.org/event/baba-yaga-20/
LOCATION:Театр на крыше\, 50 Kearney Road\, Needham\, 02494\, United States
CATEGORIES:Community Events,Kids Events
ATTACH;FMTTYPE=image/jpeg:https://www.centermakor.org/wp-content/uploads/2023/04/Баба-Яга-афиша.jpg
END:VEVENT
BEGIN:VEVENT
DTSTART;TZID=America/New_York:20260707T170000
DTEND;TZID=America/New_York:20260707T190000
DTSTAMP:20260423T044057
CREATED:20260409T021844Z
LAST-MODIFIED:20260409T021844Z
UID:26613-1783443600-1783450800@www.centermakor.org
SUMMARY:Снежная королева
DESCRIPTION:Театр на крыше\nприглашает вас на спектакль \nСнежная королева\nпо пьесе Евгения Шварца \nСпектакль в 2-х актах для детей с 4 лет \n\n\nСуббота\, 6 июня\, 6:00\nВоскресенье\, 7 июня\, 5:00 \nО спектакле \nЗаказать билеты! \n\nЦена билета $40\nВ цену билета включен буфет. \nВнимание! Оплата производится наличными при входе!
URL:https://www.centermakor.org/event/snow-queen-6/
LOCATION:Театр на крыше\, 50 Kearney Road\, Needham\, 02494\, United States
CATEGORIES:Community Events,Kids Events
ATTACH;FMTTYPE=image/png:https://www.centermakor.org/wp-content/uploads/2018/10/BuratinoAfisha.png
END:VEVENT
END:VCALENDAR