BEGIN:VCALENDAR
VERSION:2.0
PRODID:-//Center Makor - ECPv6.15.20//NONSGML v1.0//EN
CALSCALE:GREGORIAN
METHOD:PUBLISH
X-WR-CALNAME:Center Makor
X-ORIGINAL-URL:https://www.centermakor.org
X-WR-CALDESC:Events for Center Makor
REFRESH-INTERVAL;VALUE=DURATION:PT1H
X-Robots-Tag:noindex
X-PUBLISHED-TTL:PT1H
BEGIN:VTIMEZONE
TZID:America/New_York
BEGIN:DAYLIGHT
TZOFFSETFROM:-0500
TZOFFSETTO:-0400
TZNAME:EDT
DTSTART:20210314T070000
END:DAYLIGHT
BEGIN:STANDARD
TZOFFSETFROM:-0400
TZOFFSETTO:-0500
TZNAME:EST
DTSTART:20211107T060000
END:STANDARD
BEGIN:DAYLIGHT
TZOFFSETFROM:-0500
TZOFFSETTO:-0400
TZNAME:EDT
DTSTART:20220313T070000
END:DAYLIGHT
BEGIN:STANDARD
TZOFFSETFROM:-0400
TZOFFSETTO:-0500
TZNAME:EST
DTSTART:20221106T060000
END:STANDARD
BEGIN:DAYLIGHT
TZOFFSETFROM:-0500
TZOFFSETTO:-0400
TZNAME:EDT
DTSTART:20230312T070000
END:DAYLIGHT
BEGIN:STANDARD
TZOFFSETFROM:-0400
TZOFFSETTO:-0500
TZNAME:EST
DTSTART:20231105T060000
END:STANDARD
END:VTIMEZONE
BEGIN:VEVENT
DTSTART;TZID=America/New_York:20220720T190000
DTEND;TZID=America/New_York:20220720T210000
DTSTAMP:20260422T105804
CREATED:20220614T142930Z
LAST-MODIFIED:20220615T172237Z
UID:12812-1658343600-1658350800@www.centermakor.org
SUMMARY:Carol Of The Bells
DESCRIPTION:Center Makor and The Boston Jewish Film are honored to present the screening of the movie “Carol Of The Bells”. \nSet in pre- and post-WWII Ukraine\, this ultimately life-affirming film centers on three families — Polish\, Ukrainian and Jewish. Their peaceful existence is shattered by the Nazi and Soviet occupations. In order to ensure their survival\, these families must learn to trust one another. The film’s emphasis on the resilience of the Ukrainian people is particularly resonant nowadays. \nPlease help us make sure that this screening will happen and as many people as possible will see it! \nThis special film event will take place on Wednesday July 20\, 7:00 pm at West Newton Cinema. Please note the date change! \nLet’s bring our communities together! \nTickets
URL:https://www.centermakor.org/event/carol-of-the-bells/
LOCATION:West Newton Cinema\, 1296 Washington St\, West Newton\, MA\, 02465\, United States
CATEGORIES:Makor Events
ATTACH;FMTTYPE=image/jpeg:https://www.centermakor.org/wp-content/uploads/2022/06/carol-of-the-bells.jpg
END:VEVENT
BEGIN:VEVENT
DTSTART;TZID=America/New_York:20220730T140000
DTEND;TZID=America/New_York:20220730T140000
DTSTAMP:20260422T105804
CREATED:20220717T075719Z
LAST-MODIFIED:20220717T212333Z
UID:12937-1659189600-1659189600@www.centermakor.org
SUMMARY:Zoom встреча: МАКСИМ ОСИПОВ - писатель\, публицист\, врач
DESCRIPTION:Zoom встреча: МАКСИМ ОСИПОВ – писатель\, публицист\, врач \nАвторское чтение текстов и путевые заметки русского литератора\, покинувшего страну\,\nинтереснейшего человека с академическим образованием и разноплановыми интересами.\nПрисоединяйтесь\, будет интересно! \nБилеты \nЧасть денег от продажи билетов будет передана в фонд Украины Ukraine Trust Chain. \nКоротко о Максиме Осипове. \nМаксим Александрович Осипов родился в Москве. Окончил 2‑ю физико-математическую школу\, 2‑й Московский медицинский институт\, ординатуру\, аспирантуру\, защитил кандидатскую диссертацию. Работал в Калифорнийском университете в Сан-Франциско\, в московских клиниках. В 1993 и 2005 годах выпустил в свет два издания книги «Клиническая эхокардиография» (в соавторстве с Нельсоном Шиллером) — самое известное руководство по этой специальности на русском языке. В 1994 году основал медицинское издательство «Практика»\, известное своими переводными медицинскими руководствами\, а также книгами по музыковедению и богословию\, и много лет руководил им. В 2005 году вернулся к работе врачом\, тогда же создал благотворительное «Общество помощи Тарусской больнице»\, деятельность которого получила широкую известность в 2008 году после успешного противостояния врачей произволу местной власти. Благодаря усилиям «Общества помощи» Тарусская больница получила нескольких квалифицированных врачей и современное оборудование. В марте 2022 года переехал в Германию. \nС 2007 года Осипов печатает свои очерки\, рассказы и повести\, в основном — в журнале «Знамя»\, который присудил ему свои премии за 2007 и 2015 гг. Опубликовал шесть сборников — «Грех жаловаться» (2009)\, «Крик домашней птицы» (2011)\, «Человек эпохи Возрождения» (2012)\, «Волною морскою» (2014) и «пгт Вечность» (2017) — все в издательстве АСТ-Corpus\, Москва\, — и «101-й километр\, очерки из провинциальной жизни» в Издательстве Ивана Лимбаха в Санкт-Петербурге (2019). В 2020 г. издательство АСТ-Corpus выпустило наиболее полное собрание произведений Осипова «Люксембург и другие русские истории» — в электронном виде и как аудиокнигу (читает автор).
URL:https://www.centermakor.org/event/maxim-osipov-zoom/
CATEGORIES:Community Events,Online Events
END:VEVENT
BEGIN:VEVENT
DTSTART;TZID=America/New_York:20220731T190000
DTEND;TZID=America/New_York:20220731T200000
DTSTAMP:20260422T105804
CREATED:20220727T004648Z
LAST-MODIFIED:20220727T023454Z
UID:12970-1659294000-1659297600@www.centermakor.org
SUMMARY:Concert in Support of Ukraine
DESCRIPTION:Благодiйний Концерт Слава Українi \nConcert in Support of Ukraine \nБлаготворительный Концерт в Поддержку Украины \nКлуб “Посиделки” \nВ составе: Анна Кричевская\, Аркадий Зильберберг\, Дмитрий Клейнбок\, Евгений Йохвид\, Изабелла Гусева\, Марк Шмулевич. \nConcert of Ukrainian and Russian Bard Songs and Poetry \nSunday\, July 31\, 7 p.m. at Center Makor – 384 Harvard St.\, Brookline\, MA 02446. \nAdmission $30. Tickets and donations via PayPal to posidelki.vylazki@gmail.com
URL:https://www.centermakor.org/event/concert-in-support-of-ukraine/
LOCATION:Center Makor: The Campus\, 384 Harvard St.\, Brookline\, MA\, 02446\, United States
CATEGORIES:Makor Events
ATTACH;FMTTYPE=image/jpeg:https://www.centermakor.org/wp-content/uploads/2022/07/Concert-in-Support-of-Ukraine.jpg
END:VEVENT
END:VCALENDAR