BEGIN:VCALENDAR
VERSION:2.0
PRODID:-//Center Makor - ECPv6.15.20//NONSGML v1.0//EN
CALSCALE:GREGORIAN
METHOD:PUBLISH
X-ORIGINAL-URL:https://www.centermakor.org
X-WR-CALDESC:Events for Center Makor
REFRESH-INTERVAL;VALUE=DURATION:PT1H
X-Robots-Tag:noindex
X-PUBLISHED-TTL:PT1H
BEGIN:VTIMEZONE
TZID:America/New_York
BEGIN:DAYLIGHT
TZOFFSETFROM:-0500
TZOFFSETTO:-0400
TZNAME:EDT
DTSTART:20230312T070000
END:DAYLIGHT
BEGIN:STANDARD
TZOFFSETFROM:-0400
TZOFFSETTO:-0500
TZNAME:EST
DTSTART:20231105T060000
END:STANDARD
BEGIN:DAYLIGHT
TZOFFSETFROM:-0500
TZOFFSETTO:-0400
TZNAME:EDT
DTSTART:20240310T070000
END:DAYLIGHT
BEGIN:STANDARD
TZOFFSETFROM:-0400
TZOFFSETTO:-0500
TZNAME:EST
DTSTART:20241103T060000
END:STANDARD
BEGIN:DAYLIGHT
TZOFFSETFROM:-0500
TZOFFSETTO:-0400
TZNAME:EDT
DTSTART:20250309T070000
END:DAYLIGHT
BEGIN:STANDARD
TZOFFSETFROM:-0400
TZOFFSETTO:-0500
TZNAME:EST
DTSTART:20251102T060000
END:STANDARD
END:VTIMEZONE
BEGIN:VEVENT
DTSTART;TZID=America/New_York:20240601T090000
DTEND;TZID=America/New_York:20240601T110000
DTSTAMP:20260421T183740
CREATED:20231226T003828Z
LAST-MODIFIED:20231226T003828Z
UID:18923-1717232400-1717239600@www.centermakor.org
SUMMARY:Taste of Torah
DESCRIPTION:Taste of Torah\nJoin Rabbi David Starr\, Ph.D. in the CMT Lounge\, before  services\, for Torah discussion and a light breakfast. \n9.00 A.M. Taste of Torah and light breakfast – In Person Only \n10.00 A.M. Shabbat Morning Services – Hybrid \nJanuary 6\, February 10\, March 9\, April 6\, May 4\, June 1 \nRSVP –  mishkantefila.org/form/tasteoftorah2024 \nRSVP
URL:https://www.centermakor.org/event/taste-of-torah-6/
LOCATION:Congregation Mishkan Tefila\, 384 Harvard St\,\, Brookline\, MA\, 02446\, United States
CATEGORIES:Campus Events
ATTACH;FMTTYPE=image/jpeg:https://www.centermakor.org/wp-content/uploads/2023/12/Taste-of-Torah2024.jpg
END:VEVENT
BEGIN:VEVENT
DTSTART;TZID=America/New_York:20240601T193000
DTEND;TZID=America/New_York:20240601T220000
DTSTAMP:20260421T183740
CREATED:20240401T030045Z
LAST-MODIFIED:20240329T032021Z
UID:20112-1717270200-1717279200@www.centermakor.org
SUMMARY:Дракон
DESCRIPTION:Театр на крыше\nприглашает вас на спектакль \nДракон\nЕвгений Щварц \nОчень актуально для сегодняшней ситуации в России и вообще…\n12+ \nРЕЖИССЁР – Людмила Старобинец. \nБилеты \n\n\nAttention! This performance contains a sequence of flashing lights which may affect customers who are susceptible to photosensitive epilepsy or other photo sensitivity. \nВнимание! Этот спектакль содержит яркие вспышки света\, которые могут представлять опасность для людей\, страдающих эпилепсией\, припадочными расстройствами или повышенной светочувствительностью. \nО спектакле \n\nЦена билета $50; пенсионерам и студентам – $35.\nВнимание! Оплата производится наличными при входе!
URL:https://www.centermakor.org/event/drakon-5/
LOCATION:Театр на крыше\, 50 Kearney Road\, Needham\, 02494\, United States
CATEGORIES:Community Events,Kids Events
ATTACH;FMTTYPE=image/jpeg:https://www.centermakor.org/wp-content/uploads/2024/01/Дракон.jpg
END:VEVENT
BEGIN:VEVENT
DTSTART;TZID=America/New_York:20240602T140000
DTEND;TZID=America/New_York:20240602T170000
DTSTAMP:20260421T183740
CREATED:20240523T230327Z
LAST-MODIFIED:20240525T030156Z
UID:20768-1717336800-1717347600@www.centermakor.org
SUMMARY:Jerusalem Day Celebration
DESCRIPTION:PLEASE JOIN US FOR CJUI’S JERUSALEM DAY CELEBRATION!!! Sun.\, June 2\, 2024\, 2-5 PM\,  INTERSECTION OF BABCOCK AND HARVARD STREETS.\nENJOY MUSIC\, DANCE\, FEATURED SPEAKERS\, AND A MARCH THROUGH BROOKLINE IN SUPPORT OF ISRAEL’S RIGHT TO A UNITED JERUSALEM AS ITS CAPITAL!!!
URL:https://www.centermakor.org/event/jerusalem-day-celebration/
LOCATION:Center Makor: The Campus\, 384 Harvard St.\, Brookline\, MA\, 02446\, United States
CATEGORIES:Makor Events
ATTACH;FMTTYPE=image/jpeg:https://www.centermakor.org/wp-content/uploads/2024/05/Jerusalem_Day_Flyer_2024-Final.jpg
END:VEVENT
BEGIN:VEVENT
DTSTART;TZID=America/New_York:20240602T180000
DTEND;TZID=America/New_York:20240602T203000
DTSTAMP:20260421T183740
CREATED:20240401T030148Z
LAST-MODIFIED:20240331T033701Z
UID:20113-1717351200-1717360200@www.centermakor.org
SUMMARY:Дракон
DESCRIPTION:Театр на крыше\nприглашает вас на спектакль \nДракон\nЕвгений Щварц \nОчень актуально для сегодняшней ситуации в России и вообще…\n12+ \nРЕЖИССЁР – Людмила Старобинец. \nБилеты \n\n\nAttention! This performance contains a sequence of flashing lights which may affect customers who are susceptible to photosensitive epilepsy or other photo sensitivity. \nВнимание! Этот спектакль содержит яркие вспышки света\, которые могут представлять опасность для людей\, страдающих эпилепсией\, припадочными расстройствами или повышенной светочувствительностью. \nО спектакле \n\nЦена билета $50; пенсионерам и студентам – $35.\nВнимание! Оплата производится наличными при входе!
URL:https://www.centermakor.org/event/drakon-6/
LOCATION:Театр на крыше\, 50 Kearney Road\, Needham\, 02494\, United States
CATEGORIES:Community Events,Kids Events
ATTACH;FMTTYPE=image/jpeg:https://www.centermakor.org/wp-content/uploads/2024/01/Дракон.jpg
END:VEVENT
BEGIN:VEVENT
DTSTART;TZID=America/New_York:20240606T190000
DTEND;TZID=America/New_York:20240606T210000
DTSTAMP:20260421T183740
CREATED:20240523T230027Z
LAST-MODIFIED:20240523T230039Z
UID:20763-1717700400-1717707600@www.centermakor.org
SUMMARY:Chai-larious Times with Jessica Kirson
DESCRIPTION:Chai-larious Times with Jessica Kirson\nJoin us for one of Boston’s largest Jewish events for young adults\, Chai Society’s annual fundraiser where people in their 20s and 30s come together for a fun night of celebrating philanthropy — Chai-larious Times! \nCome check out what we’re all about or reconnect with your friends. Schmooze over drinks and apps — on us — before you experience the comedy gold that is Jessica Kirson. \nFor only $65 (or $75 at the door) you’ll get drinks\, apps\, and so much more — it’ll be the best night of the year! \nContact Jeff with any questions or special accommodations. \nChai Society is more than just a giving society open to young adults (ages 22–40) who make a gift of $118–$999 to CJP’s Annual Campaign — it’s a community of like-minded philanthropists creating a positive impact in Greater Boston and beyond. \nRegister
URL:https://www.centermakor.org/event/chai-larious/
LOCATION:Artists For Humanity\, 100 West 2nd Street Boston\, MA 02127\, Boston\, 02127\, United States
CATEGORIES:Community Events
ATTACH;FMTTYPE=image/jpeg:https://www.centermakor.org/wp-content/uploads/2024/05/Chai-larious-Times-with-Jessica-Kirson.jpg
END:VEVENT
BEGIN:VEVENT
DTSTART;TZID=America/New_York:20240608T193000
DTEND;TZID=America/New_York:20240608T220000
DTSTAMP:20260421T183740
CREATED:20240401T184714Z
LAST-MODIFIED:20240429T122155Z
UID:20134-1717875000-1717884000@www.centermakor.org
SUMMARY:Волки и овцы
DESCRIPTION:Театр на крыше\nприглашает вас на спектакль \nВолки и овцы\nАлександр Островский \nКомедия \nРЕЖИССЁР – Людмила Старобинец. \nБилеты \nО спектакле \n\n\n\nЦена билета $50; пенсионерам и студентам – $35.\nВнимание! Оплата производится наличными при входе!
URL:https://www.centermakor.org/event/volki-1/
LOCATION:Театр на крыше\, 50 Kearney Road\, Needham\, 02494\, United States
CATEGORIES:Community Events
ATTACH;FMTTYPE=image/jpeg:https://www.centermakor.org/wp-content/uploads/2024/04/Волки-и-овцы.jpg
END:VEVENT
BEGIN:VEVENT
DTSTART;TZID=America/New_York:20240609T180000
DTEND;TZID=America/New_York:20240609T203000
DTSTAMP:20260421T183740
CREATED:20240401T184851Z
LAST-MODIFIED:20240429T122237Z
UID:20137-1717956000-1717965000@www.centermakor.org
SUMMARY:Волки и овцы
DESCRIPTION:Театр на крыше\nприглашает вас на спектакль \nВолки и овцы\nАлександр Островский \nКомедия \nРЕЖИССЁР – Людмила Старобинец. \nБилеты \nО спектакле \n\n\n\nЦена билета $50; пенсионерам и студентам – $35.\nВнимание! Оплата производится наличными при входе!
URL:https://www.centermakor.org/event/volki-2/
LOCATION:Театр на крыше\, 50 Kearney Road\, Needham\, 02494\, United States
CATEGORIES:Community Events
ATTACH;FMTTYPE=image/jpeg:https://www.centermakor.org/wp-content/uploads/2024/04/Волки-и-овцы.jpg
END:VEVENT
BEGIN:VEVENT
DTSTART;TZID=America/New_York:20240612T193000
DTEND;TZID=America/New_York:20240612T210000
DTSTAMP:20260421T183740
CREATED:20240610T153346Z
LAST-MODIFIED:20240610T153518Z
UID:20971-1718220600-1718226000@www.centermakor.org
SUMMARY:“This Ukrainian American Life” A Musical Fundraiser
DESCRIPTION:Musical Fundraiser for Ukraine @ Follen Church Featuring International Contralto Vira Slywotzky \nWhat: “This Ukrainian American Life\, a concert/cabaret fundraiser for Razom for Ukraine \nWhen: Wednesday June 12th\, 2024\n• 6:15 Pre-Concert Reception (food and beverages to be provided)\n• 7:30 pm Concert \nWhere: Follen Church Sanctuary\, 755 Massachusetts Avenue\, Lexington\, MA 02420 \nTicketing/Donations: https://TUAL_FollenChurch.eventbrite.com \nThis timely and relevant world-class musical event is part of the “This Ukrainian-American Life” Northeast tour in support of Razom for Ukraine\, a leading grassroots direct humanitarian relief charity. In Lexington\, it will take place in the historic Follen Church Sanctuary. \nVira Slywotzky\, originally from Cambridge and one of today’s world’s leading contraltos\, will star in a magnificent musical evening accompanied by renowned pianist Paul Carlson\, celebrating American and Ukrainian classical\, folk\, and popular songs\, punctuated by stories about growing up as a Ukrainian-American\, the Russian war in Ukraine\, and how fellow Lexingtonians and other Bay Staters have\, and can\, make a decisive difference in this existential fight for freedom. \n100% of the proceeds of the concert will be donated to Razom. Currently prioritizing the delivery of power-generating items in response to Russia’s targeting of Ukraine’s critical infrastructure\, Razom delivers hospital and residential generators\, blankets\, and winter clothing. Other life-sustaining items being provided include food and medicine\, evacuating people\, and providing shelter. Founded in 2014\, Razom for Ukraine has provided over $115M+ in assistance to Ukrainians in need. It is a registered 501 (c) (3) charity\, headquartered in New York. \nFor more information: Alex Gamota\, alex.gamota@razomforukraine.org\, 617.515.0721 \nTICKETS/DONATIONS
URL:https://www.centermakor.org/event/this-ukrainian-american-life-3/
CATEGORIES:Community Events
ATTACH;FMTTYPE=image/jpeg:https://www.centermakor.org/wp-content/uploads/2024/06/This-Ukrainian-American-Life_Lexington-MA-061224.jpg
END:VEVENT
BEGIN:VEVENT
DTSTART;TZID=America/New_York:20240613T190000
DTEND;TZID=America/New_York:20240613T210000
DTSTAMP:20260421T183740
CREATED:20240604T200533Z
LAST-MODIFIED:20240610T214244Z
UID:20866-1718305200-1718312400@www.centermakor.org
SUMMARY:Показ легендарного фильма «Прогулки с Бродским» и обсуждение с его создателем
DESCRIPTION:Прогулки с Бродским\nПоказ легендарного документального фильма «Прогулки с Бродским» и обсуждение с одним из его создателей Еленой Якович. Уникальная возможность отправиться на прогулку по Венеции Бродского\, узнать о процессе съемок и о том что осталось за кадром. Презентация книги «Прогулки с Бродским и так далее». \nЦена: $35. Билеты у нас по телефону 617-232-8820. Их можно заказать послав нам платеж по Venmo: @Ilya-Klebanov или PayPal: petropolbooks@gmail.com. \nО фильме: В ноябре 1993 года Елена Якович и Алексей Шишов провели с Иосифом Александровичем и его другом\, поэтом Евгением Рейном\, пять дней в Венеции. Они снимали фильм\, который назовут «Прогулки с Бродским». Никто еще не знал\, что это первая и последняя съемка Бродского для российского зрителя\, что это его последняя встреча с Рейном\, что его последний путь и впрямь ляжет через этот город и что захоронен он будет на венецианском кладбище Сан-Микеле\, среди его любимой «водички». \nОн успел увидеть фильм о себе – «Прогулки с Бродским»\, но за полями того фильма осталось много бесценных\, особенно сегодня\, когда его уже нет с нами\, материалов. Там он все еще гуляет по Венеции\, разговаривает о всякой всячине\, о себе\, о России\, о родном городе\, они с Рейном\, перебивая друг друга\, читают стихи\, вернее\, стишки\, как он сам любил говорить. Из этих не вошедших в «Прогулки с Бродским» материалов\, кадров на набережных\, площадях\, в кафе\, церквях и музеев\, разговоров с Бродским\, путешествии с ним на катере по лагуне\, рабочих моментов и комментариев авторов о каждом дне – и составлен фильм «И ляжет путь мой через этот город. Несколько съемочных дней с Иосифом Бродским». И с каждым годом\, с каждым днем его мысли\, его слова обретают все более глубокий\, все более пронзительный смысл\, словно время пытается догнать Бродского. Как он заметил\, “мы уходим\, а красота остается\, ибо мы направляемся в будущее\, а красота есть вечное настоящее”. Фильм представит Елена Якович. После показа можно будет приобрести книгу «Прогулки с Бродским и так далее» с ее автографом. \nЕлена Якович — режиссёр-документалист\, автор десятков документальных фильмов и сериалов\, в том числе «Прогулки с Бродским»\, «Брестское гетто»\, «Мир после Освенцима»\, «Хрустальная ночь. Еврейский погром\, 1938»\, «Мотивы Моисея Береговского»\, фильмов о Сергее Довлатове\, Василии Гроссмане\, Анне Ахматовой\, Андрее Сахарове\, Александр Галич и др. Лауреат премии «ТЭФИ – 95» за фильм «Прогулки с Бродским»\, призер многих российских и зарубежных кинофестивалей\, обладатель Почетного приза «За выдающийся вклад в развитие еврейского кинематографа
URL:https://www.centermakor.org/event/brodsky/
LOCATION:Книжный магазин Петрополь\, 44 Mechanic St.\, Newton\, MA\, 02464\, United States
CATEGORIES:Makor Events
ATTACH;FMTTYPE=image/jpeg:https://www.centermakor.org/wp-content/uploads/2024/06/Прогулки-с-Бродским.jpg
END:VEVENT
BEGIN:VEVENT
DTSTART;TZID=America/New_York:20240615T193000
DTEND;TZID=America/New_York:20240615T220000
DTSTAMP:20260421T183740
CREATED:20240401T185025Z
LAST-MODIFIED:20240429T122240Z
UID:20142-1718479800-1718488800@www.centermakor.org
SUMMARY:Волки и овцы
DESCRIPTION:Театр на крыше\nприглашает вас на спектакль \nВолки и овцы\nАлександр Островский \nКомедия \nРЕЖИССЁР – Людмила Старобинец. \nБилеты \nО спектакле \n\n\n\nЦена билета $50; пенсионерам и студентам – $35.\nВнимание! Оплата производится наличными при входе!
URL:https://www.centermakor.org/event/volki-3/
LOCATION:Театр на крыше\, 50 Kearney Road\, Needham\, 02494\, United States
CATEGORIES:Community Events
ATTACH;FMTTYPE=image/jpeg:https://www.centermakor.org/wp-content/uploads/2024/04/Волки-и-овцы.jpg
END:VEVENT
BEGIN:VEVENT
DTSTART;TZID=America/New_York:20240616T180000
DTEND;TZID=America/New_York:20240616T203000
DTSTAMP:20260421T183740
CREATED:20240401T185030Z
LAST-MODIFIED:20240429T122245Z
UID:20143-1718560800-1718569800@www.centermakor.org
SUMMARY:Волки и овцы
DESCRIPTION:Театр на крыше\nприглашает вас на спектакль \nВолки и овцы\nАлександр Островский \nКомедия \nРЕЖИССЁР – Людмила Старобинец. \nБилеты \nО спектакле \n\n\n\nЦена билета $50; пенсионерам и студентам – $35.\nВнимание! Оплата производится наличными при входе!
URL:https://www.centermakor.org/event/volki-4/
LOCATION:Театр на крыше\, 50 Kearney Road\, Needham\, 02494\, United States
CATEGORIES:Community Events
ATTACH;FMTTYPE=image/jpeg:https://www.centermakor.org/wp-content/uploads/2024/04/Волки-и-овцы.jpg
END:VEVENT
BEGIN:VEVENT
DTSTART;TZID=America/New_York:20240623T110000
DTEND;TZID=America/New_York:20240623T123000
DTSTAMP:20260421T183740
CREATED:20240603T213512Z
LAST-MODIFIED:20240610T185507Z
UID:20848-1719140400-1719145800@www.centermakor.org
SUMMARY:Трудно быть Букой
DESCRIPTION:Театр кукол Светлячок – в гостях у Театра на крыше \nТрудно быть Букой\nВеселая интерактивная сказка о том\, что такое дружба.\nДля детей с 4 до 10 лет.\nДлительность – 1.5 часа. \nЗа 20 минут до начала спектакли – развлекательная программа; игры и конкурсы. \n\n\nБилеты \nО спектакле \nСправки по телефону 786.489.8088. \n\nТеатр на крыше\n50 Kearney Road\nNeedham\, MA 02494
URL:https://www.centermakor.org/event/buka/
LOCATION:Театр на крыше\, 50 Kearney Road\, Needham\, 02494\, United States
CATEGORIES:Community Events,Kids Events
ATTACH;FMTTYPE=image/jpeg:https://www.centermakor.org/wp-content/uploads/2024/06/Трудно-быть-букой.jpg
END:VEVENT
BEGIN:VEVENT
DTSTART;TZID=America/New_York:20240623T170000
DTEND;TZID=America/New_York:20240623T183000
DTSTAMP:20260421T183740
CREATED:20240603T213650Z
LAST-MODIFIED:20240610T185815Z
UID:20852-1719162000-1719167400@www.centermakor.org
SUMMARY:Внук для Бабы-Яги
DESCRIPTION:Театр кукол Светлячок – в гостях у Театра на крыше \nВнук для Бабы-Яги\nВеселая музыкальная интерактивная сказка для детей любого возраста. \nДлительность – 1.5 часа. \n\n\nБилеты \nО спектакле \nСправки по телефону 786.489.8088. \n\nТеатр на крыше\n50 Kearney Road\nNeedham\, MA 02494
URL:https://www.centermakor.org/event/baba-yagas-grandson/
LOCATION:Театр на крыше\, 50 Kearney Road\, Needham\, 02494\, United States
CATEGORIES:Community Events,Kids Events
ATTACH;FMTTYPE=image/jpeg:https://www.centermakor.org/wp-content/uploads/2024/06/Трудно-быть-букой.jpg
END:VEVENT
BEGIN:VEVENT
DTSTART;TZID=America/New_York:20240624T193000
DTEND;TZID=America/New_York:20240624T213000
DTSTAMP:20260421T183740
CREATED:20240610T160628Z
LAST-MODIFIED:20240610T160658Z
UID:20980-1719257400-1719264600@www.centermakor.org
SUMMARY:Четвертая пуля
DESCRIPTION:Четвертая пуля\nМонте-Карло\, начало 20 века.В роскошном казино встретились двое – богатая вдова\, томимая душевной пустотой\, и молодой аристократ\, одержимый игорной страстью. Водоворот немыслимых событий подхватил их на 24 часа. Чем обернется для них эта встреча? Чем закончится игра? Кто останется в живых? \nПсихологический детектив «Четвертая пуля»\, по мотивам новеллы Стефана Цвейга «24 часа из жизни женщины». \nВ спектакле заняты:\nВыпускник ВГИКа\, режиссер\, актер театра и кино\, Михаил Модро\nВыпускница ГИТИСа\, актриса театра и кино\, член СТД\, Алина Ольшанская \n\n\nБилеты \nО спектакле \nСправки по телефону 786.309.0404 \n\nТеатр на крыше\n50 Kearney Road\nNeedham\, MA 02494
URL:https://www.centermakor.org/event/fourth-bullet/
LOCATION:Театр на крыше\, 50 Kearney Road\, Needham\, 02494\, United States
CATEGORIES:Community Events
ATTACH;FMTTYPE=image/jpeg:https://www.centermakor.org/wp-content/uploads/2024/06/4th-bullet.jpg
END:VEVENT
BEGIN:VEVENT
DTSTART;TZID=America/New_York:20240626T193000
DTEND;TZID=America/New_York:20240626T213000
DTSTAMP:20260421T183740
CREATED:20240511T015009Z
LAST-MODIFIED:20240511T015009Z
UID:20655-1719430200-1719437400@www.centermakor.org
SUMMARY:Женщина в белом
DESCRIPTION:Женщина в белом\nДраматический спектакль Александра Щербины по самой пронзительной поэме Сергея Есенина «Анна Снегина»\, написанной в 1924 году. \nКогда рушится привычный мир и ломаются судьбы\, когда всё ближе грохот гражданской войны – кто осмелится петь о нежности и мечтать о любви? Они осмелились – петь\, любить\, надеяться. Встретиться среди сирени и расстаться на пепелище. К 100-летию поэмы «Анна Снегина». \nВ ролях:\nПоэт – Александр Щербина\nЖенщина в белом – Ирина Груминская\nЧёрный человек\, Возница\, Мельник\, Прон – Евгений Бельтюков \nВ спектакле использованы также отрывки из поэмы «Чёрный человек»\, стихотворение «Письмо к женщине»\, живое исполнение песен и романсов на стихи Сергея Есенина. \nБилеты $40\nPaypal – kmaslova@comcast.net (friends and family only\, please)\nVenmo – @Katherine_Maslova\nКоличество мест ограничено. \nСпектакль проводится в помещении Театра на крыше\, 50 Kearney Road\, Needham\, MA 02494\ntheaterontheroof.com/event/esenin
URL:https://www.centermakor.org/event/%d0%b6%d0%b5%d0%bd%d1%89%d0%b8%d0%bd%d0%b0-%d0%b2-%d0%b1%d0%b5%d0%bb%d0%be%d0%bc/
LOCATION:Театр на крыше\, 50 Kearney Road\, Needham\, 02494\, United States
CATEGORIES:Community Events
ATTACH;FMTTYPE=image/jpeg:https://www.centermakor.org/wp-content/uploads/2024/05/Afisha-Esenin-qr.jpg
END:VEVENT
END:VCALENDAR