BEGIN:VCALENDAR
VERSION:2.0
PRODID:-//Center Makor - ECPv6.15.20//NONSGML v1.0//EN
CALSCALE:GREGORIAN
METHOD:PUBLISH
X-ORIGINAL-URL:https://www.centermakor.org
X-WR-CALDESC:Events for Center Makor
REFRESH-INTERVAL;VALUE=DURATION:PT1H
X-Robots-Tag:noindex
X-PUBLISHED-TTL:PT1H
BEGIN:VTIMEZONE
TZID:America/New_York
BEGIN:DAYLIGHT
TZOFFSETFROM:-0500
TZOFFSETTO:-0400
TZNAME:EDT
DTSTART:20230312T070000
END:DAYLIGHT
BEGIN:STANDARD
TZOFFSETFROM:-0400
TZOFFSETTO:-0500
TZNAME:EST
DTSTART:20231105T060000
END:STANDARD
BEGIN:DAYLIGHT
TZOFFSETFROM:-0500
TZOFFSETTO:-0400
TZNAME:EDT
DTSTART:20240310T070000
END:DAYLIGHT
BEGIN:STANDARD
TZOFFSETFROM:-0400
TZOFFSETTO:-0500
TZNAME:EST
DTSTART:20241103T060000
END:STANDARD
BEGIN:DAYLIGHT
TZOFFSETFROM:-0500
TZOFFSETTO:-0400
TZNAME:EDT
DTSTART:20250309T070000
END:DAYLIGHT
BEGIN:STANDARD
TZOFFSETFROM:-0400
TZOFFSETTO:-0500
TZNAME:EST
DTSTART:20251102T060000
END:STANDARD
END:VTIMEZONE
BEGIN:VEVENT
DTSTART;TZID=America/New_York:20240908T090000
DTEND;TZID=America/New_York:20240908T170000
DTSTAMP:20260423T172456
CREATED:20240817T011610Z
LAST-MODIFIED:20240818T170243Z
UID:21793-1725786000-1725814800@www.centermakor.org
SUMMARY:First Annual Newton Health Fair
DESCRIPTION:Join us for the \nFirst Annual Newton Health Fair\non September 8th from 9am-5pm\nat 1299 Commonwealth Ave\, Newton Center \nOur mission is to promote real healthcare and raise funds for those in need in Israel and Ukraine \nEntrance fee – $10 in advance; $20 at the door \nPay via Zelle at 978-760-5065 or using the button below. \nAdditional donations to help Israel and Ukraine are welcome. \nQuestions? Contact Mariya Fishman at 978-760-5065 or mta_mariya@yahoo.com. \n\nBUY TICKETS \n\nFOR PROVIDERS
URL:https://www.centermakor.org/event/health-fair-2024/
CATEGORIES:Community Events
ATTACH;FMTTYPE=image/jpeg:https://www.centermakor.org/wp-content/uploads/2024/08/health-fair-no-qr.jpg
END:VEVENT
BEGIN:VEVENT
DTSTART;VALUE=DATE:20240922
DTEND;VALUE=DATE:20240923
DTSTAMP:20260423T172456
CREATED:20240906T171735Z
LAST-MODIFIED:20240906T171735Z
UID:21956-1726963200-1727049599@www.centermakor.org
SUMMARY:Crisis on Campus: Antisemitism\, Zionism and the Future of Higher Education
DESCRIPTION:Dear all\, \nThe MIT Jewish Alumni Alliance (MITJAA) is proud to be an official supporter of Crisis on Campus: Antisemitism\, Zionism and the Future of Higher Education\, an event organized by the Harvard Jewish Alumni Alliance (HJAA). The event will take place on Sunday\, September 22\, 2024 at the Harvard’s Sanders Theater. \nKeynote speakers at the event are: \nEylon Levy\, who served as an Israeli Government Spokesman in the October 7 War with Hamas and is currently a co-founder of the Israeli Citizen Spokespersons’ Office and a host of “State of the Nation” podcast; \nDr. Einat Wilf\, who was a member of the Israeli Parliament from 2010 to 2013\, where she served as Chair of the Education Committee and was a Member of the Foreign Affairs and Defense Committee. She is a leading thinker on Israel\, Zionism\, foreign policy and education\, and an author of seven books; \nAmbassador Deborah Lipstadt\, who was confirmed by the U.S. Senate on March 30\, 2022 as the Special Envoy to Monitor and Combat Antisemitism; and \nDara Horn\, the award-winning author of six books\, including the latest essay collection “People Love Dead Jews”. \nMore information and tickets may be found at the following link: https://harvardjewishalumni.org/upcoming-event/ \nPlease contact yelya.margolin@gmail.com if you have any questions. \nLEARN MORE & TIX
URL:https://www.centermakor.org/event/crisis-on-campus/
CATEGORIES:Community Events
ATTACH;FMTTYPE=image/jpeg:https://www.centermakor.org/wp-content/uploads/2024/09/summit-at-sanders-rect-1024x614-1.jpg
END:VEVENT
BEGIN:VEVENT
DTSTART;TZID=America/New_York:20240926T193000
DTEND;TZID=America/New_York:20240926T213000
DTSTAMP:20260423T172456
CREATED:20240919T142356Z
LAST-MODIFIED:20240919T142410Z
UID:22078-1727379000-1727386200@www.centermakor.org
SUMMARY:Klezmer Across Eras: Itan Dayan Klezmer Quintet in Concert
DESCRIPTION:Klezmer Across Eras: Itan Dayan Klezmer Quintet in Concert \nAn evening of vibrant traditional klezmer\, holiday classics\, and some exciting new surprises by Itay Dayan and four fellow klezmorim. \nThe core of the program performed by these five talented musicians from the klezmer world and beyond is Dayan’s new album\, Hoffman’s Farewell. This album draws inspiration from The Hoffman Book\, a collection of klezmer tunes curated in 1927 by musician Joseph Hoffman and preserved privately within his family until its publication in 2023. \nEarly Bird ($22) ticket sales end Sep 22nd. $27 Sep 23-26. $35 at the door. \nTICKETS
URL:https://www.centermakor.org/event/klezmer-across-eras/
LOCATION:Congregation Kehillath Israel\, 384 Harvard Street\, Brookline\, MA\, 02446\, United States
CATEGORIES:Campus Events
ATTACH;FMTTYPE=image/jpeg:https://www.centermakor.org/wp-content/uploads/2024/09/Klezmer-across-eras.jpg
END:VEVENT
BEGIN:VEVENT
DTSTART;TZID=America/New_York:20240928T180000
DTEND;TZID=America/New_York:20240928T193000
DTSTAMP:20260423T172456
CREATED:20240915T152652Z
LAST-MODIFIED:20240915T152652Z
UID:22017-1727546400-1727551800@www.centermakor.org
SUMMARY:Три поросёнка
DESCRIPTION:Театр на крыше\nприглашает вас на спектакль \nТри поросёнка\nМузыкальная сказка для детей с 3 лет \nСамый подходящий спектакль для первого похода в театр! \n\nО спектакле \n\nЗаказать билеты! \n\n\n\nЦена билета $35\nВнимание! Оплата производится наличными при входе! \n\nВ нашем камерном театре мало мест. Билеты закончатся очень быстро. Если вы хотите посмотреть – не откладывайте заказ билетов. А если вы почему-либо не можете прийти на спектакль – не забудьте отменить ваш заказ.
URL:https://www.centermakor.org/event/three-little-pigs-7/
LOCATION:Театр на крыше\, 50 Kearney Road\, Needham\, 02494\, United States
CATEGORIES:Community Events,Kids Events
ATTACH;FMTTYPE=image/jpeg:https://www.centermakor.org/wp-content/uploads/2024/02/Три-поросёнка.jpg
END:VEVENT
BEGIN:VEVENT
DTSTART;TZID=America/New_York:20240929T170000
DTEND;TZID=America/New_York:20240929T183000
DTSTAMP:20260423T172456
CREATED:20240915T152653Z
LAST-MODIFIED:20240915T152653Z
UID:22018-1727629200-1727634600@www.centermakor.org
SUMMARY:Три поросёнка
DESCRIPTION:Театр на крыше\nприглашает вас на спектакль \nТри поросёнка\nМузыкальная сказка для детей с 3 лет \nСамый подходящий спектакль для первого похода в театр! \n\nО спектакле \n\nЗаказать билеты! \n\n\n\nЦена билета $35\nВнимание! Оплата производится наличными при входе! \n\nВ нашем камерном театре мало мест. Билеты закончатся очень быстро. Если вы хотите посмотреть – не откладывайте заказ билетов. А если вы почему-либо не можете прийти на спектакль – не забудьте отменить ваш заказ.
URL:https://www.centermakor.org/event/three-little-pigs-8/
LOCATION:Театр на крыше\, 50 Kearney Road\, Needham\, 02494\, United States
CATEGORIES:Community Events,Kids Events
ATTACH;FMTTYPE=image/jpeg:https://www.centermakor.org/wp-content/uploads/2024/02/Три-поросёнка.jpg
END:VEVENT
END:VCALENDAR