BEGIN:VCALENDAR
VERSION:2.0
PRODID:-//Center Makor - ECPv6.15.20//NONSGML v1.0//EN
CALSCALE:GREGORIAN
METHOD:PUBLISH
X-WR-CALNAME:Center Makor
X-ORIGINAL-URL:https://www.centermakor.org
X-WR-CALDESC:Events for Center Makor
REFRESH-INTERVAL;VALUE=DURATION:PT1H
X-Robots-Tag:noindex
X-PUBLISHED-TTL:PT1H
BEGIN:VTIMEZONE
TZID:America/New_York
BEGIN:DAYLIGHT
TZOFFSETFROM:-0500
TZOFFSETTO:-0400
TZNAME:EDT
DTSTART:20230312T070000
END:DAYLIGHT
BEGIN:STANDARD
TZOFFSETFROM:-0400
TZOFFSETTO:-0500
TZNAME:EST
DTSTART:20231105T060000
END:STANDARD
BEGIN:DAYLIGHT
TZOFFSETFROM:-0500
TZOFFSETTO:-0400
TZNAME:EDT
DTSTART:20240310T070000
END:DAYLIGHT
BEGIN:STANDARD
TZOFFSETFROM:-0400
TZOFFSETTO:-0500
TZNAME:EST
DTSTART:20241103T060000
END:STANDARD
BEGIN:DAYLIGHT
TZOFFSETFROM:-0500
TZOFFSETTO:-0400
TZNAME:EDT
DTSTART:20250309T070000
END:DAYLIGHT
BEGIN:STANDARD
TZOFFSETFROM:-0400
TZOFFSETTO:-0500
TZNAME:EST
DTSTART:20251102T060000
END:STANDARD
END:VTIMEZONE
BEGIN:VTIMEZONE
TZID:America/Halifax
BEGIN:DAYLIGHT
TZOFFSETFROM:-0400
TZOFFSETTO:-0300
TZNAME:ADT
DTSTART:20230312T060000
END:DAYLIGHT
BEGIN:STANDARD
TZOFFSETFROM:-0300
TZOFFSETTO:-0400
TZNAME:AST
DTSTART:20231105T050000
END:STANDARD
BEGIN:DAYLIGHT
TZOFFSETFROM:-0400
TZOFFSETTO:-0300
TZNAME:ADT
DTSTART:20240310T060000
END:DAYLIGHT
BEGIN:STANDARD
TZOFFSETFROM:-0300
TZOFFSETTO:-0400
TZNAME:AST
DTSTART:20241103T050000
END:STANDARD
BEGIN:DAYLIGHT
TZOFFSETFROM:-0400
TZOFFSETTO:-0300
TZNAME:ADT
DTSTART:20250309T060000
END:DAYLIGHT
BEGIN:STANDARD
TZOFFSETFROM:-0300
TZOFFSETTO:-0400
TZNAME:AST
DTSTART:20251102T050000
END:STANDARD
END:VTIMEZONE
BEGIN:VEVENT
DTSTART;TZID=America/New_York:20241001T193000
DTEND;TZID=America/New_York:20241001T213000
DTSTAMP:20260423T190513
CREATED:20240915T201135Z
LAST-MODIFIED:20240915T201205Z
UID:22032-1727811000-1727818200@www.centermakor.org
SUMMARY:Александр Городницкий – «И жить ещё надежде»
DESCRIPTION:Александр Городницкий\nИ жить ещё надежде\nТворческая встреча \nВ программе стихи и песни разных лет (1953- 2024). Презентация новых книг\, дисков и фильмов. \nБилеты по телефону 617-232-8820\, так же их можно заказать послав платеж по Venmo: @Ilya-Klebanov или Paypal: petropolbooks@gmail.com (с комменатрием: городницкий + количество билетов). Цена: $40\, $50 в день выступления. \n«Атланты держат небо»\, «У Геркулесовых столбов»\, «На материк»\, «Над Канадой небо сине»\, «Жена французского посла»\, «Снег»\, «Перекаты»\, «Кожаные куртки\, брошенные в угол…» («Песня полярных летчиков») – эти и многие другие песни Александра Моисеевича Городницкого давно стали народными\, а сам автор живым классиком. Его имя хорошо знакомо всем любителям авторской песни\, оно стоит в одном ряду с именами Владимира Высоцкого\, Булата Окуджавы и Юрия Визбора. Александр Городницкий не только один из основоположников жанра авторской песни\, но и ученый с мировым именем\, известный исследователь в области геологии и геофизики Мирового океана. Стихи и песни Александра Городницкого переведены на многие языки\, а песня «Атланты держат небо на каменных руках…» стала официальным гимном Эрмитажа – крупнейшего музея мира. Именем Александра Городницкого названы малая планета Солнечной системы Gorodnitskij и перевал в Саянских горах. \nБИЛЕТЫ \nMIT building 4\, room 270 (2nd floor)\, 182 Memorial Dr\, Cambridge\, MA 02142-1318\, United States
URL:https://www.centermakor.org/event/gorodnitskij/
LOCATION:Книжный магазин Петрополь\, 44 Mechanic St.\, Newton\, MA\, 02464\, United States
CATEGORIES:Community Events
ATTACH;FMTTYPE=image/jpeg:https://www.centermakor.org/wp-content/uploads/2024/09/городницкий-2024.jpg
END:VEVENT
BEGIN:VEVENT
DTSTART;TZID=America/New_York:20241005T180000
DTEND;TZID=America/New_York:20241005T193000
DTSTAMP:20260423T190513
CREATED:20240915T152655Z
LAST-MODIFIED:20240915T152655Z
UID:22019-1728151200-1728156600@www.centermakor.org
SUMMARY:Три поросёнка
DESCRIPTION:Театр на крыше\nприглашает вас на спектакль \nТри поросёнка\nМузыкальная сказка для детей с 3 лет \nСамый подходящий спектакль для первого похода в театр! \n\nО спектакле \n\nЗаказать билеты! \n\n\n\nЦена билета $35\nВнимание! Оплата производится наличными при входе! \n\nВ нашем камерном театре мало мест. Билеты закончатся очень быстро. Если вы хотите посмотреть – не откладывайте заказ билетов. А если вы почему-либо не можете прийти на спектакль – не забудьте отменить ваш заказ.
URL:https://www.centermakor.org/event/three-little-pigs-9/
LOCATION:Театр на крыше\, 50 Kearney Road\, Needham\, 02494\, United States
CATEGORIES:Community Events,Kids Events
ATTACH;FMTTYPE=image/jpeg:https://www.centermakor.org/wp-content/uploads/2024/02/Три-поросёнка.jpg
END:VEVENT
BEGIN:VEVENT
DTSTART;TZID=America/New_York:20241006T170000
DTEND;TZID=America/New_York:20241006T183000
DTSTAMP:20260423T190513
CREATED:20240915T152657Z
LAST-MODIFIED:20240915T152657Z
UID:22020-1728234000-1728239400@www.centermakor.org
SUMMARY:Три поросёнка
DESCRIPTION:Театр на крыше\nприглашает вас на спектакль \nТри поросёнка\nМузыкальная сказка для детей с 3 лет \nСамый подходящий спектакль для первого похода в театр! \n\nО спектакле \n\nЗаказать билеты! \n\n\n\nЦена билета $35\nВнимание! Оплата производится наличными при входе! \n\nВ нашем камерном театре мало мест. Билеты закончатся очень быстро. Если вы хотите посмотреть – не откладывайте заказ билетов. А если вы почему-либо не можете прийти на спектакль – не забудьте отменить ваш заказ.
URL:https://www.centermakor.org/event/three-little-pigs-10/
LOCATION:Театр на крыше\, 50 Kearney Road\, Needham\, 02494\, United States
CATEGORIES:Community Events,Kids Events
ATTACH;FMTTYPE=image/jpeg:https://www.centermakor.org/wp-content/uploads/2024/02/Три-поросёнка.jpg
END:VEVENT
BEGIN:VEVENT
DTSTART;TZID=America/New_York:20241007T190000
DTEND;TZID=America/New_York:20241007T210000
DTSTAMP:20260423T190513
CREATED:20240807T193301Z
LAST-MODIFIED:20240928T103815Z
UID:21700-1728327600-1728334800@www.centermakor.org
SUMMARY:An Evening of Remembrance & Hope
DESCRIPTION:The event has sold out and we have opened a waitlist.If you/people in your party are no longer able/wish to attend\, please complete this form so we may accommodate more people. \nWe proudly stand in solidarity with our partner\, the Foundation to Combat Antisemitism (FCAS). #StandUpToJewishHate \nAn Evening of Remembrance & Hope\nMonday\, October 7 | 7:00 p.m.\nWang Theatre\n270 Tremont Street\, Boston \n\n\n\nOn October 7\, we woke up to a different world.\nHamas waged a terror attack on Israel\, killing over 1\,200 Israelis and taking more than 250 hostage — the greatest atrocities committed against Jews since the Holocaust. Today\, over 100 hostages are still missing\, including the bodies of those who died in captivity. \nAmid ongoing heartache and devastation\, CJP — alongside the Jewish Community Relations Council of Greater Boston\, the Israeli-American Council (IAC)\, the Consulate General of Israel to New England\, and synagogues and partners across Greater Boston — invites you and our entire community to commemorate the first anniversary of October 7 together. \nThe traumas of this past year have impacted each one of us differently and we don’t know what will unfold between now\, October 7\, and even beyond. But this evening will give us the opportunity to be with one another\, and to grieve as a community. \nThe event will feature stories from those most directly affected on or by October 7\, music to heal our souls\, inspiring speakers to remind us of the resilient spirit of Israel and Israelis\, and opportunities to mourn\, honor survivors and heroes\, and fill one another with strength and hope for our collective future. \nTickets are non-transferable and seating is general admission/first come\, first served. IDs will be required to enter the event. You must register to get a ticket. \nIf you have any questions or need special accommodations\, please contact us. \n \n\n\nREGISTER \n\n\n     
URL:https://www.centermakor.org/event/remembrance-unity-hope/
CATEGORIES:Makor Events
ATTACH;FMTTYPE=image/jpeg:https://www.centermakor.org/wp-content/uploads/2024/08/rememberance-hope.jpg
ORGANIZER;CN="Combined Jewish Philanthropies":MAILTO:info@cjp.org
END:VEVENT
BEGIN:VEVENT
DTSTART;TZID=America/New_York:20241013T190000
DTEND;TZID=America/New_York:20241013T210000
DTSTAMP:20260423T190513
CREATED:20240922T185021Z
LAST-MODIFIED:20241007T190224Z
UID:22107-1728846000-1728853200@www.centermakor.org
SUMMARY:Вероника Долина. «Когда была я подростком».
DESCRIPTION:Внимание! Концерт перенесён в помещение Театра на крыше! 50 Kearney Road\, Needham\, MA 02494. theaterontheroof.com \n \nВероника Долина\nКогда была я подростком\nБард и виртуоз душевных струн Вероника Долина выступает в Бостоне! \nБилеты без комиссии по телефону 617-232-8820. Так же их можно заказать послав нам Venmo: @Ilya-Klebanov или на Paypal: petropolbooks@gmail.com с комментарием “ваш имэйл + количество билетов” Цена: $40 \nОт Вероники Долиной: “Хотелось бы начать сезон со старинных песен. С Бальзама\, Табака\, Китайского ресторана\, Не расти\, дитя мое… Стихам много лет\, выражение лица автора несколько изменилось\, но все узнаваемо – поиск нормального в неблагоустроенном мире\, крохотные успехи и победы\, их-то и успевает запечатать в строчках\, тот кто пишет стихи ежедневно\, как это делаю я. Настроимся на что? Честно говоря \, когда по французски хотят сказать романтика\, то это называется бесповоротно – романс.” \nВеронику Долину представлять не нужно. Ее песни входят в сокровищницу русскоязычной песенно-поэтической культуры. Поэтические образы\, создаваемые Вероникой Долиной\, незабываемы\, осязаемы\, сказочны и понятны… это маленькие спектакли о нас… мы\, также как её герои\, боимся поскользнуться в гололёд\, мы ожидаем чуда\, которое\, наверняка\, не произойдёт\, мы мечтаем о светлой\, счастливой\, спокойной жизни\, где день будет день\, и готовы на подвиги ради любви. \nДаже согласны выучиться шить… Легкие летучие строчки Вероники с нами всю жизнь. «Не пускайте поэта в Париж…» «Сретенка…» «Мой дом летает.» Уж точно два поколения женщин обучились летать по этим песням. А автор пишет новые\, отрицая любую робость и покорность\, давая нам ощущение своего могущества. И все же – без испытания драмой не взрослеет человек. Даже на фоне мировых катастроф поэт умеет видеть беззащитность одного-единственного живого существа. \nБИЛЕТЫ
URL:https://www.centermakor.org/event/veronica-dolina/
LOCATION:Театр на крыше\, 50 Kearney Road\, Needham\, 02494\, United States
CATEGORIES:Community Events
ATTACH;FMTTYPE=image/jpeg:https://www.centermakor.org/wp-content/uploads/2024/09/dolina.jpg
END:VEVENT
BEGIN:VEVENT
DTSTART;TZID=America/New_York:20241013T190000
DTEND;TZID=America/New_York:20241013T210000
DTSTAMP:20260423T190513
CREATED:20240922T212143Z
LAST-MODIFIED:20241007T203209Z
UID:22115-1728846000-1728853200@www.centermakor.org
SUMMARY:Давид Шарп. Война на 7 фронтах.
DESCRIPTION:Давид Шарп\nВойна на 7 фронтах\nО лекции \nБойня 7 октября – как такое стало возможным: провалы и порочная концепция\n***\nВойна на 7 фронтов: военный потенциал противника (ХАМАС и союзники в Газе\, «Хизбалла»\, Сирия\, Иран\, проиранские силы в Ираке\, хуситы\, террористы в Иудее и Самарии (Западный берег).\n***\nПроблема заложников;\nЦели Израиля и их (не)реализация; тактика; ход боевых действий и их результаты.\nТуннели\, ракеты террористов\, бои в застройке и под землей;\n***\nИран как главная угроза\, и движущая сила регионального противостояния Израилю; обмены ударами между сторонами\,\nРоссийско-иранское военно-техническое сотрудничество\, взаимные поставки вооружений.\nЧем это сотрудничество угрожает Израилю и Украине.\n***\nОтветы на вопросы зрителей о войне в Израиле\, в Украине\, ближневосточной политике\, смежные темы и т.п. \nБИЛЕТЫ \nЦена билета – $35. У дверей – $45. Принимаем коллективные заявки со скидкой\, начиная от 6 чел. Обращаться по тел 617 771-4870 или по имейл centermakor@gmail.com. \nОбратите внимание! Мы начали продавать билеты через платформу Zeffy. Эта платформа позволяет некоммерческим организациям (nonprofits) получать 100% от пожертвований и продаж билетов\, покрывая расходы на покрытие комиссий за обработку кредитных карт. При оформлении заказа они просят дополнительное пожертвование для покрытия своих расходов. Добавлять ли пожертвование в пользу Zeffy и в каком размере\, зависит только от вас. \nНемного о себе\nРодился в Киеве\, репатриировался в Израиль незадолго до распада СССР. \nС раннего детства интересовался историей и в частности военной\, внешней политикой и конечно же военным делом\, а также актуальными военными событиями. Интерес к происходящему в Израиле и его истории уже давным-давно на первом месте в моей шкале приоритетов. \nОгромная заслуга в этом\, как и в том\, что помог мне привить способность к критическому мышлению\, принадлежит моему отцу. И за это я ему очень благодарен. \nПосле приезда в Израиль в 1991 я служил в армии\, учился\, и в бытность студентом устроился переводчиком в издательский дом ”Новости недели”. На тот момент это казалось всего лишь студенческой подработкой. Но со временем моя сфера деятельности в газете расширилась. Далее была должность новостного редактора\, а затем я получил возможность совмещать\, что называется\, приятное с полезным — заниматься той тематикой\, которая меня всегда особенно привлекала: военные реалии в Израиле и мире\, сфера безопасности\, ближневосточная политика. Так я стал военным корреспондентом и обозревателем\, продолжая специализироваться в данных областях долгие годы как в печатных\, так и электронных СМИ разных стран. Консультировал и консультирую госслужащих\, дипломатов\, различные организации\, а также НИИ в ряде стран. \nРегулярно выступаю на радио и ТВ\, а также даю интервью электронным СМИ разных стран. С конца 2023 года веду собственный YouTube-канал. Одной из главных целей его создания было желание донести до зрителей то\, что частично или полностью не удается сделать в рамках интервью различным СМИ. \nМой YouTube-канал: https://www.youtube.com/@DavidSharp-eu1on \nБИЛЕТЫ
URL:https://www.centermakor.org/event/david-sharp/
LOCATION:Shaloh House Jewish Russian Center\, 29 Chestnut Avenue\, Brighton\, MA\, United States
CATEGORIES:Makor Events
ATTACH;FMTTYPE=image/jpeg:https://www.centermakor.org/wp-content/uploads/2024/09/DAVID-SHARP.jpg
END:VEVENT
BEGIN:VEVENT
DTSTART;TZID=America/Halifax:20241019T193000
DTEND;TZID=America/Halifax:20241019T213000
DTSTAMP:20260423T190513
CREATED:20240919T031342Z
LAST-MODIFIED:20240921T001438Z
UID:22065-1729366200-1729373400@www.centermakor.org
SUMMARY:Виктор Шендерович. Потерпевший Гольдинер.
DESCRIPTION:Театр на крыше\nприглашает вас на спектакль \nПотерпевший Гольдинер\nЛирическая комедия \nАвтор: В. Шендерович \nОна – американка с устоявшимся положением\, полноправный гражданин своей страны. Он – старый еврей\, эмигрировавший из Советского Союза в новую для него реальность. Она сбивает его на улочках Манхэттэна\, и суд приговаривает ее в качестве наказания ухаживать за сбитым ею человеком. Герои вынуждены проводить много времени в обществе друг друга. В результате оказывается\, что это общение необходимо обоим\, а у потерпевшего есть шанс на десять недель стать не одиноким и даже счастливым. \nРЕЖИССЕР – Людмила Старобинец \nО спектакле     Заказ билетов \n  \n\nЦена билета $50\, пенсионерам и студентам $35\nВ цену билета включен буфет. \nВнимание! Оплата производится наличными при входе!
URL:https://www.centermakor.org/event/goldiner-10/
LOCATION:Театр на крыше\, 50 Kearney Road\, Needham\, 02494\, United States
CATEGORIES:Community Events
ATTACH;FMTTYPE=image/jpeg:https://www.centermakor.org/wp-content/uploads/2023/03/Afisha_Goldiner_FINAL.jpg
END:VEVENT
BEGIN:VEVENT
DTSTART;TZID=America/New_York:20241026T190000
DTEND;TZID=America/New_York:20241026T210000
DTSTAMP:20260423T190513
CREATED:20240919T030932Z
LAST-MODIFIED:20240919T031033Z
UID:22061-1729969200-1729976400@www.centermakor.org
SUMMARY:2024 Opening Event – MA Israeli Women Organization
DESCRIPTION:אירוע פתיחה מיוחד לנשים ישראליות בבוסטון. \nהצטרפו אלינו לערב מהנה ומרגש\, בו ותיקות וחדשות ייפגשו\, יתחברו ויחגגו את הקהילה הישראלית המיוחדת שלנו. מצפות לכן הפתעות\, חוויות מרתקות\, ואווירה חמה וביתית. זה הזמן להכיר\, לשתף וליהנות מקשרים חדשים. אל תפספסי את ההזדמנות להיות חלק משנה שלמה של אירועים מעצימים ומחברים.\n \n\nTICKETS \nSat\, October 26\, 2024 07:00 PM – 09:00 PM EDT\n45 Puddingstone Ln\, Newton\, MA 02459\, USA
URL:https://www.centermakor.org/event/2024-opening-event/
CATEGORIES:Community Events
ATTACH;FMTTYPE=image/jpeg:https://www.centermakor.org/wp-content/uploads/2024/09/bostoniyot.jpg
END:VEVENT
BEGIN:VEVENT
DTSTART;TZID=America/New_York:20241026T193000
DTEND;TZID=America/New_York:20241026T213000
DTSTAMP:20260423T190513
CREATED:20240921T001333Z
LAST-MODIFIED:20240921T001419Z
UID:22089-1729971000-1729978200@www.centermakor.org
SUMMARY:Голубцы по объявлению
DESCRIPTION:Театр на крыше\nприглашает вас на спектакль \nГолубцы по объявлению\nАнтон Финк \nЛирическая комедия для субботнего вечера – легкая\, забавная\, с узнаваемыми ситуациями семейного быта. Но и с неожиданными экстравагантными поворотами! \n\nО спектакле     Заказ билетов \n  \n\nЦена билета $50\, пенсионерам и студентам $35\nВ цену билета включен буфет. \nВнимание! Оплата производится наличными при входе!
URL:https://www.centermakor.org/event/golubcy-14/
LOCATION:Театр на крыше\, 50 Kearney Road\, Needham\, 02494\, United States
CATEGORIES:Community Events
ATTACH;FMTTYPE=image/jpeg:https://www.centermakor.org/wp-content/uploads/2020/02/голубцы-по-объявлению.jpg
END:VEVENT
BEGIN:VEVENT
DTSTART;TZID=America/New_York:20241027T170000
DTEND;TZID=America/New_York:20241027T190000
DTSTAMP:20260423T190513
CREATED:20240103T052500Z
LAST-MODIFIED:20241024T172229Z
UID:19053-1730048400-1730055600@www.centermakor.org
SUMMARY:Resonating Earth
DESCRIPTION:Center Makor and Congregation Kehillath Israel\ninvite you\nto an unforgettable evening of music\, art\, dance\, and community; a 1-hour concert followed by an art exhibition and social gathering! \nResonating Earth\nThis immersive event will feature: \n\nA captivating concert: Resonating Earth\, featuring Steinway concert pianist Carolyn Enger. This performance explores the beauty and power of our natural world through a blend of ambient music and stunning visuals.\nAn art exhibition: Discover the works of Israeli artist Arie Perelman.\nDance and celebration.\nLight refreshments and beverages: Savor delicious treats while connecting with fellow community members.\n\nProceeds from this event will benefit Beinechem Uveinehem\, a volunteer-based organization in Jerusalem which provides vital services for evacuees from the North in Israel. \nDate: Sunday\, October 27\nTime: 5:00 PM – 7:00 PM\nLocation: Congregation Kehillath Israel\, 384 Harvard St.\, Brookline \nPlease note: For yours and other guests’ security and peace of mind: \nRegistration is required for entry. No walk-ins will be permitted. For security reasons\, please avoid bringing large bags. Bags may be subject to search. \nWe look forward to welcoming you to this inspiring event! \nTICKETS \nTickets: $30. Seniors and students – $25. \nPlease note. We sell tickets via Zeffy – online platform that covers transaction fees for nonprofits. At checkout they ask for an optional donation to cover their expenses. Whether to add donation to Zeffy\, and how much\, is entirely up to you. \nAbout the concert: \nFrom the oil spill in the Gulf of Mexico to coal burning plants in the Ruhr Valley of Germany\, from the glorious heights of mountain ranges in Alaska to mountains of potassium waste in Eastern Germany\, Resonating Earth was created in response to the climate crisis. A stylistically fluid creation with a wide range of ambient music\, including Bach\, Nico Muhly\, Pia Møller Johansen\, Missy Mazzoli\, Philip Glass\, Marcos Balter\, Iman Habibi and Caroline Shaw; alongside stunning imagery of the environment by Peabody Award-winning producer Elliott Forrest(WQXR)\, visual artist Myles Aronowitz\, and internationally-exhibited environmental activist and photographer J Henry Fair\, Resonating Earth creates a soundscape focusing on the beauty in our environment and inspires environmental activism in an artistic\, musically immersive way. \nResonating Earth seeks to transport listeners to a still\, meditative space\, allowing them to decompress from their daily lives\, and invites introspection about humanity’s place on the planet\, inspiring action to protect our beautiful\, fragile world. \nLearn more at carolynenger.com/resonating-earth \nLooking forward to seeing everyone! \nLearn more about Beinechem Uveinehem
URL:https://www.centermakor.org/event/resonating-earth/
LOCATION:Congregation Kehillath Israel\, 384 Harvard Street\, Brookline\, MA\, 02446\, United States
CATEGORIES:Makor Events
ATTACH;FMTTYPE=image/jpeg:https://www.centermakor.org/wp-content/uploads/2024/10/resonating_earth_fb_event.jpg
END:VEVENT
END:VCALENDAR