BEGIN:VCALENDAR
VERSION:2.0
PRODID:-//Center Makor - ECPv6.15.20//NONSGML v1.0//EN
CALSCALE:GREGORIAN
METHOD:PUBLISH
X-ORIGINAL-URL:https://www.centermakor.org
X-WR-CALDESC:Events for Center Makor
REFRESH-INTERVAL;VALUE=DURATION:PT1H
X-Robots-Tag:noindex
X-PUBLISHED-TTL:PT1H
BEGIN:VTIMEZONE
TZID:America/New_York
BEGIN:DAYLIGHT
TZOFFSETFROM:-0500
TZOFFSETTO:-0400
TZNAME:EDT
DTSTART:20230312T070000
END:DAYLIGHT
BEGIN:STANDARD
TZOFFSETFROM:-0400
TZOFFSETTO:-0500
TZNAME:EST
DTSTART:20231105T060000
END:STANDARD
BEGIN:DAYLIGHT
TZOFFSETFROM:-0500
TZOFFSETTO:-0400
TZNAME:EDT
DTSTART:20240310T070000
END:DAYLIGHT
BEGIN:STANDARD
TZOFFSETFROM:-0400
TZOFFSETTO:-0500
TZNAME:EST
DTSTART:20241103T060000
END:STANDARD
BEGIN:DAYLIGHT
TZOFFSETFROM:-0500
TZOFFSETTO:-0400
TZNAME:EDT
DTSTART:20250309T070000
END:DAYLIGHT
BEGIN:STANDARD
TZOFFSETFROM:-0400
TZOFFSETTO:-0500
TZNAME:EST
DTSTART:20251102T060000
END:STANDARD
END:VTIMEZONE
BEGIN:VTIMEZONE
TZID:America/Halifax
BEGIN:DAYLIGHT
TZOFFSETFROM:-0400
TZOFFSETTO:-0300
TZNAME:ADT
DTSTART:20230312T060000
END:DAYLIGHT
BEGIN:STANDARD
TZOFFSETFROM:-0300
TZOFFSETTO:-0400
TZNAME:AST
DTSTART:20231105T050000
END:STANDARD
BEGIN:DAYLIGHT
TZOFFSETFROM:-0400
TZOFFSETTO:-0300
TZNAME:ADT
DTSTART:20240310T060000
END:DAYLIGHT
BEGIN:STANDARD
TZOFFSETFROM:-0300
TZOFFSETTO:-0400
TZNAME:AST
DTSTART:20241103T050000
END:STANDARD
BEGIN:DAYLIGHT
TZOFFSETFROM:-0400
TZOFFSETTO:-0300
TZNAME:ADT
DTSTART:20250309T060000
END:DAYLIGHT
BEGIN:STANDARD
TZOFFSETFROM:-0300
TZOFFSETTO:-0400
TZNAME:AST
DTSTART:20251102T050000
END:STANDARD
END:VTIMEZONE
BEGIN:VEVENT
DTSTART;TZID=America/New_York:20241201T170000
DTEND;TZID=America/New_York:20241201T190000
DTSTAMP:20260424T014214
CREATED:20241112T223656Z
LAST-MODIFIED:20241112T223656Z
UID:22545-1733072400-1733079600@www.centermakor.org
SUMMARY:Буратино
DESCRIPTION:Театр на крыше\nприглашает вас на спектакль \nБуратино\nдля детей с 4 лет \nСпектакль идёт с обновлённым составом! \nИстория настолько известна\, что и рассказывать не надо. В поисках золотого ключика Буратино встречает добрых и не очень героев\, заглядывает в страну Дураков и находит настоящий театр прямо в кaморке Папы Карло. Ваши дети познакомятся с героями «Буратино»: Мальвиной\, Пьеро\, Арлекино\, Карабасом Барабасом\, Черепахой Тортилой и многими другими\, услышат авторские песни под живое музыкальное сопровождение\, а\, главное\, получат море удовольствия! \nО спектакле \nЗаказать билеты! \n\nЦена билета $30\nВ цену билета включен буфет. \nВнимание! Оплата производится наличными при входе!
URL:https://www.centermakor.org/event/buratino-22/
LOCATION:Театр на крыше\, 50 Kearney Road\, Needham\, 02494\, United States
CATEGORIES:Community Events,Kids Events
ATTACH;FMTTYPE=image/png:https://www.centermakor.org/wp-content/uploads/2018/10/BuratinoAfisha.png
END:VEVENT
BEGIN:VEVENT
DTSTART;TZID=America/New_York:20241201T173000
DTEND;TZID=America/New_York:20241201T210000
DTSTAMP:20260424T014214
CREATED:20241119T192010Z
LAST-MODIFIED:20241119T192036Z
UID:22647-1733074200-1733086800@www.centermakor.org
SUMMARY:Holiday Magic by Candlelight
DESCRIPTION:Holiday Magic by Candlelight with Brio Sonores and Olga Lisovska\n✨ For the First Time: Anniversary Concert and Album Launch – Brio Sonores! 🎉 \n🎤Experience an extraordinary evening with Brio Sonores\, the award-winning Moldovan pop-opera sensation and winners of the 4th season of Romania’s Got Talent. Renowned for their unique crossover style\, Brio Sonores blends pop\, opera\, and traditional music in captivating performances.\nThis special event will feature critically-acclaimed soprano Olga Lisovska\, joining Brio Sonores on stage for beloved duets that will take your breath away. \nThis evening will not only be a musical journey but also an opportunity to hear the band’s new album for the first time. \nWe promise an emotional atmosphere\, filled with soul-stirring music that will reach beyond the stage\, straight to your hearts. Whether you’ve been long-time fans or are discovering this extraordinary group for the first time\, we guarantee it will be a magical experience! \n📅 Date: Sunday\, December 1\, 2024 at 6PM\n📍 Location: Newton City Hall – 1000 Commonwealth Ave\, Newton\, MA \nEvent Program:\n5:30 PM – 6:00 PM: 👐 Welcome!\n6:00 PM – 8:00 PM: 🎤 Brio Sonores Concert – A live\, exceptional performance\, including new songs from the album.\n8:00 PM – 9:00 PM: 📸 Reception\, Meet and Greet – Meet the Brio Sonores artists\, take photos\, and chat with them. \nThis is the perfect opportunity to meet the members of Brio Sonores in person\, take pictures with them\, and share the joy of this special anniversary moment. We look forward to welcoming you to this unique event! \n🎟️ Reserve your tickets now for $65 and be part of a night full of special moments and surprises! \nTICKETS
URL:https://www.centermakor.org/event/holiday-magic-by-candlelight/
LOCATION:Newton City Hall\, 1000 Commonwealth Avenue\, Newton\, MA\, 02459\, United States
CATEGORIES:Community Events
ATTACH;FMTTYPE=image/jpeg:https://www.centermakor.org/wp-content/uploads/2024/11/holiday-magic-candlelight.jpg
END:VEVENT
BEGIN:VEVENT
DTSTART;TZID=America/Halifax:20241207T193000
DTEND;TZID=America/Halifax:20241207T213000
DTSTAMP:20260424T014214
CREATED:20241112T223804Z
LAST-MODIFIED:20241112T223804Z
UID:22549-1733599800-1733607000@www.centermakor.org
SUMMARY:Виктор Шендерович. Потерпевший Гольдинер.
DESCRIPTION:Театр на крыше\nприглашает вас на спектакль \nПотерпевший Гольдинер\nЛирическая комедия \nАвтор: В. Шендерович \nОна – американка с устоявшимся положением\, полноправный гражданин своей страны. Он – старый еврей\, эмигрировавший из Советского Союза в новую для него реальность. Она сбивает его на улочках Манхэттэна\, и суд приговаривает ее в качестве наказания ухаживать за сбитым ею человеком. Герои вынуждены проводить много времени в обществе друг друга. В результате оказывается\, что это общение необходимо обоим\, а у потерпевшего есть шанс на десять недель стать не одиноким и даже счастливым. \nРЕЖИССЕР – Людмила Старобинец \nО спектакле     Заказ билетов \n  \n\nЦена билета $50\, пенсионерам и студентам $35\nВ цену билета включен буфет. \nВнимание! Оплата производится наличными при входе!
URL:https://www.centermakor.org/event/goldiner-11/
LOCATION:Театр на крыше\, 50 Kearney Road\, Needham\, 02494\, United States
CATEGORIES:Community Events
ATTACH;FMTTYPE=image/jpeg:https://www.centermakor.org/wp-content/uploads/2023/03/Afisha_Goldiner_FINAL.jpg
END:VEVENT
BEGIN:VEVENT
DTSTART;TZID=America/New_York:20241208T130000
DTEND;TZID=America/New_York:20241208T160000
DTSTAMP:20260424T014214
CREATED:20241121T163623Z
LAST-MODIFIED:20241126T192513Z
UID:22665-1733662800-1733673600@www.centermakor.org
SUMMARY:Charitable ARTS & CRAFTS FAIR & Bake Sale at LUMEN ACADEMY
DESCRIPTION:Please join us\nfor your seasonal gift shopping\nat our\nCharitable Holiday Arts and Crafts Fair and Bake Sale\nat the LUMEN ACADEMY (Waltham) \non Sunday\, December 8\, from 1pm to 4pm\n175 Main St\, Waltham\nFree parking in the school parking lot \nWe will present a wide selection of jewelry\, paintings\, ceramics\, holiday decorations\, health and cosmetic items\, as well as bake sale by our talented local wizards! \nMusic\, light snacks and soft drinks will be provided for your enjoyment while shopping and hanging out with us! \nAll proceeds will be donated to help people in need in Ukraine and Israel\, through our trusted volunteer networks. \nFraction of the proceeds from the fair and the bake sale will also be donated to Inna Tsukrov Charity Foundation\, as few of our vendors are personally committed to supporting that charity\, and we committed to respecting strong personal donation preferences\, when possible. \nThe cause is the same\, as most of you know – both charities provide help on the ground to people in Ukraine and Israel\, we are aligned in our mission\, while the local volunteer networks and specific projects are different. \nIf you wish to actively participate in this event\, either as a vendor\, or as a volunteer\, please contact Doriana Froim at dfroim@yahoo.com\nRun by www.RememberUs.org volunteers and friends.
URL:https://www.centermakor.org/event/charitable-arts-crafts-fair/
LOCATION:Lumen Academy\, 175 Main St.\, Waltham\, MA\, 02453\, United States
CATEGORIES:Community Events
END:VEVENT
BEGIN:VEVENT
DTSTART;TZID=America/New_York:20241211T190000
DTEND;TZID=America/New_York:20241211T210000
DTSTAMP:20260424T014214
CREATED:20241202T185707Z
LAST-MODIFIED:20241202T185725Z
UID:22770-1733943600-1733950800@www.centermakor.org
SUMMARY:Паата Амонашвили. Секреты психологии согласия: вседозволенность или сотворчество.
DESCRIPTION:Лекция Пааты Амонашвили\nВседозволенность или творчество\nБилеты по телефону 617-232-8820 или послав нам платеж по PayPal: petropolbooks@gmail.com или по Venmo: @Ilya-Klebanov с комментарием (Амонашвили + ваш имэйл). Цена: $40. \nПаата Шалвович Амонашвили — психолог\, педагог\, сын (и ученик) известного педагога и философа современности Шалвы Амонашвили\, амбассадор гуманной педагогики\, доктор психологических наук\, социолог\, писатель\, Президент «Международного Центра Гуманной Педагогики»\, Рыцарь гуманной педагогики\, научный руководитель детского дошкольного образовательного учреждения «Басти Бубу» (Грузия\, Тбилиси).
URL:https://www.centermakor.org/event/paata-amonashvili/
LOCATION:Книжный магазин Петрополь\, 44 Mechanic St.\, Newton\, MA\, 02464\, United States
CATEGORIES:Community Events
ATTACH;FMTTYPE=image/jpeg:https://www.centermakor.org/wp-content/uploads/2024/12/Паата-Амонашвили.jpg
END:VEVENT
BEGIN:VEVENT
DTSTART;TZID=America/New_York:20241215T140000
DTEND;TZID=America/New_York:20241215T160000
DTSTAMP:20260424T014214
CREATED:20241206T222742Z
LAST-MODIFIED:20241206T222818Z
UID:22814-1734271200-1734278400@www.centermakor.org
SUMMARY:Porcelain War
DESCRIPTION:Porcelain War\nRuntime: 1hr 27mins\nDirected by Brendan Bellomo\, Slava Leontyev\nFeaturing Slava Leontyev\, Anya Stasenko\, Andrey Stefanov\nIn Ukrainian with English Subtitles \nCoolidge Corner Theater\nDec 13–19\nSpecial Screening on Sunday 12/15 at 2PM featuring a post-film discussion with co-directors Brendan Bellomo and Slava Leontyev and film participants Anya Stasenko and Frodo the dog. \nWinner of the 2024 Sundance Grand Jury Prize: U.S. Documentary\, Porcelain War is a stunning tribute to the resilience of the human spirit\, embodying the enduring hope and passion of ordinary people living through extraordinary circumstances. \nUnder roaring fighter jets\, Ukrainian artists Slava\, Anya\, and Andrey choose to stay behind. Defiantly finding beauty amid destruction\, they show that although it’s easy to make people afraid\, it’s hard to destroy their passion for living. \nFrom the Academy Award®–winning producer of The Cove and the Emmy® Award–winning producer of Chasing Ice\, and the team behind the Grammy® Award–winning Quincy\, Porcelain War is one of the most decorated documentary features of 2024. \nLEARN MORE & TICKETS
URL:https://www.centermakor.org/event/porcelain-war/
CATEGORIES:Community Events
ATTACH;FMTTYPE=image/jpeg:https://www.centermakor.org/wp-content/uploads/2024/12/PorWar-scaled.jpeg
END:VEVENT
BEGIN:VEVENT
DTSTART;TZID=America/New_York:20241215T170000
DTEND;TZID=America/New_York:20241215T190000
DTSTAMP:20260424T014214
CREATED:20241114T032735Z
LAST-MODIFIED:20241219T053028Z
UID:22570-1734282000-1734289200@www.centermakor.org
SUMMARY:День рождения Бабы Яги
DESCRIPTION:Театр на крыше\nприглашает вас на спектакль \nДень рождения Бабы Яги\nМузыкальная сказка для детей с 6 лет и взрослых \nБабе-Яге сегодня исполняется 100 лет. По старинному заклятию\, если в этот день за ее праздничным котлом будет 13 гостей\, то она «обнулится»\, то есть\, станет десятилетней девочкой. Это заветная мечта старухи Яги\, но не так-то просто найти в загнивающем Тмутараканском лесу столько нечистой силы. \nСумеет ли Баба-Яга добиться успеха? Увидим\, пройдя вместе с нею все колдовские шаги. \nПриходите на «День рождения Бабы-Яги»! \nО спектакле \n\nЦена билета $35\nВнимание! Оплата производится наличными при входе! \nВ нашем маленьком зале билеты без мест. Если вашим детям обязательно сидеть вместе с вами или со своими друзьями\, пожалуйста\, придите заранее\, чтобы занять места. \nЗаказать билеты можно через Eventbrite. \nЗаказать билеты! \nAttention! This performance contains a sequence of flashing lights which may affect customers who are susceptible to photosensitive epilepsy or other photosensitivity. \nВнимание! Этот спектакль содержит яркие вспышки света\, которые могут представлять опасность для людей\, страдающих эпилепсией\, припадочными расстройствами или повышенной светочувствительностью. \nВ нашем камерном театре мало мест. В связи с карантинными мерами их стало ещё меньше. Билеты закончатся очень быстро. Если вы хотите посмотреть – не откладывайте заказ билетов. А если вы почему-либо не можете прийти на спектакль – не забудьте отменить ваш заказ.
URL:https://www.centermakor.org/event/baba-yaga-12/
LOCATION:Театр на крыше\, 50 Kearney Road\, Needham\, 02494\, United States
CATEGORIES:Community Events,Kids Events
ATTACH;FMTTYPE=image/jpeg:https://www.centermakor.org/wp-content/uploads/2023/04/Баба-Яга-афиша.jpg
END:VEVENT
BEGIN:VEVENT
DTSTART;TZID=America/New_York:20241221T180000
DTEND;TZID=America/New_York:20241221T180000
DTSTAMP:20260424T014214
CREATED:20241114T032738Z
LAST-MODIFIED:20241219T053012Z
UID:22569-1734804000-1734804000@www.centermakor.org
SUMMARY:День рождения Бабы Яги
DESCRIPTION:Театр на крыше\nприглашает вас на спектакль \nДень рождения Бабы Яги\nМузыкальная сказка для детей с 6 лет и взрослых \nБабе-Яге сегодня исполняется 100 лет. По старинному заклятию\, если в этот день за ее праздничным котлом будет 13 гостей\, то она «обнулится»\, то есть\, станет десятилетней девочкой. Это заветная мечта старухи Яги\, но не так-то просто найти в загнивающем Тмутараканском лесу столько нечистой силы. \nСумеет ли Баба-Яга добиться успеха? Увидим\, пройдя вместе с нею все колдовские шаги. \nПриходите на «День рождения Бабы-Яги»! \nБилеты \n\n\n\nЦена билета $35\nВнимание! Оплата производится наличными при входе! \nВ нашем маленьком зале билеты без мест. Если вашим детям обязательно сидеть вместе с вами или со своими друзьями\, пожалуйста\, придите заранее\, чтобы занять места. \nAttention! This performance contains a sequence of flashing lights which may affect customers who are susceptible to photosensitive epilepsy or other photosensitivity. \nВнимание! Этот спектакль содержит яркие вспышки света\, которые могут представлять опасность для людей\, страдающих эпилепсией\, припадочными расстройствами или повышенной светочувствительностью. \nВ нашем камерном театре мало мест. В связи с карантинными мерами их стало ещё меньше. Билеты закончатся очень быстро. Если вы хотите посмотреть – не откладывайте заказ билетов. А если вы почему-либо не можете прийти на спектакль – не забудьте отменить ваш заказ.
URL:https://www.centermakor.org/event/baba-yaga-13/
LOCATION:Театр на крыше\, 50 Kearney Road\, Needham\, 02494\, United States
CATEGORIES:Community Events,Kids Events
ATTACH;FMTTYPE=image/jpeg:https://www.centermakor.org/wp-content/uploads/2023/04/Баба-Яга-афиша.jpg
END:VEVENT
BEGIN:VEVENT
DTSTART;TZID=America/New_York:20241221T193000
DTEND;TZID=America/New_York:20241221T223000
DTSTAMP:20260424T014214
CREATED:20241202T190018Z
LAST-MODIFIED:20241202T190018Z
UID:22775-1734809400-1734820200@www.centermakor.org
SUMMARY:Елена Якович представляет свой фильм “Анна Ахматова. Вечное присутствие.”
DESCRIPTION:Специальный показ нового документального фильма “Анна Ахматова. Вечное присутствие.” \nУникальная возможность посмотреть и обсудить с режиссером кино в которое вошли многочисленные интервью об Анне Ахматовой и ранее неизвестные исторические кадры. \nБилеты без комиссии по телефону 617-232-8820. Так же их можно заказать послав нам платеж по Venmo: @Ilya-Klebanov или PayPal: petropolbooks@gmail.com с комментарием “Aхматова + ваш имэйл”. Цена $35. \n«Королевой русской поэзии» назвал ее Дмитрий Шостакович. Королевой она и осталась в памяти тех\, кто ее знал – пережившей великую славу и горечь унижения\, растоптанной властями и сохранившей достоинство. Она прожила долгую жизнь. Звезда Серебряного века Анна Ахматова умерла 5\nмарта 1966 – по прихоти судьбы\, в день смерти Сталина. \nВ центре фильма две неизвестные пленки похорон Анны Андреевны. Обе сняты подпольно\, но с разными целями – одна\, чтобы сохранить для истории похороны великого поэта\, другая – чтобы следить за теми\, кто на них пришел. Возможно\, единственная уцелевшая оперативная съемка КГБ: уникальные кадры\, крупными планами Надежда Мандельштам\, Лев Гумилев\, Арсений Тарковский\, Иосиф Бродский … В фильме звучит голос Ахматовой и ее друзей\, впервые показана любительские пленка с ее участием\, фрагменты спектакля Гоголь-центра «Ахматова. Поэма без героя» (режиссёры Алла Демидова\, Кирилл Серебренников). Иосиф Бродский читает стихотворение Анны Ахматовой. \nИ главное – рожденная в Фонтанном доме Анна Каминская\, внучка Николая Пунина\, которую Ахматова называла своей внучкой и с которой не расставалась с конца войны и до последнего своего вздоха\, впервые рассказала о своей жизни с ней. Фильм представит автор – Елена Якович. Она расскажет об истории съемок\, о дневниках Анны Ахматовой и о детективном сюжете поиска пленок ее\nпохорон. \nЕлена Якович — режиссёр-документалист\, автор десятков документальных фильмов и сериалов\, в том числе «Прогулки с Бродским»\, «Брестское гетто»\, «Мир после Освенцима»\, «Хрустальная ночь. Еврейский погром\, 1938»\, «Мотивы Моисея Береговского»\, фильмов о Сергее Довлатове\, Василии Гроссмане\, Андрее Сахарове\, Александре Галича и др. Лауреат премии «ТЭФИ – 95» за фильм «Прогулки с Бродским»\, призер многих российских и зарубежных кинофестивалей\, обладатель Почетного приза «За выдающийся вклад в развитие еврейского кинематографа в России» (2021). Автор\nнескольких книг.
URL:https://www.centermakor.org/event/anna-akhmatova-eternal-presence/
LOCATION:Книжный магазин Петрополь\, 44 Mechanic St.\, Newton\, MA\, 02464\, United States
CATEGORIES:Community Events
ATTACH;FMTTYPE=image/jpeg:https://www.centermakor.org/wp-content/uploads/2024/12/Елена-Якович-Анна-Ахматова.jpg
END:VEVENT
BEGIN:VEVENT
DTSTART;TZID=America/New_York:20241222T130000
DTEND;TZID=America/New_York:20241222T150000
DTSTAMP:20260424T014214
CREATED:20241212T231727Z
LAST-MODIFIED:20241212T232048Z
UID:22888-1734872400-1734879600@www.centermakor.org
SUMMARY:Chanukah Kids Party
DESCRIPTION:Chanukah Kids party\nSunday\, December 22\, 1-3 pm \nMake latkes\, decorate donuts\, Lego Menorah contest and more! Finish with an exciting gelt drop! \nPLEASE NOTE: absolutely no parking in the Shaloh House parking lot; THE LOT IS RESERVED FOR THE GELT DROP. \nYou may park in the Bank of America parking lot\, 5 Chestnut Hill Ave\, Brighton \nLEARN MORE AND REGISTER
URL:https://www.centermakor.org/event/chanukah-kids-party/
LOCATION:Shaloh House Jewish Russian Center\, 29 Chestnut Avenue\, Brighton\, MA\, United States
CATEGORIES:Community Events
ATTACH;FMTTYPE=image/jpeg:https://www.centermakor.org/wp-content/uploads/2024/12/Chanukah-Kids-Party.jpg
END:VEVENT
BEGIN:VEVENT
DTSTART;VALUE=DATE:20241220
DTEND;VALUE=DATE:20241222
DTSTAMP:20260424T014214
CREATED:20241212T232937Z
LAST-MODIFIED:20241212T232937Z
UID:22891-1734652800-1734825599@www.centermakor.org
SUMMARY:Shabbaton with Rabbi Jacks
DESCRIPTION:Shabbaton with Rabbi Jacks\nJoin us for a very special Yud Tes Kislev Shabbaton with Rabbi Avrohom Jacks of Toronto\, Canada \nWhere: Shaloh House\, 29 Chestnut Hill Ave\, Brighton\nWhen: December 20-21 \nSchedule:\nFriday night\, December 20 @ 5:30pm – Kiddush & Dinner\nShabbat day\, December 21 @ 9:30am Shabbat service; 11:45pm – Kiddush Lunch\nMotzei Shabbat\, December 21 @ 6:30pm – Motzei Shabbat Program \nLEARN MORE AND REGISTER
URL:https://www.centermakor.org/event/shabbaton/
LOCATION:Shaloh House Jewish Russian Center\, 29 Chestnut Avenue\, Brighton\, MA\, United States
CATEGORIES:Community Events
ATTACH;FMTTYPE=image/jpeg:https://www.centermakor.org/wp-content/uploads/2024/12/shabbaton.jpg
END:VEVENT
BEGIN:VEVENT
DTSTART;TZID=America/New_York:20241226T170000
DTEND;TZID=America/New_York:20241226T190000
DTSTAMP:20260424T014215
CREATED:20241125T220227Z
LAST-MODIFIED:20241125T220351Z
UID:22717-1735232400-1735239600@www.centermakor.org
SUMMARY:Chanukah Hummer Parade
DESCRIPTION:Public Menorah Lighting\, Music\, Entertainment and of course tons of doughnuts.\nKids – grab the opportunity of a lifetime to ride in a Hummer Stretch-Limo with a car menorah on top through the streets of Boston. \nAdults – join our parade in your own car!!!! A limited amount of car-menorahs are available. \n5:00 pm – 5:30 pm Reception\n5:30pm – 6:00 pm Public Menorah Lighting\n6:00 pm – 7:00 pm Grand Chanukah Car parade.\n7:00 pm – Hummer Limos return back to Shaloh House for pick up. \nTotal of 70 children will be allowed on four Hummer-Limos please RSVP. \n*Come at 4:30 pm if you would like a car menorah mounted on your car. \nPlease follow the link to register your child for the parade. \nLEARN MORE AND REGISTER
URL:https://www.centermakor.org/event/chanukah-hummer-parade/
LOCATION:Shaloh House Jewish Russian Center\, 29 Chestnut Avenue\, Brighton\, MA\, United States
CATEGORIES:Community Events
ATTACH;FMTTYPE=image/jpeg:https://www.centermakor.org/wp-content/uploads/2024/11/hummer-parade.jpg
END:VEVENT
END:VCALENDAR