BEGIN:VCALENDAR
VERSION:2.0
PRODID:-//Center Makor - ECPv6.15.20//NONSGML v1.0//EN
CALSCALE:GREGORIAN
METHOD:PUBLISH
X-WR-CALNAME:Center Makor
X-ORIGINAL-URL:https://www.centermakor.org
X-WR-CALDESC:Events for Center Makor
REFRESH-INTERVAL;VALUE=DURATION:PT1H
X-Robots-Tag:noindex
X-PUBLISHED-TTL:PT1H
BEGIN:VTIMEZONE
TZID:America/New_York
BEGIN:DAYLIGHT
TZOFFSETFROM:-0500
TZOFFSETTO:-0400
TZNAME:EDT
DTSTART:20240310T070000
END:DAYLIGHT
BEGIN:STANDARD
TZOFFSETFROM:-0400
TZOFFSETTO:-0500
TZNAME:EST
DTSTART:20241103T060000
END:STANDARD
BEGIN:DAYLIGHT
TZOFFSETFROM:-0500
TZOFFSETTO:-0400
TZNAME:EDT
DTSTART:20250309T070000
END:DAYLIGHT
BEGIN:STANDARD
TZOFFSETFROM:-0400
TZOFFSETTO:-0500
TZNAME:EST
DTSTART:20251102T060000
END:STANDARD
BEGIN:DAYLIGHT
TZOFFSETFROM:-0500
TZOFFSETTO:-0400
TZNAME:EDT
DTSTART:20260308T070000
END:DAYLIGHT
BEGIN:STANDARD
TZOFFSETFROM:-0400
TZOFFSETTO:-0500
TZNAME:EST
DTSTART:20261101T060000
END:STANDARD
END:VTIMEZONE
BEGIN:VTIMEZONE
TZID:America/Halifax
BEGIN:DAYLIGHT
TZOFFSETFROM:-0400
TZOFFSETTO:-0300
TZNAME:ADT
DTSTART:20240310T060000
END:DAYLIGHT
BEGIN:STANDARD
TZOFFSETFROM:-0300
TZOFFSETTO:-0400
TZNAME:AST
DTSTART:20241103T050000
END:STANDARD
BEGIN:DAYLIGHT
TZOFFSETFROM:-0400
TZOFFSETTO:-0300
TZNAME:ADT
DTSTART:20250309T060000
END:DAYLIGHT
BEGIN:STANDARD
TZOFFSETFROM:-0300
TZOFFSETTO:-0400
TZNAME:AST
DTSTART:20251102T050000
END:STANDARD
BEGIN:DAYLIGHT
TZOFFSETFROM:-0400
TZOFFSETTO:-0300
TZNAME:ADT
DTSTART:20260308T060000
END:DAYLIGHT
BEGIN:STANDARD
TZOFFSETFROM:-0300
TZOFFSETTO:-0400
TZNAME:AST
DTSTART:20261101T050000
END:STANDARD
END:VTIMEZONE
BEGIN:VEVENT
DTSTART;TZID=America/New_York:20250205T180000
DTEND;TZID=America/New_York:20250205T190000
DTSTAMP:20260422T170452
CREATED:20250202T195044Z
LAST-MODIFIED:20250202T195303Z
UID:23402-1738778400-1738782000@www.centermakor.org
SUMMARY:Презентация новой книги Леонида Спивака “Потерянные миллионы Фигаро”
DESCRIPTION:Презентация новой книги Леонида Спивака \n“Потерянные миллионы Фигаро”\nГДЕ и КОГДА: В среду 5 февраля 2025 года в концертном зале Ulin House (28 Wallingford Rd\, Brighton) в 6 часов вечера. Вход свободный. \nЛЕОНИД СПИВАК – автор многочисленных статей о русско-американских культурных связях XVIII-XX столетий. \nЕго документальные повести –\n     «Истории города Бостона»\,\n     «Бостон. Город и люди» кн. 1 и 2\,\n     «Забытые американцы»\,\n     «Полковник из Нью-Йорка»\,\n     «Когда Америки не было»\n     и «Страна за горизонтом»\n– посвящены малоизученным страницам американской\, европейской и российской истории. \nЧитать отрывок из книги: https://mgraphics-books.com/wp-content/uploads/2024/10/Figaro-Millions-sample.pdf \nКниги Леонида Спивака изданы бостонским издательством М-Graphics Publishing; Executive Director Michael Minayev\, info@mgraphics-books.com
URL:https://www.centermakor.org/event/figaro-lost-millions/
LOCATION:28 Wallingford Rd\, Brighton\, MA 02135\, 28 Wallingford Rd\, Brighton\, MA\, 02135\, United States
CATEGORIES:Community Events
ATTACH;FMTTYPE=image/jpeg:https://www.centermakor.org/wp-content/uploads/2025/02/image001.jpg
END:VEVENT
BEGIN:VEVENT
DTSTART;TZID=America/New_York:20250206T193000
DTEND;TZID=America/New_York:20250209T200000
DTSTAMP:20260422T170452
CREATED:20250122T230435Z
LAST-MODIFIED:20250122T230533Z
UID:23314-1738870200-1739131200@www.centermakor.org
SUMMARY:Калека с острова Инишмаан
DESCRIPTION:Studio 22 представляет спектакль по пьесе МАРТИНА МАКДОНАХА \n«КАЛЕКА С ОСТРОВА ИНИШМААН»\nРежиссер МАРФА ГОРВИЦ\, лауреат премии “Золотая маска”. \nЭта мрачная комедийная и сильная пьеса будет представлена с 6 по 9 февраля\, и нам не терпится воплотить эту историю в жизнь! \nНедавний успех @gorvits_marfa в режиссуре «Мой внук\, Вениамин»\, который принес ей престижную премию “Золотой журавль”\, с огромным успехом прошла в Бостоне и других городах мира. Мы очень гордимся тем\, что Марфа Горвиц возглавила нашу новую постановку!\n \n\nАктеры\nМИХАИЛ АРОНОВ\nАЛЕКС БАРСКИЙ\nМАРИНА БЕВЗУШЕНКО\nАРТЕМ ЕРМОЛАЕВ\nАЛАНА КУМАЛАГОВА\nЖЕНЯ ЛЕРМАН\nГЕННАДИЙ РАВВИН\nКИРИЛЛ РУБЦОВ\nЭДУАРД СНИТКОВСКИЙ\nЭДУАРД ХОХЛОВИЧ\n6 ФЕВРАЛЯ 19:30\n7 ФЕВРАЛЯ 19:30\n8 ФЕВРАЛЯ 14:00 И 18:00\n9 ФЕВРАЛЯ 14:00 И 18:00 \nПожалуйста\, присоединяйтесь к нам\, мы будем выступать в MOSESIAN CENTER OF ARTS. \nБИЛЕТЫ \nСпектакль идет на русском языке.
URL:https://www.centermakor.org/event/the-cripple-of-inishmaan/
LOCATION:The Dorothy and Charles Mosesian Center for the Arts\, 21 Arsenal Street\, Watertown\, 02472\, United States
CATEGORIES:Community Events
ATTACH;FMTTYPE=image/jpeg:https://www.centermakor.org/wp-content/uploads/2025/01/Калека-с-острова-Иншмаан.jpg
END:VEVENT
BEGIN:VEVENT
DTSTART;TZID=America/New_York:20250208T193000
DTEND;TZID=America/New_York:20250208T220000
DTSTAMP:20260422T170452
CREATED:20241219T053835Z
LAST-MODIFIED:20241219T053835Z
UID:22959-1739043000-1739052000@www.centermakor.org
SUMMARY:Волки и овцы
DESCRIPTION:Театр на крыше\nприглашает вас на спектакль \nВолки и овцы\nАлександр Островский \nКомедия \nРЕЖИССЁР – Людмила Старобинец. \nБилеты \nО спектакле \n\n\n\nЦена билета $50; пенсионерам и студентам – $35.\nВнимание! Оплата производится наличными при входе!
URL:https://www.centermakor.org/event/volki-5/
LOCATION:Театр на крыше\, 50 Kearney Road\, Needham\, 02494\, United States
CATEGORIES:Community Events
ATTACH;FMTTYPE=image/jpeg:https://www.centermakor.org/wp-content/uploads/2024/04/Волки-и-овцы.jpg
END:VEVENT
BEGIN:VEVENT
DTSTART;TZID=America/New_York:20250209T120000
DTEND;TZID=America/New_York:20250209T130000
DTSTAMP:20260422T170452
CREATED:20250126T170526Z
LAST-MODIFIED:20250126T171121Z
UID:23346-1739102400-1739106000@www.centermakor.org
SUMMARY:Благотворительный on-line концерт И.Губермана для поддержки пожилых израильтян
DESCRIPTION:Дорогие друзья! \nВпервые! Благотвопительный Онлайн-завтрак-концерт с Игорем Губерманом в воскресенье 9 февраля в 12pm по бостонскому времени! \nТолько для жителей США и Канады — присоединяйтесь к уникальному событию! \nВсе средства от продажи билетов будут направлены на поддержку пожилых людей в Израиле\, нуждающихся в помощи. \nС начала войны 7 октября 2023 года организация «Baobab Studios» оказывает поддержку пожилым израильтянам\, оказавшимся в трудной жизненной ситуации. \nБлагодаря Вашей помощи мы продолжаем предоставлять критически важную поддержку более 150 эвакуированным пожилым людям из таких городов\, как Беэри\, Реим\, Нир-Ам\, Кисуфим\, Кирьят-Шмона\, Шломи и других населённых пунктов. \nНаши занятия по резьбе по дереву открыты в 14 локациях по всей стране\, включая Тель-Авив\, Хайфу\, Тверию\, Нетанию и другие города. \nЭти творческие активности помогают пожилым людям оставаться активными\, преодолевать стресс и находить радость в новых увлечениях. \nВаше участие поможет продолжить эту важную работу! \nБИЛЕТЫ \n \nПожалуйста сообщите об этом концерте своим друзьям и знакомым\, а также перешлите им нижеперечисленные ссылки\, которым можно поделиться на Фейсбуке: \nhttps://www.facebook.com/share/p/1A2ZP74hYH/ \nhttps://www.facebook.com/emil.guberman/ \nhttps://www.baobabstudios.org/ru/breackfast-with-guberman
URL:https://www.centermakor.org/event/guberman-online/
CATEGORIES:Community Events,Online Events
ATTACH;FMTTYPE=image/jpeg:https://www.centermakor.org/wp-content/uploads/2025/01/Guberman-online.jpg
END:VEVENT
BEGIN:VEVENT
DTSTART;TZID=America/New_York:20250209T170000
DTEND;TZID=America/New_York:20250209T190000
DTSTAMP:20260422T170452
CREATED:20250106T053104Z
LAST-MODIFIED:20250122T041109Z
UID:23110-1739120400-1739127600@www.centermakor.org
SUMMARY:Квартет “Люди Севера” – отчётно-перевыборный концерт в Бостоне
DESCRIPTION:  \nВ гостях у Театра на крыше \nКвартет “Люди Севера”\nотчётно-перевыборный концерт в Бостоне \nДорогие зрители! \nМы\, “Люди Севера”\, приглашаем вас в воскресенье\, 9 февраля\, в “Театр На Крыше” (50 Kearney Rd\, Needham\, MA) на наш Отчетный Концерт. \n“Отчетный”… мы действительно хотели бы подвести некий итог. За два года с предыдущего Бостонского концерта в нашем репертуаре появились хорошие новые песни\, и мы хотим ими поделиться. Конечно\, будут и\nлюбимые песни\, накопившиеся за пять с хвостиком лет\, что мы поем вместе. \nК слову “Отчетный” по давней привычке добавилось “Перевыборный”. Это\, конечно\, шутка… перевыбирать будем репертуар. Мы\, “Люди Севера” – народ неторопливый; песни отбираем долго\, репетируем еще дольше\, но\nвсе-таки за пять лет набралось на полноценный концерт в двух отделениях. Пришло время проверить наши песни\, аранжировки\, исполнение в очень понимающей\, знающей (мы это точно знаем!) аудитории. \nВ программе будут песни Сергея Никитина\, Владимира Ланцберга\, Булата Окуджавы\, Владимира Музыкантова\, Надежды Сосновской\, Петра Кошелева\, Георгия Васильева и Алексея Иващенко\, и многих других. \nМы благодарны “Театр На Крыше” и его руководителю\, Людмиле Старобинец\, за предоставленное место (под Крышей) и время. Ждем вас в 17:00 9 февраля\, приходите\, уверены\, что будет интересно! \nЕсли собираетесь прийти\, напишите пожалуйста Алёне Самишевой (alenok@gmail.com)\, чтобы мы знали\, сколько ожидать гостей. Билеты будут продаваться у входа (школьный/взрослый/пенсионный – $20/$30/$20). \n– Ваши “Люди Севера” \nКвартет “Люди Севера” существует уже шесть лет\, он постоянный участник слета Синий Троллейбус\, мы были на слете в Техасе и с концертами в Денвере\, Бостоне\, и Торонто. Программа была успешно показана в прошлом году в пяти городах Германии и на слете в Нюрнберге. Отрывок из выступления можно посмотреть ниже.
URL:https://www.centermakor.org/event/people-of-the-north/
LOCATION:Театр на крыше\, 50 Kearney Road\, Needham\, 02494\, United States
CATEGORIES:Community Events
ATTACH;FMTTYPE=image/jpeg:https://www.centermakor.org/wp-content/uploads/2025/01/Афиша-Люди-Севера-A3.jpg
END:VEVENT
BEGIN:VEVENT
DTSTART;TZID=America/New_York:20250213T190000
DTEND;TZID=America/New_York:20250213T210000
DTSTAMP:20260422T170452
CREATED:20250211T180647Z
LAST-MODIFIED:20250211T181231Z
UID:23520-1739473200-1739480400@www.centermakor.org
SUMMARY:Влада Брофман и Лоик Кордеоне: Девять языков любви
DESCRIPTION:Влада Брофман и Лоик Кордеоне\nДевять языков любви\n​Уже в этот четверг\, 13 февраля\, Влада Брофман (вокал/гитара) и Лоик Кордеоне (аккордеон) исполнят самые известные песни о любви со всего мира! Подарите своим любимым этот подарок на Валентинов день:) \nВ этой радостной и страстной программе Влада исполняет хиты мировой эстрады на девяти языках\, увлекая слушателей в захватывающее путешествие. Вас ждёт много французского шансона\, зажигательные песенки на идиш и иврите\, авторские композиции Влады\, джаз и босса нова. \nВлада Брофман не ограничивается одним жанром\, мастерски переходя от классики к эстраде\, от джаза к поп-музыке\, от рока к кабаре. Певица легко меняет образы и передаёт залу свою уникальную энергию. \nВладе будет аккомпанировать замечательный джазовый и фадо музыкант Лоик Кордеоне (аккордеон). \nБилеты продаются на входе и по ссылке: https://www.eventbrite.com/e/vlada-brofman-and-loic-cordeone-in-boston-tickets-1216934647289 \nБИЛЕТЫ
URL:https://www.centermakor.org/event/nine-languages-of-love/
LOCATION:28 Wallingford Rd\, Brighton\, MA 02135\, 28 Wallingford Rd\, Brighton\, MA\, 02135\, United States
CATEGORIES:Community Events
ATTACH;FMTTYPE=image/jpeg:https://www.centermakor.org/wp-content/uploads/2025/02/vlada-brofman-scaled.jpg
END:VEVENT
BEGIN:VEVENT
DTSTART;TZID=America/New_York:20250217T080000
DTEND;TZID=America/New_York:20250217T170000
DTSTAMP:20260422T170452
CREATED:20250217T203807Z
LAST-MODIFIED:20250217T203807Z
UID:23600-1739779200-1739811600@www.centermakor.org
SUMMARY:Дмитрий Быков. Лекция “Секс и трах”.
DESCRIPTION:Дмитрий Быков \nСекс и трах\nНа этой встрече Дмитрий Львович прочтет лекцию на тему «Sex и ТРАХ. Русский и американский эрос на материале прозы XX века». \nБИЛЕТЫ: по телефону 617-232-8820 или по ссылке. Так же их можно заказать послав нам платеж по Venmo: @Ilya-Klebanov или PayPal: petropolbooks@gmail.com с комментарием “Взрослая лекция Быков + ваш имэйл”. Цена: $55. \nНесмотря на социалистическое пуританство\, Россия достигла значительных успехов в эротическом искусстве – причем не только в начале и конце века\, но и в самые что ни на есть густопсовые годы террора. Проблема только в том\, что Американский эрос был бесконечно разнообразен\, а русский сводился к разнообразным формам насилия\, угнетения и садизма. Зато уж в этой единственной области русское искусство достигло таких высот и глубин\, какие не снились ни американцам\, ни латиноамериканцам\, ни самому де Саду. Проще говоря\, по сравнению с нами де Сад — детсад. \nВо второй части мероприятия Дмитрий Львович ответит на вопросы аудитории. \nДмитрий Быков — поэт\, писатель\, журналист\, лектор\, кинокритик\, сценарист. Лауреат множества литературных премий. Преподаватель русского языка и литературы в школе\, приглашенный профессор Принстонского университета.
URL:https://www.centermakor.org/event/bykov-sex-trah/
ATTACH;FMTTYPE=image/jpeg:https://www.centermakor.org/wp-content/uploads/2025/02/секс-трах-быков.jpg
END:VEVENT
BEGIN:VEVENT
DTSTART;TZID=America/New_York:20250219T193000
DTEND;TZID=America/New_York:20250219T210000
DTSTAMP:20260422T170452
CREATED:20250211T022124Z
LAST-MODIFIED:20250211T022240Z
UID:23511-1739993400-1739998800@www.centermakor.org
SUMMARY:Greenbook Jewish Neighbors Gathering
DESCRIPTION:Join us for a gathering of our Jewish neighbors in Greenbook. \nMeet your neighbor. \nWe will have light refreshments and sweets. \nWednseday\, February 19\, 7 p.m.\nAt the Greenbook house \nSponsored by your Jewish neighbor. \nMeet Rabbi Mendel Gurkow\nof Shaloh House Chabad.
URL:https://www.centermakor.org/event/greenbook-jewish-neighbors-gathering/
CATEGORIES:Community Events
ATTACH;FMTTYPE=image/jpeg:https://www.centermakor.org/wp-content/uploads/2025/02/IMG-20250205-WA0000.jpg
END:VEVENT
BEGIN:VEVENT
DTSTART;TZID=America/Halifax:20250222T193000
DTEND;TZID=America/Halifax:20250222T213000
DTSTAMP:20260422T170452
CREATED:20250113T045953Z
LAST-MODIFIED:20250113T173849Z
UID:23185-1740252600-1740259800@www.centermakor.org
SUMMARY:Виктор Шендерович. Потерпевший Гольдинер.
DESCRIPTION:Театр на крыше\nприглашает вас на спектакль \nПотерпевший Гольдинер\nЛирическая комедия \nАвтор: В. Шендерович \nОна – американка с устоявшимся положением\, полноправный гражданин своей страны. Он – старый еврей\, эмигрировавший из Советского Союза в новую для него реальность. Она сбивает его на улочках Манхэттэна\, и суд приговаривает ее в качестве наказания ухаживать за сбитым ею человеком. Герои вынуждены проводить много времени в обществе друг друга. В результате оказывается\, что это общение необходимо обоим\, а у потерпевшего есть шанс на десять недель стать не одиноким и даже счастливым. \nРЕЖИССЕР – Людмила Старобинец \nО спектакле     Заказ билетов \n  \n\nЦена билета $50\, пенсионерам и студентам $35\nВ цену билета включен буфет. \nВнимание! Оплата производится наличными при входе!
URL:https://www.centermakor.org/event/goldiner-12/
LOCATION:Театр на крыше\, 50 Kearney Road\, Needham\, 02494\, United States
CATEGORIES:Community Events
ATTACH;FMTTYPE=image/jpeg:https://www.centermakor.org/wp-content/uploads/2023/03/Afisha_Goldiner_FINAL.jpg
END:VEVENT
BEGIN:VEVENT
DTSTART;TZID=America/New_York:20250223T093000
DTEND;TZID=America/New_York:20250223T163000
DTSTAMP:20260422T170452
CREATED:20250210T174523Z
LAST-MODIFIED:20250210T174523Z
UID:23506-1740303000-1740328200@www.centermakor.org
SUMMARY:Ctrl+Alt+Truth
DESCRIPTION:Ctrl+Alt+Truth\nOn February 23rd (the last day of the February break before returning to school)\, the IAC\, in partnership with the Israeli Scouts\, Camera\, Stand With Us\, and other wonderful organizations\, is organizing an amazing hackathon for teenagers (7th-12th grade). \nThe hackathon will take place in Somerville at a stunning workspace called Basis Tech from 9:30 AM to 4:30 PM. \nTeens will work with AI experts to learn about misinformation—how to identify it and how to combat it using AI tools. \nThe speakers will be top professionals in the field\, and as a special highlight\, participants will have the chance to meet Jonathan Elkhoury\, a Lebanese influencer and pro-Israel advocate. \nThe winning team will receive a college recommendation letter from the CEO of a leading tech company\, among other prizes. \nThis is a once-in-a-lifetime opportunity for our children. Let’s do everything we can to give them this experience\, despite the inconvenient timing. \nSIGN UP
URL:https://www.centermakor.org/event/ctrlalttruth/
CATEGORIES:Community Events
ATTACH;FMTTYPE=image/jpeg:https://www.centermakor.org/wp-content/uploads/2025/02/IMG-20250207-WA0000.jpg
END:VEVENT
BEGIN:VEVENT
DTSTART;TZID=America/New_York:20250223T130000
DTEND;TZID=America/New_York:20250223T150000
DTSTAMP:20260422T170452
CREATED:20250218T215821Z
LAST-MODIFIED:20250218T215821Z
UID:23613-1740315600-1740322800@www.centermakor.org
SUMMARY:Stand with Ukraine
DESCRIPTION:Dear Ukrainians and friends of Ukraine!\nJoin us on SUNDAY\, February 23\, 2025\, as we commemorate 3 years since Russia’s full-scale invasion and 11 years of war since the illegal annexation of Crimea.\nTogether\, let’s protect the rights of freedom. Stay tuned for details! 🕊 #StandWithUkraine\nSchedule for the event:\n🕛 1:00 PM – Starting at Boston Public Library we will walk towards the Parkman Bandstand on the Boston Common. Please bring Ukrainian flags\, symbols and posters.\n🕛 2:00 PM – Rally at the Parkman Bandstand on the Boston Common with the community\, religious and political leaders.\n✅ Mark this date to be present with your local Ukrainian community.\n🤝 This is a united effort of Ukrainian Cultural Center of New England\, Ukrainian Congress Committee of America (Boston branch)\, Ukrainian American Educational Center\, American Coalition for Ukraine\, Ukrainian American Veterans\, Ukrainian American Youth Association – Boston branch\, Center Makor\, Plast Boston\, Boston Support Ukraine\, Ukraine Forward\, Mriya\, Osnova\, Dobro New England\, local Ukrainian students\, local Ukrainian diaspora\, local Americans and friends of Ukraine. \nШановні українці та друзі України!\nПриєднуйтесь до нас у НЕДІЛЮ\, 23 лютого 2025 року\, щоб висловити свою непохитну підтримку України у боротьбі за свободу і незалежність. 3 роки від дня повномасштабного вторгнення росії та 11 років війни з моменту незаконної анексії Криму.\nДавайте разом захищати права свободи.\nСлідкуйте за подробицями! 🕊 #StandWithUkraine\nРозклад заходу:\n🕛 13:00 – Починаючи з Публічної бібліотеки Бостона\, ми підемо до трибуни Parkman Bandstand у Boston Common. Будь ласка\, приносьте українські прапори\, символіку та плакати.\n🕛 14:00 – мітинг на трибуні Parkman Bandstand у Boston Common з громадськістю\, релігійними та політичними лідерами.\n✅ Додайте дату собі в календар!\n🤝 Це об’єднані зусилля Українського Культурного Центру Нової Англії\, Українського Конгресового Комітету Америки (Бостонське відділення)\, Українсько-Американського Освітнього Центру\, Американської Коаліції за Україну\, Українських Американських Ветеранів\, Спілки Української Молоді Америки – Бостонський відділ\, Центру Макор\, Пласту Бостон\, Бостон Підтримай Україну\, Україна Вперед\, Мрії\, Основи\, Добро Нової Англії\, місцевих українських студентів\, місцевої української діаспори\, місцевих американців та друзів України.
URL:https://www.centermakor.org/event/stand-with-ukraine-2/
CATEGORIES:Community Events
ATTACH;FMTTYPE=image/jpeg:https://www.centermakor.org/wp-content/uploads/2025/02/stand-with-ukraine.jpg
END:VEVENT
END:VCALENDAR