BEGIN:VCALENDAR
VERSION:2.0
PRODID:-//Center Makor - ECPv6.15.20//NONSGML v1.0//EN
CALSCALE:GREGORIAN
METHOD:PUBLISH
X-ORIGINAL-URL:https://www.centermakor.org
X-WR-CALDESC:Events for Center Makor
REFRESH-INTERVAL;VALUE=DURATION:PT1H
X-Robots-Tag:noindex
X-PUBLISHED-TTL:PT1H
BEGIN:VTIMEZONE
TZID:America/New_York
BEGIN:DAYLIGHT
TZOFFSETFROM:-0500
TZOFFSETTO:-0400
TZNAME:EDT
DTSTART:20240310T070000
END:DAYLIGHT
BEGIN:STANDARD
TZOFFSETFROM:-0400
TZOFFSETTO:-0500
TZNAME:EST
DTSTART:20241103T060000
END:STANDARD
BEGIN:DAYLIGHT
TZOFFSETFROM:-0500
TZOFFSETTO:-0400
TZNAME:EDT
DTSTART:20250309T070000
END:DAYLIGHT
BEGIN:STANDARD
TZOFFSETFROM:-0400
TZOFFSETTO:-0500
TZNAME:EST
DTSTART:20251102T060000
END:STANDARD
BEGIN:DAYLIGHT
TZOFFSETFROM:-0500
TZOFFSETTO:-0400
TZNAME:EDT
DTSTART:20260308T070000
END:DAYLIGHT
BEGIN:STANDARD
TZOFFSETFROM:-0400
TZOFFSETTO:-0500
TZNAME:EST
DTSTART:20261101T060000
END:STANDARD
END:VTIMEZONE
BEGIN:VTIMEZONE
TZID:America/Halifax
BEGIN:DAYLIGHT
TZOFFSETFROM:-0400
TZOFFSETTO:-0300
TZNAME:ADT
DTSTART:20240310T060000
END:DAYLIGHT
BEGIN:STANDARD
TZOFFSETFROM:-0300
TZOFFSETTO:-0400
TZNAME:AST
DTSTART:20241103T050000
END:STANDARD
BEGIN:DAYLIGHT
TZOFFSETFROM:-0400
TZOFFSETTO:-0300
TZNAME:ADT
DTSTART:20250309T060000
END:DAYLIGHT
BEGIN:STANDARD
TZOFFSETFROM:-0300
TZOFFSETTO:-0400
TZNAME:AST
DTSTART:20251102T050000
END:STANDARD
BEGIN:DAYLIGHT
TZOFFSETFROM:-0400
TZOFFSETTO:-0300
TZNAME:ADT
DTSTART:20260308T060000
END:DAYLIGHT
BEGIN:STANDARD
TZOFFSETFROM:-0300
TZOFFSETTO:-0400
TZNAME:AST
DTSTART:20261101T050000
END:STANDARD
END:VTIMEZONE
BEGIN:VEVENT
DTSTART;TZID=America/New_York:20250501T200000
DTEND;TZID=America/New_York:20250501T220000
DTSTAMP:20260422T232921
CREATED:20250227T154620Z
LAST-MODIFIED:20250227T154620Z
UID:23701-1746129600-1746136800@www.centermakor.org
SUMMARY:Концерт памяти Юрия Визбора
DESCRIPTION:Концерт памяти Юрия Визбора\nМы будем рассказывать друг другу истории\, написанные Юрием Визбором\, как он рассказывал их сам. Под гитару\, но не только. БИЛЕТЫ по телефону 617-232-8820. \nНа сцене будут выступать Вениамин Смехов\, Сергей Никитин\, Алексей и Мария Иващенко\, Дмитрий Богданов\, Тимур Шаов\, Галина и Алексей Хомчики\, Артем Лысков и музыканты джазового трио Stellar! \nБилеты без комиссии можно заказать по телефону 617-232-8820. Билеты с комиссией – eventbrite.com/e/1261646772459 \n«Разрешите вам напомнить о себе» – так мы назвали добрую беседу с близкими людьми\, которые соберутся в этот вечер вместе на сцене и в зале. Мы будем рассказывать друг другу истории\, написанные Юрием Визбором\, как он рассказывал их сам. Под гитару\, но не только. Визбор не был бунтарем\, как Высоцкий\, или философом\, как Окуджава. Скорее как Синатра\, певец обычного человеческого существования\, наполненного дружбой\, добротой и романтикой. Прошлым летом ему исполнилось 90. А в 50 он ушел в лыжной куртке и шапке с помпоном к своим далеким вершинам\, оставив нам песни\, чтобы не забывали. Мы и не забываем\, поем. Заходите вечером в гости\, берите с собой друзей и родных. Давайте проведем эти три часа вместе\, споем его песни\, поговорим\, отметим его юбилей. Искренне ваши\, Вениамин Смехов\, Сергей Никитин\, Алексей и Мария Иващенко\, Дмитрий Богданов\, Тимур Шаов\, Галина и Алексей Хомчики\, Артем Лысков и музыканты джазового трио Stellar.
URL:https://www.centermakor.org/event/vizbor/
LOCATION:John Hancock Hall\, 180 Berkely Street\, Boston\, MA\, 02116\, United States
CATEGORIES:Community Events
ATTACH;FMTTYPE=image/jpeg:https://www.centermakor.org/wp-content/uploads/2025/02/vizbor.jpg
END:VEVENT
BEGIN:VEVENT
DTSTART;TZID=America/New_York:20250503T193000
DTEND;TZID=America/New_York:20250503T213000
DTSTAMP:20260422T232921
CREATED:20250318T021422Z
LAST-MODIFIED:20250318T021422Z
UID:23898-1746300600-1746307800@www.centermakor.org
SUMMARY:Дочь русского актёра
DESCRIPTION:Театр на крыше\nприглашает вас на спектакль \nДочь русского актёра\nВодевиль с песнями\, танцами и переодеваниями \nГениальность актера Лисичкина поставлена под вопрос: его увольняют из театра. Обида выливается на родную дочь\, Верочку\, которую он хочет выдать замуж за отставного прапорщика\, дважды вдовца – Акакия Назарыча Ушицу. Верочку не вдохновляет роль деревенской отставной прапорщицы. Взяв в пособницы свою горничную\, Катерину\, талантливая девушка дурачит жениха и отца и находит выход из положения. Красочный водевиль с песнями\, танцами и переодеваниями будет интересен и взрослым\, и детям! В спектакле звучит живая музыка в исполнении Сергея Беляева. \n\nРЕЖИССЁР – Людмила Старобинец. \nО спектакле     Заказ билетов \n  \n\nЦена билета $50\, пенсионерам и студентам $35\nВ цену билета включен буфет. \nВнимание! Оплата производится наличными при входе!
URL:https://www.centermakor.org/event/doch-5/
LOCATION:Театр на крыше\, 50 Kearney Road\, Needham\, 02494\, United States
CATEGORIES:Community Events
ATTACH;FMTTYPE=image/jpeg:https://www.centermakor.org/wp-content/uploads/2025/02/Дочь-русского-актёра.jpg
END:VEVENT
BEGIN:VEVENT
DTSTART;TZID=America/New_York:20250504T150000
DTEND;TZID=America/New_York:20250504T180000
DTSTAMP:20260422T232921
CREATED:20250429T165810Z
LAST-MODIFIED:20250429T165947Z
UID:24378-1746370800-1746381600@www.centermakor.org
SUMMARY:From Vision to Blooming Reality
DESCRIPTION:From Vision to Blooming Reality\n🎉 *Join us to Celebrate Israel’s 77th Birthday!* \nGet ready for an unforgettable day as we come together to celebrate Israel’s Independence Day! \n💙 A Joyful celebration of Israel’s culture\, history\, and vibrant spirit featuring:\n      🎶 Live entertainment\n      🍽 Delicious Israeli food\n      🎨Artist’s Market\n      🤝 A vibrant community atmosphere\n      🎉 Fun activities for all ages: Inflatables\, Sensory truck\, Petting Zoo\, Arts & Crafts stations\, Volleyball court and Beach toys\, Sports games\, Face Painting and Temporary Tattoos\, More activities by the Tzofim. \nTICKETS \nNatick\, MA.
URL:https://www.centermakor.org/event/israel-77/
CATEGORIES:Community Events
ATTACH;FMTTYPE=image/jpeg:https://www.centermakor.org/wp-content/uploads/2025/04/israel-77.jpeg
END:VEVENT
BEGIN:VEVENT
DTSTART;TZID=America/New_York:20250504T180000
DTEND;TZID=America/New_York:20250504T200000
DTSTAMP:20260422T232921
CREATED:20250318T021430Z
LAST-MODIFIED:20250318T021430Z
UID:23899-1746381600-1746388800@www.centermakor.org
SUMMARY:Дочь русского актёра
DESCRIPTION:Театр на крыше\nприглашает вас на спектакль \nДочь русского актёра\nВодевиль с песнями\, танцами и переодеваниями \nГениальность актера Лисичкина поставлена под вопрос: его увольняют из театра. Обида выливается на родную дочь\, Верочку\, которую он хочет выдать замуж за отставного прапорщика\, дважды вдовца – Акакия Назарыча Ушицу. Верочку не вдохновляет роль деревенской отставной прапорщицы. Взяв в пособницы свою горничную\, Катерину\, талантливая девушка дурачит жениха и отца и находит выход из положения. Красочный водевиль с песнями\, танцами и переодеваниями будет интересен и взрослым\, и детям! В спектакле звучит живая музыка в исполнении Сергея Беляева. \n\nРЕЖИССЁР – Людмила Старобинец. \nО спектакле     Заказ билетов \n  \n\nЦена билета $50\, пенсионерам и студентам $35\nВ цену билета включен буфет. \nВнимание! Оплата производится наличными при входе!
URL:https://www.centermakor.org/event/doch-6/
LOCATION:Театр на крыше\, 50 Kearney Road\, Needham\, 02494\, United States
CATEGORIES:Community Events
ATTACH;FMTTYPE=image/jpeg:https://www.centermakor.org/wp-content/uploads/2025/02/Дочь-русского-актёра.jpg
END:VEVENT
BEGIN:VEVENT
DTSTART;TZID=America/New_York:20250504T180000
DTEND;TZID=America/New_York:20250504T200000
DTSTAMP:20260422T232921
CREATED:20250429T165327Z
LAST-MODIFIED:20250429T165327Z
UID:24375-1746381600-1746388800@www.centermakor.org
SUMMARY:History Under Attack - Newton Film Screening and Discussion
DESCRIPTION:History Under Attack\nNewton Film Screening and Discussion\nOn Sunday\, May 4\, we will screen Baltic Truth\, a documentary that mines recently released Soviet‑era archives to show how collaboration in Lithuania and Latvia is still minimized. \nAfter the film\, director Eugene Levin and journalist Ben‑Dror Yemini will unpack the methods of historical distortion and show how the same tactics are now used to recast Hamas’s October 7 atrocities. Expect source‑based analysis\, audience Q&A\, and practical tools for countering misinformation. \nTICKETS
URL:https://www.centermakor.org/event/history-under-attack/
CATEGORIES:Community Events
ATTACH;FMTTYPE=image/jpeg:https://www.centermakor.org/wp-content/uploads/2025/04/history-under-attack.jpg
END:VEVENT
BEGIN:VEVENT
DTSTART;TZID=America/New_York:20250504T193000
DTEND;TZID=America/New_York:20250504T213000
DTSTAMP:20260422T232921
CREATED:20250315T154857Z
LAST-MODIFIED:20250315T155350Z
UID:23866-1746387000-1746394200@www.centermakor.org
SUMMARY:Благотворительный концерт памяти Михаила Рудяка
DESCRIPTION:Благотворительный концерт\nпамяти Михаила Рудяка\nСлава Гауфберг\nАвтор-исполнитель\, Бостон \nАлекс Коффман\nСкрипач-виртуоз\, Чикаго \nВ программе:\nпесни Славы Гауфберга\, Булата Окуджавы\,\nЮрия Визбора и других авторов \n\n\nВход свободный\nПожертвования приветствуются в любом размере\nи пойдут в фонд помощи раненым солдатам ЦАХАЛа \nКонцерт спонсирован Благотворительным Фондом имени Михаила Рудяка \nВоскресенье\, 4 мая 2025\, 7:30 вечера\nNewton City Hall\n1000 Commonwealth Ave.\, Newton Centre\, MA 02459
URL:https://www.centermakor.org/event/slava-rudiak/
LOCATION:Newton City Hall\, 1000 Commonwealth Avenue\, Newton\, MA\, 02459\, United States
CATEGORIES:Community Events
ATTACH;FMTTYPE=image/jpeg:https://www.centermakor.org/wp-content/uploads/2025/03/2025-Slava-Alex-Web.jpg
END:VEVENT
BEGIN:VEVENT
DTSTART;TZID=America/New_York:20250510T193000
DTEND;TZID=America/New_York:20250510T213000
DTSTAMP:20260422T232921
CREATED:20241224T193220Z
LAST-MODIFIED:20250224T230235Z
UID:22986-1746905400-1746912600@www.centermakor.org
SUMMARY:Голубцы по объявлению
DESCRIPTION:Театр на крыше\nприглашает вас на спектакль \nГолубцы по объявлению\nАнтон Финк \nЛирическая комедия для субботнего вечера – легкая\, забавная\, с узнаваемыми ситуациями семейного быта. Но и с неожиданными экстравагантными поворотами! \n\nО спектакле     Заказ билетов \n  \n\nЦена билета $50\, пенсионерам и студентам $35\nВ цену билета включен буфет. \nВнимание! Оплата производится наличными при входе!
URL:https://www.centermakor.org/event/golubcy-15/
LOCATION:Театр на крыше\, 50 Kearney Road\, Needham\, 02494\, United States
CATEGORIES:Community Events
ATTACH;FMTTYPE=image/jpeg:https://www.centermakor.org/wp-content/uploads/2020/02/голубцы-по-объявлению.jpg
END:VEVENT
BEGIN:VEVENT
DTSTART;TZID=America/New_York:20250511T110000
DTEND;TZID=America/New_York:20250511T140000
DTSTAMP:20260422T232921
CREATED:20250430T042134Z
LAST-MODIFIED:20250430T044009Z
UID:24387-1746961200-1746972000@www.centermakor.org
SUMMARY:Mother's Day Jewelry Exchange and Bake Sale Fundraiser
DESCRIPTION:Mother’s Day Jewelry Exchange and Bake Sale Fundraiser \nДорогие друзья\, нам повезло\, и на этот Mother’s Day мы с удовольствием приглашаем вас на наш JEWELRY EXCHANGE and BAKE SALE фандрейзер в Театр на Крыше! \nПожалуйста\, передайте это приглашение своим друзьям и подругам\, приходите вместе\, приходите с мамами – отличный способ в этот майский день порадовать наших дорогих женщин украшениями и вкусненьким! \nВоскресенье 11 мая 2025\n11 am – 2 pm\nТеатр на Крыше\n50 Kearney Rd\, Needham\, MA 02494 \nИдея простая: все девушки могут принести свои лишние украшения на продажу\, и/или купить то\, что принесли другие.\nЗаодно немного потусить и пообщаться.\nСделать благотворительное пожертвование\, помочь кому-то\, кому сейчас труднее.\nК тому же\, будет и выпечка на продажу! \nУ нас накопилось огромное количество разнообразных ювелирных украшений\, новых и винтажных\, из разных стран (включая Украину)\, уникальные дизайнерские вещи (в том числе работы наших бостонских мастериц)\, в самых разных стилях\, и на разный вкус. Бусы\, подвески\, кольца\, серьги\, браслеты\, броши\, заколки – приходите\, удивитесь! \nЕсли хотите принять участие и принести свою дизайнерскую коллекцию\, или выпечку\, пожалуйста\, напишите мне! dfroim@yahoo.com \nВход $20\, максимум $40 за группу более 2 человек \nДо скорого свидания!\nВаша Дорина. \nP.S. Наши (www.RememberUs.org) недавние варианты помощи самым остро нуждающимся в Украине включали покупку и установку солнечных панелей для освещения; приготовление и доставку консервированных овощей; изготовление и доставку печек-буржуек. До этого мы посылали тёплую одежду\, детскую обувь\, игрушки\, школьные принадлежности\, бельё для госпиталей\, “походный” инвентарь. С начала войны\, наши волонтёры доставляли продовольствие\, воду и предметы первой необходимости и гигиены старикам\, больным и многодетным\, в прифронтовых зонах. Сейчас мы фокусируемся на доставке медикаментов для пожилых людей. Этим занимается в Украине наша давно установившаяся команда волонтёров.
URL:https://www.centermakor.org/event/mothers-day-fundraiser/
LOCATION:Театр на крыше\, 50 Kearney Road\, Needham\, 02494\, United States
CATEGORIES:Community Events
ATTACH;FMTTYPE=image/jpeg:https://www.centermakor.org/wp-content/uploads/2025/04/mothers-day-dorina.jpg
END:VEVENT
BEGIN:VEVENT
DTSTART;TZID=America/New_York:20250511T180000
DTEND;TZID=America/New_York:20250511T200000
DTSTAMP:20260422T232921
CREATED:20250414T040328Z
LAST-MODIFIED:20250414T040328Z
UID:24204-1746986400-1746993600@www.centermakor.org
SUMMARY:Встреча с Юрием Маминым
DESCRIPTION:Театр на крыше приглашает\nВстреча с Юрием Маминым\nрежиссёром-комедиографом\,\nавтором «Окна в Париж»\,\nобладателем «Золотой трости Чаплина»\,\nлюбимым учеником Эльдара Рязанова\,\nсоздателем популярной программы «Дом Культуры Юрия Мамина» \nВ программе вечера: фрагменты из мемуаров Ю.Мамина «Люди\, гады\, жизнь» с видео-иллюстрациями из личного архива режиссёра. \nБилеты \nО спектакле \n\n\n\nЦена билета $50; пенсионерам и студентам – $35.\nВнимание! Оплата производится наличными при входе!
URL:https://www.centermakor.org/event/yuiriy-mamin/
LOCATION:Театр на крыше\, 50 Kearney Road\, Needham\, 02494\, United States
CATEGORIES:Community Events
ATTACH;FMTTYPE=image/jpeg:https://www.centermakor.org/wp-content/uploads/2025/04/YuiriyMamin.jpg
END:VEVENT
BEGIN:VEVENT
DTSTART;TZID=America/Halifax:20250514T193000
DTEND;TZID=America/Halifax:20250514T213000
DTSTAMP:20260422T232921
CREATED:20250422T034123Z
LAST-MODIFIED:20250425T190035Z
UID:24297-1747251000-1747258200@www.centermakor.org
SUMMARY:Виктор Шендерович. Потерпевший Гольдинер.
DESCRIPTION:У нас потрясающие новости – к нам едет… Шендерович!\nВ честь Виктора Анатольевича мы покажем спектакль по его пьесе «Потерпевший Гольдинер». Это будет в будний день – других вариантов нет! Давайте напряжемся и порадуем его полным залом! Весь сбор – автору! \nПосле спектакля у вас будет возможность купить книги Виктора Анатольевича\, получить его автограф и пообщаться с ним в буфете. Не пропустите такую уникальную возможность! \n \nТеатр на крыше\nприглашает вас на спектакль \nПотерпевший Гольдинер\nЛирическая комедия \nАвтор: В. Шендерович \nОна – американка с устоявшимся положением\, полноправный гражданин своей страны. Он – старый еврей\, эмигрировавший из Советского Союза в новую для него реальность. Она сбивает его на улочках Манхэттэна\, и суд приговаривает ее в качестве наказания ухаживать за сбитым ею человеком. Герои вынуждены проводить много времени в обществе друг друга. В результате оказывается\, что это общение необходимо обоим\, а у потерпевшего есть шанс на десять недель стать не одиноким и даже счастливым. \nРЕЖИССЕР – Людмила Старобинец \nО спектакле     Заказ билетов \n  \n\nЦена билета $50\, пенсионерам и студентам $35\nВ цену билета включен буфет. \nВнимание! Оплата производится наличными при входе!
URL:https://www.centermakor.org/event/goldiner-13/
LOCATION:Театр на крыше\, 50 Kearney Road\, Needham\, 02494\, United States
CATEGORIES:Community Events
ATTACH;FMTTYPE=image/jpeg:https://www.centermakor.org/wp-content/uploads/2025/04/Goldiner_shender.jpg
END:VEVENT
BEGIN:VEVENT
DTSTART;TZID=America/New_York:20250516T183000
DTEND;TZID=America/New_York:20250516T203000
DTSTAMP:20260422T232921
CREATED:20250505T164447Z
LAST-MODIFIED:20250505T164529Z
UID:24430-1747420200-1747427400@www.centermakor.org
SUMMARY:Музыкальная сказка «Мама» в Бостоне!
DESCRIPTION:Театр мюзикла из Торонто «Star School» спешит вновь порадовать американских зрителей своим красочным мюзиклом «Мама». \nМногие из вас\, возможно\, помнят наш спектакль «Мэри Поппинс»\, который получил множество восторженных отзывов как от юных\, так и от взрослых зрителей! БИЛЕТЫ без комиссии по телефону 617-232-8820. \nНаш новый спектакль запомнится вам живым звуком\, ярким вокалом\, великолепной актерской игрой наших взрослых и юных звезд\, а также красочными костюмами и декорациями. \nМузыкальная сказка с давно знакомым сюжетом понравится зрителям от 5 до 95 лет. Серый Волк в нашей постановке — настоящая рок-звезда\, Коза закружит его в танго и джайве\, Белки исполнят джазовые хиты\, а Попугай продемонстрирует трюки на гироскутере!\nНу а мамы наверняка вспомнят знаменитый фильм «Мама» с Михаилом Боярским и Людмилой Гурченко в главных ролях. \nВ нашей постановке в главной роли занят звезда бродвейских мюзиклов Игорь Портной\, а цирковые номера исполняют артисты под руководством артистки Cirque du Soleil Ольги Кобзарь. \nПриходите! Это будет незабываемое шоу!
URL:https://www.centermakor.org/event/mama/
LOCATION:Regent Theatre\, 7 Medford Street\, Arlington\, MA\, 02474\, United States
CATEGORIES:Community Events,Kids Events
ATTACH;FMTTYPE=image/jpeg:https://www.centermakor.org/wp-content/uploads/2025/05/mama.jpg
END:VEVENT
BEGIN:VEVENT
DTSTART;TZID=America/New_York:20250516T193000
DTEND;TZID=America/New_York:20250516T213000
DTSTAMP:20260422T232921
CREATED:20250309T044302Z
LAST-MODIFIED:20250309T044318Z
UID:23789-1747423800-1747431000@www.centermakor.org
SUMMARY:Театр одного Шендеровича
DESCRIPTION:Театр одного Шендеровича\nПриглашаем вас на творческий вечер и презентацию новой книги Виктора Шендеровича! \nБилеты в книжном магазине Петрополь по телефону 617-232-8820 или на сайте www.petropol.com. Так же их можно заказать послав нам платеж на Venmo: @Ilya-Klebanov или по PayPal: petropolbooks@gmail.com с комментарием “Шендерович + ваш имэйл”. Цена: $55\, $65 \nВиктор Анатольевич презентует свой новый альбом с афоризмами «Избитые истины / Tired truths». Так же\, он поделится воспоминаниями о своем театральном прошлом: истории\, портреты\, театральные капустники\, три пуда ностальгии… А затем вы услышите авторское исполнение пьесы «Маршрутка». Герои этой пьесы думали поначалу\, что едут каждый по своим делам\, но вдруг оказались вовлечёнными в какое-то совсем другое движение…\nПо окончании вечера – автограф-сессия. \nВ продаже – лучшие тексты писателя и новый подарочный альбом его афоризмов… \nВиктор Шендерович – прозаик\, журналист\, поэт\, драматург\, сценарист\, теле- и радиоведущий\, сатирик\, публицист\, педагог. Лауреат премий в области литературы и журналистики. Автор культовых сатирических телевизионных программ «Куклы» и «Итого».
URL:https://www.centermakor.org/event/shenderovich/
LOCATION:Книжный магазин Петрополь\, 44 Mechanic St.\, Newton\, MA\, 02464\, United States
CATEGORIES:Community Events
ATTACH;FMTTYPE=image/jpeg:https://www.centermakor.org/wp-content/uploads/2025/03/teatr-odnogo-shenderovicha.jpg
END:VEVENT
BEGIN:VEVENT
DTSTART;TZID=America/New_York:20250531T140000
DTEND;TZID=America/New_York:20250531T170000
DTSTAMP:20260422T232921
CREATED:20250529T181345Z
LAST-MODIFIED:20250529T181530Z
UID:24582-1748700000-1748710800@www.centermakor.org
SUMMARY:Amber Alert – Save Ukrainian Children
DESCRIPTION:Amber Alert – Save Ukrainian Children\nSAVE THE DATE\nSATURDAY – May 31\, 2025 at 2:00 PM\nBoston Common – Liberty Mall \nJune 8\, 2025\, is International Children’s Day — a day to highlight the importance of children in our society and to work toward a better future by improving their welfare and making the world a safer place for them. \nIt is also a day to remind the entire civilized world that\, because of the Russian invasion\, Ukrainian children have been robbed of their childhoods. \n625 killed\, 1\,944 injured\, 2\,232 missing\, 19 subjected to sexual violence\, 19\,546 children deported and forcibly displaced — only 1\,307 have been returned home. The rest of Ukraine’s children live under constant stress and danger. Russia has stolen their childhoods. \n“Russia’s forced transfer of Ukrainian children amounts to genocide\,” the Council of Europe stated on April 27\, 2023\, in a resolution adopted by its Parliamentary Assembly. \nThis is genocide. \nWe cannot remain silent. We must speak for those who cannot — and demand justice. \nExpel Russia from the United Nations Security Council and bring Ukrainian children home. \nPhoto by Oleg Protsyk from the Chicago Amber Alert Rally organized by Liliia Popovych. \nУВАГА – Допоможіть повернути українських дітей\nСУБОТА – 31 травня\, 2025 р.\, о 14:00\nBoston Common – Liberty Mall \n8 червня 2025 року – Міжнародний День Дитини\, який створено\, щоб підкреслити важливість дітей у нашому суспільстві та надання дітям кращого майбутнього\, покращуючи їхній добробут і намагаючись зробити цей світ кращим та безпечним. \nЦе саме той день\, щоб нагадати всьому цивілізованому світу\, що через російське вторгнення українські діти не мають дитинства: \n625 вбито\, 1 944 поранено\, 2 232 зникло безвісти\, 19 постраждало від сексуального насильства\, 19 546 дітей було депортовано та примусово переміщено\, лише 1307 повернуто додому\, інші діти в Україні живуть в постійному стресі і небезпеці\, їх дитинство викрадено Росією! \n«Примусове переміщення Росією українських дітей є геноцидом\, — заявила Рада Європи 27 квітня 2023 року в резолюції\, ухваленій Парламентською асамблеєю». \nЦе геноцид! Ми не можемо мовчати! Ми маємо говорити за тих\, хто не може\, і вимагати справедливості! \nМи не зупиняємося і закликаємо виключити Росію з Ради безпеки ООН і допомогти повернути українських дітей додому!ємося і закликаємо виключити Росію з Ради безпеки ООН і допомогти повернути українських дітей додому!
URL:https://www.centermakor.org/event/amber-alert-save-ukrainian-children/
CATEGORIES:Makor Events
ATTACH;FMTTYPE=image/jpeg:https://www.centermakor.org/wp-content/uploads/2025/05/amber-alert-save-ukrainian-children.jpg
END:VEVENT
BEGIN:VEVENT
DTSTART;TZID=America/New_York:20250531T190000
DTEND;TZID=America/New_York:20250531T210000
DTSTAMP:20260422T232921
CREATED:20250528T032057Z
LAST-MODIFIED:20250528T032057Z
UID:24572-1748718000-1748725200@www.centermakor.org
SUMMARY:At the Oscars
DESCRIPTION:Join us at the 8th annual show by Music\, Arts & Fashion Productions “At The Oscars” on May 31st at 7PM at Newton City Hall! \nThis year it’s all about glitz\, glamour\, and favorite Oscar-winning songs from LaLa Land\, James Bond’s Skyfall\, Dirty Dancing\, Chicago\, Pretty Woman\, other movies\, and a special tribute to The Sound of Music! \nFeaturing:\nSofia Shkidchenko – Ukraine’s Got Talent; Spain’s Got Talent\nOlga Lisovska – Renowned opera diva\nAFANASY – Acclaimed baritone \nGuest Artists:\nArko Beybutyan\, dancer & choreographer\nMisha Velickovic\, vocals\nStellar Voices\, Winners of the Boston International Music Competition Youth Vocal Group\nFashions by Joe Malaika\, Best of Boston Fashion Designer \nSpecial Guest:\nMaryna Vernyhora\, Ms. Ukraine Universe \nGet dressed to walk the red carpet and to enjoy being in the spotlight of paparazzi!\n✨ A night of music\, elegance\, and timeless classics. ✨\nGet your tickets here: http://www.tinyurl.com/AtTheOscars \nDo you want to sponsor? Do you want to volunteer? Please contact Olga at lisovska1@aol.com\nThe proceeds will go to support underprivileged talented children and youth on their path to excellence in the arts! Your donations are tax deductible \n✨ Join our community partners in supporting the arts! Thank you to our community partners and sponsors: Linda Plaut Newton Festival of the Arts\, Newton Cultural Council\, Newton Community Pride\, SALT Patisserie\, The Village Bank\, Sky Philanthropy\, Boston International Music Competition.\nSee you “At The Oscars!” \nTICKETS
URL:https://www.centermakor.org/event/at-the-oscars/
LOCATION:Newton City Hall\, 1000 Commonwealth Avenue\, Newton\, MA\, 02459\, United States
CATEGORIES:Community Events
ATTACH;FMTTYPE=image/jpeg:https://www.centermakor.org/wp-content/uploads/2025/05/Poster-Oscars-8.5на11.01.jpg
END:VEVENT
BEGIN:VEVENT
DTSTART;TZID=America/New_York:20250531T193000
DTEND;TZID=America/New_York:20250531T220000
DTSTAMP:20260422T232921
CREATED:20250420T030054Z
LAST-MODIFIED:20250315T043256Z
UID:23851-1748719800-1748728800@www.centermakor.org
SUMMARY:Волки и овцы
DESCRIPTION:Театр на крыше\nприглашает вас на спектакль \nВолки и овцы\nАлександр Островский \nКомедия \nРЕЖИССЁР – Людмила Старобинец. \nБилеты \nО спектакле \n\n\n\nЦена билета $50; пенсионерам и студентам – $35.\nВнимание! Оплата производится наличными при входе!
URL:https://www.centermakor.org/event/volki-7/
LOCATION:Театр на крыше\, 50 Kearney Road\, Needham\, 02494\, United States
CATEGORIES:Community Events
ATTACH;FMTTYPE=image/jpeg:https://www.centermakor.org/wp-content/uploads/2024/04/Волки-и-овцы.jpg
END:VEVENT
END:VCALENDAR